BEGIN:VCALENDAR
VERSION:2.0
PRODID:-//Office of Sustainability - ECPv6.15.15//NONSGML v1.0//EN
CALSCALE:GREGORIAN
METHOD:PUBLISH
X-WR-CALNAME:Office of Sustainability
X-ORIGINAL-URL:https://sustain.auburn.edu
X-WR-CALDESC:Events for Office of Sustainability
REFRESH-INTERVAL;VALUE=DURATION:PT1H
X-Robots-Tag:noindex
X-PUBLISHED-TTL:PT1H
BEGIN:VTIMEZONE
TZID:America/Chicago
BEGIN:DAYLIGHT
TZOFFSETFROM:-0600
TZOFFSETTO:-0500
TZNAME:CDT
DTSTART:20170312T080000
END:DAYLIGHT
BEGIN:STANDARD
TZOFFSETFROM:-0500
TZOFFSETTO:-0600
TZNAME:CST
DTSTART:20171105T070000
END:STANDARD
BEGIN:DAYLIGHT
TZOFFSETFROM:-0600
TZOFFSETTO:-0500
TZNAME:CDT
DTSTART:20180311T080000
END:DAYLIGHT
BEGIN:STANDARD
TZOFFSETFROM:-0500
TZOFFSETTO:-0600
TZNAME:CST
DTSTART:20181104T070000
END:STANDARD
BEGIN:DAYLIGHT
TZOFFSETFROM:-0600
TZOFFSETTO:-0500
TZNAME:CDT
DTSTART:20190310T080000
END:DAYLIGHT
BEGIN:STANDARD
TZOFFSETFROM:-0500
TZOFFSETTO:-0600
TZNAME:CST
DTSTART:20191103T070000
END:STANDARD
BEGIN:DAYLIGHT
TZOFFSETFROM:-0600
TZOFFSETTO:-0500
TZNAME:CDT
DTSTART:20200308T080000
END:DAYLIGHT
BEGIN:STANDARD
TZOFFSETFROM:-0500
TZOFFSETTO:-0600
TZNAME:CST
DTSTART:20201101T070000
END:STANDARD
BEGIN:DAYLIGHT
TZOFFSETFROM:-0600
TZOFFSETTO:-0500
TZNAME:CDT
DTSTART:20210314T080000
END:DAYLIGHT
BEGIN:STANDARD
TZOFFSETFROM:-0500
TZOFFSETTO:-0600
TZNAME:CST
DTSTART:20211107T070000
END:STANDARD
BEGIN:DAYLIGHT
TZOFFSETFROM:-0600
TZOFFSETTO:-0500
TZNAME:CDT
DTSTART:20220313T080000
END:DAYLIGHT
BEGIN:STANDARD
TZOFFSETFROM:-0500
TZOFFSETTO:-0600
TZNAME:CST
DTSTART:20221106T070000
END:STANDARD
BEGIN:DAYLIGHT
TZOFFSETFROM:-0600
TZOFFSETTO:-0500
TZNAME:CDT
DTSTART:20230312T080000
END:DAYLIGHT
BEGIN:STANDARD
TZOFFSETFROM:-0500
TZOFFSETTO:-0600
TZNAME:CST
DTSTART:20231105T070000
END:STANDARD
END:VTIMEZONE
BEGIN:VEVENT
DTSTART;TZID=America/Chicago:20221105T090000
DTEND;TZID=America/Chicago:20221105T150000
DTSTAMP:20260423T024452
CREATED:20220912T175909Z
LAST-MODIFIED:20220912T175909Z
UID:10002977-1667638800-1667660400@sustain.auburn.edu
SUMMARY:AMP'd Mathematical Challenge
DESCRIPTION:A mathematical puzzle challenge for teams of 7th – 8th-grade students.
URL:https://sustain.auburn.edu/event/ampd-mathematical-challenge/
LOCATION:Science Center Auditorium
CATEGORIES:Workshop,Youth
ATTACH;FMTTYPE=image/png:https://sustain.auburn.edu/wp-content/uploads/2022/09/COSAM-EVENT.png
GEO:32.60086;-85.485738
END:VEVENT
BEGIN:VEVENT
DTSTART;TZID=America/Chicago:20220427T183000
DTEND;TZID=America/Chicago:20220427T203000
DTSTAMP:20260423T024452
CREATED:20220425T174935Z
LAST-MODIFIED:20260304T204938Z
UID:10003708-1651084200-1651091400@sustain.auburn.edu
SUMMARY:Free Film Event: Wild & Scenic Film Festival
DESCRIPTION:Join the Auburn University Department of Geosciences and the Citizen’s Climate Lobby for a free film showing to enjoy climate change and sustainability related short films! The event will take place at the Science Classroom Center Auditorium on April 27th from 6:30-8:30.
URL:https://sustain.auburn.edu/event/wild-scenic-film-festival-3/
LOCATION:Science Center Auditorium
CATEGORIES:Film
GEO:32.60086;-85.485738
END:VEVENT
BEGIN:VEVENT
DTSTART;TZID=America/Chicago:20210325T183000
DTEND;TZID=America/Chicago:20210325T200000
DTSTAMP:20260423T024452
CREATED:20210301T214955Z
LAST-MODIFIED:20210301T214955Z
UID:10002752-1616697000-1616702400@sustain.auburn.edu
SUMMARY:COSAM Getting Under the Surface: 'Water' you doing?
DESCRIPTION:Students will learn about freshwater invertebrates of Alabama and their environments.
URL:https://sustain.auburn.edu/event/cosam-getting-under-the-surface-water-you-doing/
LOCATION:Science Center Auditorium
CATEGORIES:Anyone,Evening,On-Campus,Talk
ATTACH;FMTTYPE=image/png:https://sustain.auburn.edu/wp-content/uploads/2017/04/COSAM-Event.png
GEO:32.60086;-85.485738
END:VEVENT
BEGIN:VEVENT
DTSTART;TZID=America/Chicago:20201208T173000
DTEND;TZID=America/Chicago:20201208T190000
DTSTAMP:20260423T024452
CREATED:20201110T183612Z
LAST-MODIFIED:20201110T183612Z
UID:10003285-1607448600-1607454000@sustain.auburn.edu
SUMMARY:GUTS (Getting Under The Surface) // STEM
DESCRIPTION:The College of Sciences and Mathematics is pleased to announce that the STEM Outreach Center will be hosting a face-to-face edition of GUTS (Getting Under The Surface) for children in grades 1 – 5 and an accompanying parent.  This hands-on science program will feature creatures of the sea with Dr. Kate Buckley from the Department of Biological Sciences. \nPre-registration is required.
URL:https://sustain.auburn.edu/event/guts-getting-under-the-surface-stem/
LOCATION:Science Center Auditorium
CATEGORIES:Administration,All-Employees,Alumni,Anyone,Evening,Faculty,Gathering,On-Campus,Staff,Talk
ATTACH;FMTTYPE=image/png:https://sustain.auburn.edu/wp-content/uploads/2017/04/COSAM-Event.png
GEO:32.60086;-85.485738
END:VEVENT
BEGIN:VEVENT
DTSTART;TZID=America/Chicago:20191024T160000
DTEND;TZID=America/Chicago:20191024T235000
DTSTAMP:20260423T024452
CREATED:20201007T164228Z
LAST-MODIFIED:20201007T214420Z
UID:10002309-1571932800-1571961000@sustain.auburn.edu
SUMMARY:The Supreme Court Under Stress
DESCRIPTION:The nine individuals who sit as justices of the U.S. Supreme Court have the ability to radically change society with a single decision. In consequence\, it has attracted intense scrutiny and full-throated criticism. Linda Greenhouse has done a great deal to make the Supreme Court and its operations intelligible to the general public.\nLinda Greenhouse is currently Knight Distinguished Journalist in Residence and Joseph M. Goldstein Lecturer in Law at the Yale University School of Law. She is also a journalist who\, for nearly three decades\, covered the United States Supreme Court for The New York Times and won a Pulitzer Prize for her reporting. Currently\, she is President of the American Philosophical Society since 2017 and a member of the Phi Beta Kappa Senate. She has also received the Goldsmith Career Award for Excellence in Journalism and the John Chancellor Award for Excellence in Journalism. In 2006\, she was a Radcliffe Institute Medal winner in 2006. She is author of Just a Journalist: On the Press\, Life and the Spaces Between (The William E. Massey Sr. Lectures in American Studies) Harvard University Press\, 2017; The U. S. Supreme Court: A Very Short Introduction\, Oxford University Press\, 2102; Becoming Justice Blackmun: Harry Blackmun's Supreme Court Journey. New York: Times Books\, 2005. \nThis event is presented by the Littleton-Franklin Lectures in Science and Humanities\, the Provost's Office\, and the John & Mary Franklin Foundation.
URL:https://sustain.auburn.edu/event/the-supreme-court-under-stress-2/
LOCATION:Science Center Auditorium
CATEGORIES:Administration,All-Employees,Alumni,Anyone,Daytime,Faculty,Graduate-Students,On-Campus,Staff,Students,Talk
GEO:32.60086;-85.485738
END:VEVENT
BEGIN:VEVENT
DTSTART;TZID=America/Chicago:20180228T190000
DTEND;TZID=America/Chicago:20180228T190000
DTSTAMP:20260423T024452
CREATED:20201007T164710Z
LAST-MODIFIED:20201007T214845Z
UID:10002533-1519844400-1519844400@sustain.auburn.edu
SUMMARY:Alternative Energy Lecture
DESCRIPTION:Professor Marcetta Y. Darensbourg from Texas A&M University will be giving her award winning lecture titled \'<u>Old Biology Inspires New Chemistry: </u>The Hydrogen Economy from Pond Silt to Photovoltaic/Fuel Cells.\' Trained as an organometallic chemist and with earlier research programs in low valent transition metal hydrides\\, the possibility of metal hydrides in nature\\, specifically as intermediates in hydrogenase metalloenzymes lured her into the new field of bioorganometallic chemistry. She has been a leader in the development of synthetic analogues of the diiron hydrogenase active site and the insight they bring to the catalytic mechanism of these natural fuel cell catalysts. Refreshments will be served before the event starting at 6:30pm.
URL:https://sustain.auburn.edu/event/alternative-energy-lecture-2/
LOCATION:Science Center Auditorium
CATEGORIES:Anyone,Evening,On-Campus,Talk
GEO:32.60086;-85.485738
END:VEVENT
END:VCALENDAR