BEGIN:VCALENDAR
VERSION:2.0
PRODID:-//Office of Sustainability - ECPv6.15.15//NONSGML v1.0//EN
CALSCALE:GREGORIAN
METHOD:PUBLISH
X-WR-CALNAME:Office of Sustainability
X-ORIGINAL-URL:https://sustain.auburn.edu
X-WR-CALDESC:Events for Office of Sustainability
REFRESH-INTERVAL;VALUE=DURATION:PT1H
X-Robots-Tag:noindex
X-PUBLISHED-TTL:PT1H
BEGIN:VTIMEZONE
TZID:America/Chicago
BEGIN:DAYLIGHT
TZOFFSETFROM:-0600
TZOFFSETTO:-0500
TZNAME:CDT
DTSTART:20200308T080000
END:DAYLIGHT
BEGIN:STANDARD
TZOFFSETFROM:-0500
TZOFFSETTO:-0600
TZNAME:CST
DTSTART:20201101T070000
END:STANDARD
BEGIN:DAYLIGHT
TZOFFSETFROM:-0600
TZOFFSETTO:-0500
TZNAME:CDT
DTSTART:20210314T080000
END:DAYLIGHT
BEGIN:STANDARD
TZOFFSETFROM:-0500
TZOFFSETTO:-0600
TZNAME:CST
DTSTART:20211107T070000
END:STANDARD
BEGIN:DAYLIGHT
TZOFFSETFROM:-0600
TZOFFSETTO:-0500
TZNAME:CDT
DTSTART:20220313T080000
END:DAYLIGHT
BEGIN:STANDARD
TZOFFSETFROM:-0500
TZOFFSETTO:-0600
TZNAME:CST
DTSTART:20221106T070000
END:STANDARD
BEGIN:DAYLIGHT
TZOFFSETFROM:-0600
TZOFFSETTO:-0500
TZNAME:CDT
DTSTART:20230312T080000
END:DAYLIGHT
BEGIN:STANDARD
TZOFFSETFROM:-0500
TZOFFSETTO:-0600
TZNAME:CST
DTSTART:20231105T070000
END:STANDARD
BEGIN:DAYLIGHT
TZOFFSETFROM:-0600
TZOFFSETTO:-0500
TZNAME:CDT
DTSTART:20240310T080000
END:DAYLIGHT
BEGIN:STANDARD
TZOFFSETFROM:-0500
TZOFFSETTO:-0600
TZNAME:CST
DTSTART:20241103T070000
END:STANDARD
BEGIN:DAYLIGHT
TZOFFSETFROM:-0600
TZOFFSETTO:-0500
TZNAME:CDT
DTSTART:20250309T080000
END:DAYLIGHT
BEGIN:STANDARD
TZOFFSETFROM:-0500
TZOFFSETTO:-0600
TZNAME:CST
DTSTART:20251102T070000
END:STANDARD
END:VTIMEZONE
BEGIN:VEVENT
DTSTART;TZID=America/Chicago:20240422T090000
DTEND;TZID=America/Chicago:20240422T230000
DTSTAMP:20260419T204042
CREATED:20240418T143452Z
LAST-MODIFIED:20240418T143452Z
UID:10004520-1713776400-1713826800@sustain.auburn.edu
SUMMARY:Storm Drain Marking
DESCRIPTION:Join Auburn University Risk Management and Safety\, the Auburn Water Resources Center\, and the Alabama Watershed Stewards for storm drain marking! It will happen on Monday\, April 22 from 9:00 AM to 11:00 AM. If you are interested\, sign up here\, and meet at Samford Lawn!
URL:https://sustain.auburn.edu/event/storm-drain-marking/
LOCATION:Samford Lawn\, United States
CATEGORIES:Anyone,Daytime,On-Campus,Social-Event,Volunteer
GEO:32.6049521531;-85.4824433133
END:VEVENT
BEGIN:VEVENT
DTSTART;TZID=America/Chicago:20230318T190000
DTEND;TZID=America/Chicago:20230318T220000
DTSTAMP:20260419T204042
CREATED:20230303T165054Z
LAST-MODIFIED:20230303T165054Z
UID:10004005-1679166000-1679176800@sustain.auburn.edu
SUMMARY:UPC Tiger Nights: Magnolia Ball
DESCRIPTION:Join UPC for Auburn’s second annual all-university formal\, Magnolia Ball! \nRegister on AU involve.
URL:https://sustain.auburn.edu/event/upc-tiger-nights-magnolia-ball/
LOCATION:Samford Lawn\, United States
CATEGORIES:Social-Event,Students
GEO:32.6049521531;-85.4824433133
END:VEVENT
BEGIN:VEVENT
DTSTART;TZID=America/Chicago:20210415T170000
DTEND;TZID=America/Chicago:20210415T183000
DTSTAMP:20260419T204042
CREATED:20210415T034055Z
LAST-MODIFIED:20210415T034055Z
UID:10003451-1618506000-1618511400@sustain.auburn.edu
SUMMARY:Take Back the Night
DESCRIPTION:In support of Sexual Assault Awareness Month\, the Office of Inclusion and Diversity and several campus departments and organizations are honoring victims and survivors of sexual assault. This will be a night of bringing awareness to the community. \nSpecial guest Angela Harris\, mother of the late Aniah Blanchard\, will be in attendance.
URL:https://sustain.auburn.edu/event/take-back-the-night/
LOCATION:Samford Lawn\, United States
CATEGORIES:Anyone,Ceremony,Evening,On-Campus
ATTACH;FMTTYPE=image/png:https://sustain.auburn.edu/wp-content/uploads/2017/11/Inclusion-Diversity-Event.png
ORGANIZER;CN="Auburn University Office of Inclusion and Diversity":MAILTO:diversity@auburn.edu
GEO:32.6049521531;-85.4824433133
END:VEVENT
END:VCALENDAR