BEGIN:VCALENDAR
VERSION:2.0
PRODID:-//Office of Sustainability - ECPv6.15.15//NONSGML v1.0//EN
CALSCALE:GREGORIAN
METHOD:PUBLISH
X-WR-CALNAME:Office of Sustainability
X-ORIGINAL-URL:https://sustain.auburn.edu
X-WR-CALDESC:Events for Office of Sustainability
REFRESH-INTERVAL;VALUE=DURATION:PT1H
X-Robots-Tag:noindex
X-PUBLISHED-TTL:PT1H
BEGIN:VTIMEZONE
TZID:America/Chicago
BEGIN:DAYLIGHT
TZOFFSETFROM:-0600
TZOFFSETTO:-0500
TZNAME:CDT
DTSTART:20160313T080000
END:DAYLIGHT
BEGIN:STANDARD
TZOFFSETFROM:-0500
TZOFFSETTO:-0600
TZNAME:CST
DTSTART:20161106T070000
END:STANDARD
BEGIN:DAYLIGHT
TZOFFSETFROM:-0600
TZOFFSETTO:-0500
TZNAME:CDT
DTSTART:20170312T080000
END:DAYLIGHT
BEGIN:STANDARD
TZOFFSETFROM:-0500
TZOFFSETTO:-0600
TZNAME:CST
DTSTART:20171105T070000
END:STANDARD
BEGIN:DAYLIGHT
TZOFFSETFROM:-0600
TZOFFSETTO:-0500
TZNAME:CDT
DTSTART:20180311T080000
END:DAYLIGHT
BEGIN:STANDARD
TZOFFSETFROM:-0500
TZOFFSETTO:-0600
TZNAME:CST
DTSTART:20181104T070000
END:STANDARD
END:VTIMEZONE
BEGIN:VEVENT
DTSTART;TZID=America/Chicago:20170223T183000
DTEND;TZID=America/Chicago:20170223T193000
DTSTAMP:20260423T084351
CREATED:20201007T165118Z
LAST-MODIFIED:20201007T215242Z
UID:10002637-1487874600-1487878200@sustain.auburn.edu
SUMMARY:Science Pub: Do Spiders Really Have Superpowers?
DESCRIPTION: \nAlthough most people are deathly afraid of spiders\\, very few of the >40\\,000 species known are actually dangerous to humans. While spiders can have complex venoms and incredible strategies for hunting prey\\, they have a host of other amazing abilities. Did you know that spider silk is stronger than steel or that it can also be used to fly\\, survive underwater\\, and as safety lines for jumping nearly 50 times their body length? \nJoin COSAM at the very first Science Pub to learn from Dr. Jason Bond everything you ever wanted to know about spiders and more! \nAll ages are welcome to attend Science Pub events. Proceeds from the \'Drymarchon Berliner Weisse\' drink at Red Clay Brewery benefit the Alabama Natural Heritage Program at Auburn University and their efforts to conserve rare species in Alabama\\, such as the Indigo snake. Sodas will also be available for purchase at the Science Pub location. \nThis is an extension of COSAM\'s normal “Science Café” program and will alternate\\, typically every other month\\, with the normal Science Café in Auburn. Alabama\\,
URL:https://sustain.auburn.edu/event/science-pub-do-spiders-really-have-superpowers-2/
LOCATION:Red Clay Brewery
CATEGORIES:Anyone,Evening,Gathering,Off-Campus,Talk
ATTACH;FMTTYPE=image/png:https://sustain.auburn.edu/wp-content/uploads/2020/10/Science-Pub-Event-ip9Pny.tmp_.png
GEO:32.649259;-85.378782
END:VEVENT
END:VCALENDAR