BEGIN:VCALENDAR
VERSION:2.0
PRODID:-//Office of Sustainability - ECPv6.15.15//NONSGML v1.0//EN
CALSCALE:GREGORIAN
METHOD:PUBLISH
X-WR-CALNAME:Office of Sustainability
X-ORIGINAL-URL:https://sustain.auburn.edu
X-WR-CALDESC:Events for Office of Sustainability
REFRESH-INTERVAL;VALUE=DURATION:PT1H
X-Robots-Tag:noindex
X-PUBLISHED-TTL:PT1H
BEGIN:VTIMEZONE
TZID:America/Chicago
BEGIN:DAYLIGHT
TZOFFSETFROM:-0600
TZOFFSETTO:-0500
TZNAME:CDT
DTSTART:20190310T080000
END:DAYLIGHT
BEGIN:STANDARD
TZOFFSETFROM:-0500
TZOFFSETTO:-0600
TZNAME:CST
DTSTART:20191103T070000
END:STANDARD
BEGIN:DAYLIGHT
TZOFFSETFROM:-0600
TZOFFSETTO:-0500
TZNAME:CDT
DTSTART:20200308T080000
END:DAYLIGHT
BEGIN:STANDARD
TZOFFSETFROM:-0500
TZOFFSETTO:-0600
TZNAME:CST
DTSTART:20201101T070000
END:STANDARD
BEGIN:DAYLIGHT
TZOFFSETFROM:-0600
TZOFFSETTO:-0500
TZNAME:CDT
DTSTART:20210314T080000
END:DAYLIGHT
BEGIN:STANDARD
TZOFFSETFROM:-0500
TZOFFSETTO:-0600
TZNAME:CST
DTSTART:20211107T070000
END:STANDARD
END:VTIMEZONE
BEGIN:VEVENT
DTSTART;TZID=America/Chicago:20200227T110000
DTEND;TZID=America/Chicago:20200227T130000
DTSTAMP:20260423T084451
CREATED:20201007T164247Z
LAST-MODIFIED:20201007T214436Z
UID:10002350-1582801200-1582808400@sustain.auburn.edu
SUMMARY:Gender Identity and Pronouns in Teaching Workshop
DESCRIPTION:Several workshops are being held for Auburn faculty regarding gender identity and pronoun usage\, led by Antonio Duran and Kamden Strunk of the College of Education. Through a collaboration with the Biggio Center and the Office of Inclusion and Diversity\, these workshops will provide attendees with helpful information about appropriate classroom practices for transgender students to promote inclusive educational environments.
URL:https://sustain.auburn.edu/event/gender-identity-and-pronouns-in-teaching-workshop-3/
LOCATION:Haley Center – Room 3430
CATEGORIES:All-Employees,Daytime,Faculty,On-Campus,Training
END:VEVENT
END:VCALENDAR