BEGIN:VCALENDAR
VERSION:2.0
PRODID:-//Office of Sustainability - ECPv6.15.15//NONSGML v1.0//EN
CALSCALE:GREGORIAN
METHOD:PUBLISH
X-WR-CALNAME:Office of Sustainability
X-ORIGINAL-URL:https://sustain.auburn.edu
X-WR-CALDESC:Events for Office of Sustainability
REFRESH-INTERVAL;VALUE=DURATION:PT1H
X-Robots-Tag:noindex
X-PUBLISHED-TTL:PT1H
BEGIN:VTIMEZONE
TZID:America/Chicago
BEGIN:DAYLIGHT
TZOFFSETFROM:-0600
TZOFFSETTO:-0500
TZNAME:CDT
DTSTART:20220313T080000
END:DAYLIGHT
BEGIN:STANDARD
TZOFFSETFROM:-0500
TZOFFSETTO:-0600
TZNAME:CST
DTSTART:20221106T070000
END:STANDARD
BEGIN:DAYLIGHT
TZOFFSETFROM:-0600
TZOFFSETTO:-0500
TZNAME:CDT
DTSTART:20230312T080000
END:DAYLIGHT
BEGIN:STANDARD
TZOFFSETFROM:-0500
TZOFFSETTO:-0600
TZNAME:CST
DTSTART:20231105T070000
END:STANDARD
BEGIN:DAYLIGHT
TZOFFSETFROM:-0600
TZOFFSETTO:-0500
TZNAME:CDT
DTSTART:20240310T080000
END:DAYLIGHT
BEGIN:STANDARD
TZOFFSETFROM:-0500
TZOFFSETTO:-0600
TZNAME:CST
DTSTART:20241103T070000
END:STANDARD
END:VTIMEZONE
BEGIN:VEVENT
DTSTART;TZID=America/Chicago:20230321T120000
DTEND;TZID=America/Chicago:20230321T125000
DTSTAMP:20260420T003116
CREATED:20230217T185339Z
LAST-MODIFIED:20230217T185339Z
UID:10003997-1679400000-1679403000@sustain.auburn.edu
SUMMARY:Traditional Taiwanese Tea Tasting and Brewing
DESCRIPTION:Join the Taiwan Center to learn about traditional Taiwanese Tea through tasting and brewing! \nRSVP via this link.
URL:https://sustain.auburn.edu/event/traditional-taiwanese-tea-tasting-and-brewing/
LOCATION:Foy – Room 209\, 282 W Thach Concourse\, Auburn\, AL\, 36849\, United States
CATEGORIES:Anyone
ATTACH;FMTTYPE=image/png:https://sustain.auburn.edu/wp-content/uploads/2022/09/2022-OID-Logo-event.png
GEO:37.09024;-95.712891
X-APPLE-STRUCTURED-LOCATION;VALUE=URI;X-ADDRESS=Foy – Room 209 282 W Thach Concourse Auburn AL 36849 United States;X-APPLE-RADIUS=500;X-TITLE=282 W Thach Concourse:geo:-95.712891,37.09024
END:VEVENT
BEGIN:VEVENT
DTSTART;TZID=America/Chicago:20230314T120000
DTEND;TZID=America/Chicago:20230314T125000
DTSTAMP:20260420T003116
CREATED:20230217T184747Z
LAST-MODIFIED:20230217T184747Z
UID:10003996-1678795200-1678798200@sustain.auburn.edu
SUMMARY:Traditional Chinese Board Game- Majiang
DESCRIPTION:This Chinese Culture class is open to everyone and is held by the Taiwan Center\, Office of International Programs\, and Auburn University. Learn how to play the traditional Chinese Board Game called Majiang! \nRSVP via this link.
URL:https://sustain.auburn.edu/event/traditional-chinese-board-game-majiang/
LOCATION:Foy – Room 209\, 282 W Thach Concourse\, Auburn\, AL\, 36849\, United States
CATEGORIES:Anyone
ATTACH;FMTTYPE=image/png:https://sustain.auburn.edu/wp-content/uploads/2022/09/2022-OID-Logo-event.png
GEO:37.09024;-95.712891
X-APPLE-STRUCTURED-LOCATION;VALUE=URI;X-ADDRESS=Foy – Room 209 282 W Thach Concourse Auburn AL 36849 United States;X-APPLE-RADIUS=500;X-TITLE=282 W Thach Concourse:geo:-95.712891,37.09024
END:VEVENT
END:VCALENDAR