BEGIN:VCALENDAR
VERSION:2.0
PRODID:-//Office of Sustainability - ECPv6.15.15//NONSGML v1.0//EN
CALSCALE:GREGORIAN
METHOD:PUBLISH
X-WR-CALNAME:Office of Sustainability
X-ORIGINAL-URL:https://sustain.auburn.edu
X-WR-CALDESC:Events for Office of Sustainability
REFRESH-INTERVAL;VALUE=DURATION:PT1H
X-Robots-Tag:noindex
X-PUBLISHED-TTL:PT1H
BEGIN:VTIMEZONE
TZID:America/Chicago
BEGIN:DAYLIGHT
TZOFFSETFROM:-0600
TZOFFSETTO:-0500
TZNAME:CDT
DTSTART:20210314T080000
END:DAYLIGHT
BEGIN:STANDARD
TZOFFSETFROM:-0500
TZOFFSETTO:-0600
TZNAME:CST
DTSTART:20211107T070000
END:STANDARD
BEGIN:DAYLIGHT
TZOFFSETFROM:-0600
TZOFFSETTO:-0500
TZNAME:CDT
DTSTART:20220313T080000
END:DAYLIGHT
BEGIN:STANDARD
TZOFFSETFROM:-0500
TZOFFSETTO:-0600
TZNAME:CST
DTSTART:20221106T070000
END:STANDARD
BEGIN:DAYLIGHT
TZOFFSETFROM:-0600
TZOFFSETTO:-0500
TZNAME:CDT
DTSTART:20230312T080000
END:DAYLIGHT
BEGIN:STANDARD
TZOFFSETFROM:-0500
TZOFFSETTO:-0600
TZNAME:CST
DTSTART:20231105T070000
END:STANDARD
BEGIN:DAYLIGHT
TZOFFSETFROM:-0600
TZOFFSETTO:-0500
TZNAME:CDT
DTSTART:20240310T080000
END:DAYLIGHT
BEGIN:STANDARD
TZOFFSETFROM:-0500
TZOFFSETTO:-0600
TZNAME:CST
DTSTART:20241103T070000
END:STANDARD
END:VTIMEZONE
BEGIN:VEVENT
DTSTART;TZID=America/Chicago:20230421T170000
DTEND;TZID=America/Chicago:20230421T235900
DTSTAMP:20260423T173511
CREATED:20220913T155911Z
LAST-MODIFIED:20221004T152503Z
UID:10003899-1682096400-1682121540@sustain.auburn.edu
SUMMARY:Food Truck Fridays
DESCRIPTION:Every 1st and 3rd Friday in Downtown Opelika enjoy food trucks and family time! \nPlease note that this event ends at 2 AM. \nFind more information here.
URL:https://sustain.auburn.edu/event/food-truck-fridays/2023-04-21/
LOCATION:Event Venue | Downtown Opelika\, Opelika\, AL\, 36803\, United States
CATEGORIES:Anyone,Evening,Gathering
ATTACH;FMTTYPE=image/png:https://sustain.auburn.edu/wp-content/uploads/2022/09/Copy-of-fort-benning-event.png
GEO:32.65;-85.37
END:VEVENT
BEGIN:VEVENT
DTSTART;TZID=America/Chicago:20230407T170000
DTEND;TZID=America/Chicago:20230407T235900
DTSTAMP:20260423T173511
CREATED:20240205T170253Z
LAST-MODIFIED:20240205T170253Z
UID:10003906-1680886800-1680911940@sustain.auburn.edu
SUMMARY:Food Truck Fridays
DESCRIPTION:Every 1st and 3rd Friday in Downtown Opelika enjoy food trucks and family time! \nPlease note that this event ends at 2 AM. \nFind more information here.
URL:https://sustain.auburn.edu/event/food-truck-fridays/2023-04-07/
LOCATION:Event Venue | Downtown Opelika\, Opelika\, AL\, 36803\, United States
CATEGORIES:Anyone,Evening,Gathering
ATTACH;FMTTYPE=image/png:https://sustain.auburn.edu/wp-content/uploads/2022/09/Copy-of-fort-benning-event.png
GEO:32.65;-85.37
END:VEVENT
BEGIN:VEVENT
DTSTART;TZID=America/Chicago:20230317T170000
DTEND;TZID=America/Chicago:20230317T235900
DTSTAMP:20260423T173511
CREATED:20220913T155911Z
LAST-MODIFIED:20221004T152503Z
UID:10003898-1679072400-1679097540@sustain.auburn.edu
SUMMARY:Food Truck Fridays
DESCRIPTION:Every 1st and 3rd Friday in Downtown Opelika enjoy food trucks and family time! \nPlease note that this event ends at 2 AM. \nFind more information here.
URL:https://sustain.auburn.edu/event/food-truck-fridays/2023-03-17/
LOCATION:Event Venue | Downtown Opelika\, Opelika\, AL\, 36803\, United States
CATEGORIES:Anyone,Evening,Gathering
ATTACH;FMTTYPE=image/png:https://sustain.auburn.edu/wp-content/uploads/2022/09/Copy-of-fort-benning-event.png
GEO:32.65;-85.37
END:VEVENT
BEGIN:VEVENT
DTSTART;TZID=America/Chicago:20230303T170000
DTEND;TZID=America/Chicago:20230303T235900
DTSTAMP:20260423T173511
CREATED:20240205T170253Z
LAST-MODIFIED:20240205T170253Z
UID:10003905-1677862800-1677887940@sustain.auburn.edu
SUMMARY:Food Truck Fridays
DESCRIPTION:Every 1st and 3rd Friday in Downtown Opelika enjoy food trucks and family time! \nPlease note that this event ends at 2 AM. \nFind more information here.
URL:https://sustain.auburn.edu/event/food-truck-fridays/2023-03-03/
LOCATION:Event Venue | Downtown Opelika\, Opelika\, AL\, 36803\, United States
CATEGORIES:Anyone,Evening,Gathering
ATTACH;FMTTYPE=image/png:https://sustain.auburn.edu/wp-content/uploads/2022/09/Copy-of-fort-benning-event.png
GEO:32.65;-85.37
END:VEVENT
BEGIN:VEVENT
DTSTART;TZID=America/Chicago:20230217T170000
DTEND;TZID=America/Chicago:20230217T235900
DTSTAMP:20260423T173511
CREATED:20220913T155911Z
LAST-MODIFIED:20221004T152503Z
UID:10003897-1676653200-1676678340@sustain.auburn.edu
SUMMARY:Food Truck Fridays
DESCRIPTION:Every 1st and 3rd Friday in Downtown Opelika enjoy food trucks and family time! \nPlease note that this event ends at 2 AM. \nFind more information here.
URL:https://sustain.auburn.edu/event/food-truck-fridays/2023-02-17/
LOCATION:Event Venue | Downtown Opelika\, Opelika\, AL\, 36803\, United States
CATEGORIES:Anyone,Evening,Gathering
ATTACH;FMTTYPE=image/png:https://sustain.auburn.edu/wp-content/uploads/2022/09/Copy-of-fort-benning-event.png
GEO:32.65;-85.37
END:VEVENT
BEGIN:VEVENT
DTSTART;TZID=America/Chicago:20230203T170000
DTEND;TZID=America/Chicago:20230203T235900
DTSTAMP:20260423T173511
CREATED:20240205T170253Z
LAST-MODIFIED:20240205T170253Z
UID:10003904-1675443600-1675468740@sustain.auburn.edu
SUMMARY:Food Truck Fridays
DESCRIPTION:Every 1st and 3rd Friday in Downtown Opelika enjoy food trucks and family time! \nPlease note that this event ends at 2 AM. \nFind more information here.
URL:https://sustain.auburn.edu/event/food-truck-fridays/2023-02-03/
LOCATION:Event Venue | Downtown Opelika\, Opelika\, AL\, 36803\, United States
CATEGORIES:Anyone,Evening,Gathering
ATTACH;FMTTYPE=image/png:https://sustain.auburn.edu/wp-content/uploads/2022/09/Copy-of-fort-benning-event.png
GEO:32.65;-85.37
END:VEVENT
BEGIN:VEVENT
DTSTART;TZID=America/Chicago:20230120T170000
DTEND;TZID=America/Chicago:20230120T235900
DTSTAMP:20260423T173511
CREATED:20220913T155911Z
LAST-MODIFIED:20221004T152503Z
UID:10003896-1674234000-1674259140@sustain.auburn.edu
SUMMARY:Food Truck Fridays
DESCRIPTION:Every 1st and 3rd Friday in Downtown Opelika enjoy food trucks and family time! \nPlease note that this event ends at 2 AM. \nFind more information here.
URL:https://sustain.auburn.edu/event/food-truck-fridays/2023-01-20/
LOCATION:Event Venue | Downtown Opelika\, Opelika\, AL\, 36803\, United States
CATEGORIES:Anyone,Evening,Gathering
ATTACH;FMTTYPE=image/png:https://sustain.auburn.edu/wp-content/uploads/2022/09/Copy-of-fort-benning-event.png
GEO:32.65;-85.37
END:VEVENT
BEGIN:VEVENT
DTSTART;TZID=America/Chicago:20230106T170000
DTEND;TZID=America/Chicago:20230106T235900
DTSTAMP:20260423T173511
CREATED:20240205T170253Z
LAST-MODIFIED:20240205T170253Z
UID:10003903-1673024400-1673049540@sustain.auburn.edu
SUMMARY:Food Truck Fridays
DESCRIPTION:Every 1st and 3rd Friday in Downtown Opelika enjoy food trucks and family time! \nPlease note that this event ends at 2 AM. \nFind more information here.
URL:https://sustain.auburn.edu/event/food-truck-fridays/2023-01-06/
LOCATION:Event Venue | Downtown Opelika\, Opelika\, AL\, 36803\, United States
CATEGORIES:Anyone,Evening,Gathering
ATTACH;FMTTYPE=image/png:https://sustain.auburn.edu/wp-content/uploads/2022/09/Copy-of-fort-benning-event.png
GEO:32.65;-85.37
END:VEVENT
BEGIN:VEVENT
DTSTART;TZID=America/Chicago:20221216T170000
DTEND;TZID=America/Chicago:20221216T235900
DTSTAMP:20260423T173512
CREATED:20220913T155911Z
LAST-MODIFIED:20221004T152503Z
UID:10003895-1671210000-1671235140@sustain.auburn.edu
SUMMARY:Food Truck Fridays
DESCRIPTION:Every 1st and 3rd Friday in Downtown Opelika enjoy food trucks and family time! \nPlease note that this event ends at 2 AM. \nFind more information here.
URL:https://sustain.auburn.edu/event/food-truck-fridays/2022-12-16/
LOCATION:Event Venue | Downtown Opelika\, Opelika\, AL\, 36803\, United States
CATEGORIES:Anyone,Evening,Gathering
ATTACH;FMTTYPE=image/png:https://sustain.auburn.edu/wp-content/uploads/2022/09/Copy-of-fort-benning-event.png
GEO:32.65;-85.37
END:VEVENT
BEGIN:VEVENT
DTSTART;TZID=America/Chicago:20221202T170000
DTEND;TZID=America/Chicago:20221202T235900
DTSTAMP:20260423T173512
CREATED:20240205T170253Z
LAST-MODIFIED:20240205T170253Z
UID:10003902-1670000400-1670025540@sustain.auburn.edu
SUMMARY:Food Truck Fridays
DESCRIPTION:Every 1st and 3rd Friday in Downtown Opelika enjoy food trucks and family time! \nPlease note that this event ends at 2 AM. \nFind more information here.
URL:https://sustain.auburn.edu/event/food-truck-fridays/2022-12-02/
LOCATION:Event Venue | Downtown Opelika\, Opelika\, AL\, 36803\, United States
CATEGORIES:Anyone,Evening,Gathering
ATTACH;FMTTYPE=image/png:https://sustain.auburn.edu/wp-content/uploads/2022/09/Copy-of-fort-benning-event.png
GEO:32.65;-85.37
END:VEVENT
BEGIN:VEVENT
DTSTART;TZID=America/Chicago:20221118T170000
DTEND;TZID=America/Chicago:20221118T235900
DTSTAMP:20260423T173512
CREATED:20220913T155911Z
LAST-MODIFIED:20221004T152503Z
UID:10003894-1668790800-1668815940@sustain.auburn.edu
SUMMARY:Food Truck Fridays
DESCRIPTION:Every 1st and 3rd Friday in Downtown Opelika enjoy food trucks and family time! \nPlease note that this event ends at 2 AM. \nFind more information here.
URL:https://sustain.auburn.edu/event/food-truck-fridays/2022-11-18/
LOCATION:Event Venue | Downtown Opelika\, Opelika\, AL\, 36803\, United States
CATEGORIES:Anyone,Evening,Gathering
ATTACH;FMTTYPE=image/png:https://sustain.auburn.edu/wp-content/uploads/2022/09/Copy-of-fort-benning-event.png
GEO:32.65;-85.37
END:VEVENT
BEGIN:VEVENT
DTSTART;TZID=America/Chicago:20221104T170000
DTEND;TZID=America/Chicago:20221104T235900
DTSTAMP:20260423T173512
CREATED:20240205T170253Z
LAST-MODIFIED:20240205T170253Z
UID:10003901-1667581200-1667606340@sustain.auburn.edu
SUMMARY:Food Truck Fridays
DESCRIPTION:Every 1st and 3rd Friday in Downtown Opelika enjoy food trucks and family time! \nPlease note that this event ends at 2 AM. \nFind more information here.
URL:https://sustain.auburn.edu/event/food-truck-fridays/2022-11-04/
LOCATION:Event Venue | Downtown Opelika\, Opelika\, AL\, 36803\, United States
CATEGORIES:Anyone,Evening,Gathering
ATTACH;FMTTYPE=image/png:https://sustain.auburn.edu/wp-content/uploads/2022/09/Copy-of-fort-benning-event.png
GEO:32.65;-85.37
END:VEVENT
BEGIN:VEVENT
DTSTART;TZID=America/Chicago:20221021T170000
DTEND;TZID=America/Chicago:20221021T235900
DTSTAMP:20260423T173512
CREATED:20220913T155911Z
LAST-MODIFIED:20221004T152503Z
UID:10003893-1666371600-1666396740@sustain.auburn.edu
SUMMARY:Food Truck Fridays
DESCRIPTION:Every 1st and 3rd Friday in Downtown Opelika enjoy food trucks and family time! \nPlease note that this event ends at 2 AM. \nFind more information here.
URL:https://sustain.auburn.edu/event/food-truck-fridays/2022-10-21/
LOCATION:Event Venue | Downtown Opelika\, Opelika\, AL\, 36803\, United States
CATEGORIES:Anyone,Evening,Gathering
ATTACH;FMTTYPE=image/png:https://sustain.auburn.edu/wp-content/uploads/2022/09/Copy-of-fort-benning-event.png
GEO:32.65;-85.37
END:VEVENT
BEGIN:VEVENT
DTSTART;TZID=America/Chicago:20221007T170000
DTEND;TZID=America/Chicago:20221007T235900
DTSTAMP:20260423T173512
CREATED:20240205T170253Z
LAST-MODIFIED:20240205T170253Z
UID:10003900-1665162000-1665187140@sustain.auburn.edu
SUMMARY:Food Truck Fridays
DESCRIPTION:Every 1st and 3rd Friday in Downtown Opelika enjoy food trucks and family time! \nPlease note that this event ends at 2 AM. \nFind more information here.
URL:https://sustain.auburn.edu/event/food-truck-fridays/2022-10-07/
LOCATION:Event Venue | Downtown Opelika\, Opelika\, AL\, 36803\, United States
CATEGORIES:Anyone,Evening,Gathering
ATTACH;FMTTYPE=image/png:https://sustain.auburn.edu/wp-content/uploads/2022/09/Copy-of-fort-benning-event.png
GEO:32.65;-85.37
END:VEVENT
BEGIN:VEVENT
DTSTART;TZID=America/Chicago:20220916T170000
DTEND;TZID=America/Chicago:20220916T235900
DTSTAMP:20260423T173512
CREATED:20220913T155911Z
LAST-MODIFIED:20221004T152503Z
UID:10003892-1663347600-1663372740@sustain.auburn.edu
SUMMARY:Food Truck Fridays
DESCRIPTION:Every 1st and 3rd Friday in Downtown Opelika enjoy food trucks and family time! \nPlease note that this event ends at 2 AM. \nFind more information here.
URL:https://sustain.auburn.edu/event/food-truck-fridays/2022-09-16/
LOCATION:Event Venue | Downtown Opelika\, Opelika\, AL\, 36803\, United States
CATEGORIES:Anyone,Evening,Gathering
ATTACH;FMTTYPE=image/png:https://sustain.auburn.edu/wp-content/uploads/2022/09/Copy-of-fort-benning-event.png
GEO:32.65;-85.37
END:VEVENT
BEGIN:VEVENT
DTSTART;TZID=America/Chicago:20220408T150000
DTEND;TZID=America/Chicago:20220408T180000
DTSTAMP:20260423T173512
CREATED:20220211T193651Z
LAST-MODIFIED:20220211T195103Z
UID:10003686-1649430000-1649440800@sustain.auburn.edu
SUMMARY:Global Community Day Festival - Opelika
DESCRIPTION:Global Community Day Festival is a day for bringing international and non-international communities together to learn and experience global culture\, history\, and related opportunities. The Covid-19 pandemic has taught the world that valuing and protecting diverse cultures is more crucial than ever. Outreach Global Office believes that uniting communities to experience diverse perceptives will enhance awareness and critical thinking about social issues such as cultural differences\, customs\, traditions\, religion\, politics and the world economy.
URL:https://sustain.auburn.edu/event/global-community-day-festival-auburn-2022-04-08/
LOCATION:Event Venue | Downtown Opelika\, Opelika\, AL\, 36803\, United States
ORGANIZER;CN="Event Organizer | Auburn University Outreach":MAILTO:outreach@auburn.edu
GEO:32.65;-85.37
END:VEVENT
END:VCALENDAR