BEGIN:VCALENDAR
VERSION:2.0
PRODID:-//Office of Sustainability - ECPv6.15.15//NONSGML v1.0//EN
CALSCALE:GREGORIAN
METHOD:PUBLISH
X-WR-CALNAME:Office of Sustainability
X-ORIGINAL-URL:https://sustain.auburn.edu
X-WR-CALDESC:Events for Office of Sustainability
REFRESH-INTERVAL;VALUE=DURATION:PT1H
X-Robots-Tag:noindex
X-PUBLISHED-TTL:PT1H
BEGIN:VTIMEZONE
TZID:America/Chicago
BEGIN:DAYLIGHT
TZOFFSETFROM:-0600
TZOFFSETTO:-0500
TZNAME:CDT
DTSTART:20200308T080000
END:DAYLIGHT
BEGIN:STANDARD
TZOFFSETFROM:-0500
TZOFFSETTO:-0600
TZNAME:CST
DTSTART:20201101T070000
END:STANDARD
BEGIN:DAYLIGHT
TZOFFSETFROM:-0600
TZOFFSETTO:-0500
TZNAME:CDT
DTSTART:20210314T080000
END:DAYLIGHT
BEGIN:STANDARD
TZOFFSETFROM:-0500
TZOFFSETTO:-0600
TZNAME:CST
DTSTART:20211107T070000
END:STANDARD
BEGIN:DAYLIGHT
TZOFFSETFROM:-0600
TZOFFSETTO:-0500
TZNAME:CDT
DTSTART:20220313T080000
END:DAYLIGHT
BEGIN:STANDARD
TZOFFSETFROM:-0500
TZOFFSETTO:-0600
TZNAME:CST
DTSTART:20221106T070000
END:STANDARD
BEGIN:DAYLIGHT
TZOFFSETFROM:-0600
TZOFFSETTO:-0500
TZNAME:CDT
DTSTART:20230312T080000
END:DAYLIGHT
BEGIN:STANDARD
TZOFFSETFROM:-0500
TZOFFSETTO:-0600
TZNAME:CST
DTSTART:20231105T070000
END:STANDARD
BEGIN:DAYLIGHT
TZOFFSETFROM:-0600
TZOFFSETTO:-0500
TZNAME:CDT
DTSTART:20240310T080000
END:DAYLIGHT
BEGIN:STANDARD
TZOFFSETFROM:-0500
TZOFFSETTO:-0600
TZNAME:CST
DTSTART:20241103T070000
END:STANDARD
BEGIN:DAYLIGHT
TZOFFSETFROM:-0600
TZOFFSETTO:-0500
TZNAME:CDT
DTSTART:20250309T080000
END:DAYLIGHT
BEGIN:STANDARD
TZOFFSETFROM:-0500
TZOFFSETTO:-0600
TZNAME:CST
DTSTART:20251102T070000
END:STANDARD
BEGIN:DAYLIGHT
TZOFFSETFROM:-0600
TZOFFSETTO:-0500
TZNAME:CDT
DTSTART:20260308T080000
END:DAYLIGHT
BEGIN:STANDARD
TZOFFSETFROM:-0500
TZOFFSETTO:-0600
TZNAME:CST
DTSTART:20261101T070000
END:STANDARD
BEGIN:DAYLIGHT
TZOFFSETFROM:-0600
TZOFFSETTO:-0500
TZNAME:CDT
DTSTART:20270314T080000
END:DAYLIGHT
BEGIN:STANDARD
TZOFFSETFROM:-0500
TZOFFSETTO:-0600
TZNAME:CST
DTSTART:20271107T070000
END:STANDARD
END:VTIMEZONE
BEGIN:VEVENT
DTSTART;TZID=America/Chicago:20260411T190000
DTEND;TZID=America/Chicago:20260411T210000
DTSTAMP:20260421T180439
CREATED:20260331T204725Z
LAST-MODIFIED:20260408T205715Z
UID:10005292-1775934000-1775941200@sustain.auburn.edu
SUMMARY:Spring Sing: Chewacla State Park’s Nature Center Event
DESCRIPTION:Come out to Chewacla State Park’s Nature Center (located in the second parking lot loop on the right) to accompany us on a short walk and learn all about frog calls! Park admission fees apply. Free for overnight guests. \n  \nRegister Here \n 
URL:https://sustain.auburn.edu/event/spring-sing/
LOCATION:Chewacla State Park\, 124 Shell Toomer Pkwy\, Auburn\, AL\, 36830\, United States
CATEGORIES:Anyone
ATTACH;FMTTYPE=image/png:https://sustain.auburn.edu/wp-content/uploads/2026/03/Calendar-1.png
GEO:32.5545931;-85.4822295
X-APPLE-STRUCTURED-LOCATION;VALUE=URI;X-ADDRESS=Chewacla State Park 124 Shell Toomer Pkwy Auburn AL 36830 United States;X-APPLE-RADIUS=500;X-TITLE=124 Shell Toomer Pkwy:geo:-85.4822295,32.5545931
END:VEVENT
BEGIN:VEVENT
DTSTART;TZID=America/Chicago:20251115T090000
DTEND;TZID=America/Chicago:20251115T120000
DTSTAMP:20260421T180439
CREATED:20251113T190650Z
LAST-MODIFIED:20251113T190650Z
UID:10005234-1763197200-1763208000@sustain.auburn.edu
SUMMARY:Invasive Plant Volunteer Workday
DESCRIPTION:Join the Chewacla Invasive Plant Working Group this weekend to remove invasive species from our state parks. They are looking for anyone who is able to help with invasive plant control efforts at the park. Tools\, water\, and snacks are provided. Wear field clothes and sturdy shoes.
URL:https://sustain.auburn.edu/event/invasive-plant-volunteer-workday/
LOCATION:Chewacla State Park\, 124 Shell Toomer Pkwy\, Auburn\, AL\, 36830\, United States
CATEGORIES:Anyone,Daytime,Exercise,Off-Campus
ATTACH;FMTTYPE=image/jpeg:https://sustain.auburn.edu/wp-content/uploads/2025/11/Untitled-design.jpg
GEO:32.5545931;-85.4822295
X-APPLE-STRUCTURED-LOCATION;VALUE=URI;X-ADDRESS=Chewacla State Park 124 Shell Toomer Pkwy Auburn AL 36830 United States;X-APPLE-RADIUS=500;X-TITLE=124 Shell Toomer Pkwy:geo:-85.4822295,32.5545931
END:VEVENT
BEGIN:VEVENT
DTSTART;TZID=America/Chicago:20241005T080000
DTEND;TZID=America/Chicago:20241005T110000
DTSTAMP:20260421T180439
CREATED:20240919T153058Z
LAST-MODIFIED:20240919T153213Z
UID:10004684-1728115200-1728126000@sustain.auburn.edu
SUMMARY:Ride and Seek at Chewacla State Park
DESCRIPTION:Join the Auburn Bike Committee for Ride and Seek. Ride and Seek is an event designed to teach kids how to ride bicycles and have fun. Designed for kids in grades K – 8\, riders and their parents will get safety tips from experts and test their skills on mountain bike trails and paved trails. There will be free prizes and a raffle for some great bike equipment. Each child must have a guardian or parent registered. \nParticipants should pre-register on the Auburn Parks and Recreation Website by September 25th at 5:00 PM to receive a t – shirt. $15 per person.
URL:https://sustain.auburn.edu/event/ride-and-seek-at-chewacla-state-park/
LOCATION:Chewacla State Park\, 124 Shell Toomer Pkwy\, Auburn\, AL\, 36830\, United States
CATEGORIES:Anyone,Daytime,Exercise,Gathering,Off-Campus,Registration-Open
ATTACH;FMTTYPE=image/png:https://sustain.auburn.edu/wp-content/uploads/2021/04/Auburn-Bicycle-Committee-Logo.png
GEO:32.5545931;-85.4822295
X-APPLE-STRUCTURED-LOCATION;VALUE=URI;X-ADDRESS=Chewacla State Park 124 Shell Toomer Pkwy Auburn AL 36830 United States;X-APPLE-RADIUS=500;X-TITLE=124 Shell Toomer Pkwy:geo:-85.4822295,32.5545931
END:VEVENT
BEGIN:VEVENT
DTSTART;TZID=America/Chicago:20230826T083000
DTEND;TZID=America/Chicago:20230826T110000
DTSTAMP:20260421T180439
CREATED:20230721T145914Z
LAST-MODIFIED:20230721T145950Z
UID:10004041-1693038600-1693047600@sustain.auburn.edu
SUMMARY:Ride & Seek: A Bike Safety Adventure
DESCRIPTION:Ride and Seek teaches kids how to ride safe and have fun. Designed for kids in grades K-8. Riders and their parents will get safety tips from our experts and test their skills on our mountain bike trail and paved trail. There will be free prizes and a raffle for some great bike equipment! Each child must have a guardian or parent registered. Must register by August 11th at 8:00 to receive a t – shirt. $10 per person. Check-in at 8:30. Brought to you by the Auburn Bicycle Committee. \n 
URL:https://sustain.auburn.edu/event/ride-seek-a-bike-safety-adventure/
LOCATION:Chewacla State Park\, 124 Shell Toomer Pkwy\, Auburn\, AL\, 36830\, United States
GEO:32.5545931;-85.4822295
X-APPLE-STRUCTURED-LOCATION;VALUE=URI;X-ADDRESS=Chewacla State Park 124 Shell Toomer Pkwy Auburn AL 36830 United States;X-APPLE-RADIUS=500;X-TITLE=124 Shell Toomer Pkwy:geo:-85.4822295,32.5545931
END:VEVENT
BEGIN:VEVENT
DTSTART;TZID=America/Chicago:20230422T090000
DTEND;TZID=America/Chicago:20230422T130000
DTSTAMP:20260421T180439
CREATED:20230411T202504Z
LAST-MODIFIED:20230411T202504Z
UID:10004037-1682154000-1682168400@sustain.auburn.edu
SUMMARY:Earth Day Hike and Clean-Up
DESCRIPTION:Join American Conservation Coalition at Auburn to get your hands dirty by conserving the beautiful nature around us. Come and join them in a hike and clean event at Chewacla state park. Be prepared to hike and get dirty. No equipment is necessary. \nRSVP on AU Involve.
URL:https://sustain.auburn.edu/event/earth-day-hike-and-clean-up/
LOCATION:Chewacla State Park\, 124 Shell Toomer Pkwy\, Auburn\, AL\, 36830\, United States
CATEGORIES:Off-Campus,Outing,Students,Volunteer
ATTACH;FMTTYPE=image/png:https://sustain.auburn.edu/wp-content/uploads/2022/08/auburn-logo-event.png
GEO:32.5545931;-85.4822295
X-APPLE-STRUCTURED-LOCATION;VALUE=URI;X-ADDRESS=Chewacla State Park 124 Shell Toomer Pkwy Auburn AL 36830 United States;X-APPLE-RADIUS=500;X-TITLE=124 Shell Toomer Pkwy:geo:-85.4822295,32.5545931
END:VEVENT
BEGIN:VEVENT
DTSTART;TZID=America/Chicago:20230401T100000
DTEND;TZID=America/Chicago:20230401T150000
DTSTAMP:20260421T180439
CREATED:20230203T175931Z
LAST-MODIFIED:20230203T175931Z
UID:10003033-1680343200-1680361200@sustain.auburn.edu
SUMMARY:Bike School: Mountain Biking 102
DESCRIPTION:Join Auburn Outdoors for the next level of Mountain Biking at Chewacla State Park. They will depart AO at 10 AM and spend time learning how to navigate features and other intermediate skills before hitting the trails for some first-hand experience. Transportation\, entrance to Chewacla\, and mountain bike rental are included in the price. If you are unable to attend the workshop after registration\, please cancel online up to 4 hours in advance of the workshop. If you must cancel within 4 hours of the program\, please communicate via email at auburnoutdoors@auburn.edu. Failure to communicate your cancellation will result in a $10 no-show fee. \nRegister Here
URL:https://sustain.auburn.edu/event/bike-school-mountain-biking-102/
LOCATION:Chewacla State Park\, 124 Shell Toomer Pkwy\, Auburn\, AL\, 36830\, United States
CATEGORIES:Students,Workshop
ATTACH;FMTTYPE=image/jpeg:https://sustain.auburn.edu/wp-content/uploads/2022/06/auburn_formal_w_fullcolor_print-scaled.jpg
GEO:32.5545931;-85.4822295
X-APPLE-STRUCTURED-LOCATION;VALUE=URI;X-ADDRESS=Chewacla State Park 124 Shell Toomer Pkwy Auburn AL 36830 United States;X-APPLE-RADIUS=500;X-TITLE=124 Shell Toomer Pkwy:geo:-85.4822295,32.5545931
END:VEVENT
BEGIN:VEVENT
DTSTART;VALUE=DATE:20210418
DTEND;VALUE=DATE:20210419
DTSTAMP:20260421T180439
CREATED:20210323T174051Z
LAST-MODIFIED:20210323T174051Z
UID:10003436-1618704000-1618790399@sustain.auburn.edu
SUMMARY:Crank Down at Tigertown
DESCRIPTION:Crank Down in Tigertown will take place in the Chewacla State Park on April 17-18\, 2021. \nThe course at this park will use a combination of tight and twisty single track and wide dirt roads to test the racer’s fitness and bike handling skills.  The seemingly flat course is deceiving as the constant up/down results in 381 feet of elevation gain per HS lap. \nSpectators bring your noisemakers because as the trail meanders through the woods\, there are several opportunities to see the race unfolding from your seats in the infield area. Don’t let the lap distances fool you\, lap times on this course will be on par with other\, longer courses this season.
URL:https://sustain.auburn.edu/event/crank-down-at-tigertown/2021-04-18/
LOCATION:Chewacla State Park\, 124 Shell Toomer Pkwy\, Auburn\, AL\, 36830\, United States
CATEGORIES:Anyone,Athletic-Event,Daytime,Multi-Day,Off-Campus,Outing
ATTACH;FMTTYPE=image/png:https://sustain.auburn.edu/wp-content/uploads/2016/12/Default-Event.png
GEO:32.5545931;-85.4822295
X-APPLE-STRUCTURED-LOCATION;VALUE=URI;X-ADDRESS=Chewacla State Park 124 Shell Toomer Pkwy Auburn AL 36830 United States;X-APPLE-RADIUS=500;X-TITLE=124 Shell Toomer Pkwy:geo:-85.4822295,32.5545931
END:VEVENT
BEGIN:VEVENT
DTSTART;VALUE=DATE:20210417
DTEND;VALUE=DATE:20210418
DTSTAMP:20260421T180439
CREATED:20210323T174051Z
LAST-MODIFIED:20210323T174051Z
UID:10003435-1618617600-1618703999@sustain.auburn.edu
SUMMARY:Crank Down at Tigertown
DESCRIPTION:Crank Down in Tigertown will take place in the Chewacla State Park on April 17-18\, 2021. \nThe course at this park will use a combination of tight and twisty single track and wide dirt roads to test the racer’s fitness and bike handling skills.  The seemingly flat course is deceiving as the constant up/down results in 381 feet of elevation gain per HS lap. \nSpectators bring your noisemakers because as the trail meanders through the woods\, there are several opportunities to see the race unfolding from your seats in the infield area. Don’t let the lap distances fool you\, lap times on this course will be on par with other\, longer courses this season.
URL:https://sustain.auburn.edu/event/crank-down-at-tigertown/2021-04-17/
LOCATION:Chewacla State Park\, 124 Shell Toomer Pkwy\, Auburn\, AL\, 36830\, United States
CATEGORIES:Anyone,Athletic-Event,Daytime,Multi-Day,Off-Campus,Outing
ATTACH;FMTTYPE=image/png:https://sustain.auburn.edu/wp-content/uploads/2016/12/Default-Event.png
GEO:32.5545931;-85.4822295
X-APPLE-STRUCTURED-LOCATION;VALUE=URI;X-ADDRESS=Chewacla State Park 124 Shell Toomer Pkwy Auburn AL 36830 United States;X-APPLE-RADIUS=500;X-TITLE=124 Shell Toomer Pkwy:geo:-85.4822295,32.5545931
END:VEVENT
END:VCALENDAR