BEGIN:VCALENDAR
VERSION:2.0
PRODID:-//Office of Sustainability - ECPv6.15.15//NONSGML v1.0//EN
CALSCALE:GREGORIAN
METHOD:PUBLISH
X-WR-CALNAME:Office of Sustainability
X-ORIGINAL-URL:https://sustain.auburn.edu
X-WR-CALDESC:Events for Office of Sustainability
REFRESH-INTERVAL;VALUE=DURATION:PT1H
X-Robots-Tag:noindex
X-PUBLISHED-TTL:PT1H
BEGIN:VTIMEZONE
TZID:America/Chicago
BEGIN:DAYLIGHT
TZOFFSETFROM:-0600
TZOFFSETTO:-0500
TZNAME:CDT
DTSTART:20220313T080000
END:DAYLIGHT
BEGIN:STANDARD
TZOFFSETFROM:-0500
TZOFFSETTO:-0600
TZNAME:CST
DTSTART:20221106T070000
END:STANDARD
BEGIN:DAYLIGHT
TZOFFSETFROM:-0600
TZOFFSETTO:-0500
TZNAME:CDT
DTSTART:20230312T080000
END:DAYLIGHT
BEGIN:STANDARD
TZOFFSETFROM:-0500
TZOFFSETTO:-0600
TZNAME:CST
DTSTART:20231105T070000
END:STANDARD
BEGIN:DAYLIGHT
TZOFFSETFROM:-0600
TZOFFSETTO:-0500
TZNAME:CDT
DTSTART:20240310T080000
END:DAYLIGHT
BEGIN:STANDARD
TZOFFSETFROM:-0500
TZOFFSETTO:-0600
TZNAME:CST
DTSTART:20241103T070000
END:STANDARD
END:VTIMEZONE
BEGIN:VEVENT
DTSTART;TZID=America/Chicago:20230919T150000
DTEND;TZID=America/Chicago:20230919T180000
DTSTAMP:20260421T010312
CREATED:20220913T162249Z
LAST-MODIFIED:20230516T154522Z
UID:10003927-1695135600-1695146400@sustain.auburn.edu
SUMMARY:O Grows Farmers Market
DESCRIPTION:Opelika’s local farmers market\, located across the street from the Cultural Arts Center on Glenn Street near the community garden\, is a tradition in Opelika throughout the summer. Visitors are welcome to walk around the square and find fresh\, local produce ranging from heirloom tomatoes to collard greens. Guests may even find goodies like fresh bread\, homemade ice cream\, or local honey as well.
URL:https://sustain.auburn.edu/event/o-grows-famers-market-2022-09-27/2023-09-19/
LOCATION:215 S 9th St\, 215 S. 9th St.\, Opelika
CATEGORIES:Anyone,Evening,Gathering,Off-Campus
GEO:32.6458644;-85.3799415
X-APPLE-STRUCTURED-LOCATION;VALUE=URI;X-ADDRESS=215 S 9th St 215 S. 9th St. Opelika;X-APPLE-RADIUS=500;X-TITLE=215 S. 9th St.:geo:-85.3799415,32.6458644
END:VEVENT
BEGIN:VEVENT
DTSTART;TZID=America/Chicago:20230912T150000
DTEND;TZID=America/Chicago:20230912T180000
DTSTAMP:20260421T010312
CREATED:20220913T162249Z
LAST-MODIFIED:20230516T154522Z
UID:10003926-1694530800-1694541600@sustain.auburn.edu
SUMMARY:O Grows Farmers Market
DESCRIPTION:Opelika’s local farmers market\, located across the street from the Cultural Arts Center on Glenn Street near the community garden\, is a tradition in Opelika throughout the summer. Visitors are welcome to walk around the square and find fresh\, local produce ranging from heirloom tomatoes to collard greens. Guests may even find goodies like fresh bread\, homemade ice cream\, or local honey as well.
URL:https://sustain.auburn.edu/event/o-grows-famers-market-2022-09-27/2023-09-12/
LOCATION:215 S 9th St\, 215 S. 9th St.\, Opelika
CATEGORIES:Anyone,Evening,Gathering,Off-Campus
GEO:32.6458644;-85.3799415
X-APPLE-STRUCTURED-LOCATION;VALUE=URI;X-ADDRESS=215 S 9th St 215 S. 9th St. Opelika;X-APPLE-RADIUS=500;X-TITLE=215 S. 9th St.:geo:-85.3799415,32.6458644
END:VEVENT
BEGIN:VEVENT
DTSTART;TZID=America/Chicago:20230905T150000
DTEND;TZID=America/Chicago:20230905T180000
DTSTAMP:20260421T010312
CREATED:20220913T162249Z
LAST-MODIFIED:20230516T154522Z
UID:10003925-1693926000-1693936800@sustain.auburn.edu
SUMMARY:O Grows Farmers Market
DESCRIPTION:Opelika’s local farmers market\, located across the street from the Cultural Arts Center on Glenn Street near the community garden\, is a tradition in Opelika throughout the summer. Visitors are welcome to walk around the square and find fresh\, local produce ranging from heirloom tomatoes to collard greens. Guests may even find goodies like fresh bread\, homemade ice cream\, or local honey as well.
URL:https://sustain.auburn.edu/event/o-grows-famers-market-2022-09-27/2023-09-05/
LOCATION:215 S 9th St\, 215 S. 9th St.\, Opelika
CATEGORIES:Anyone,Evening,Gathering,Off-Campus
GEO:32.6458644;-85.3799415
X-APPLE-STRUCTURED-LOCATION;VALUE=URI;X-ADDRESS=215 S 9th St 215 S. 9th St. Opelika;X-APPLE-RADIUS=500;X-TITLE=215 S. 9th St.:geo:-85.3799415,32.6458644
END:VEVENT
BEGIN:VEVENT
DTSTART;TZID=America/Chicago:20230829T150000
DTEND;TZID=America/Chicago:20230829T180000
DTSTAMP:20260421T010312
CREATED:20220913T162249Z
LAST-MODIFIED:20230516T154522Z
UID:10003924-1693321200-1693332000@sustain.auburn.edu
SUMMARY:O Grows Farmers Market
DESCRIPTION:Opelika’s local farmers market\, located across the street from the Cultural Arts Center on Glenn Street near the community garden\, is a tradition in Opelika throughout the summer. Visitors are welcome to walk around the square and find fresh\, local produce ranging from heirloom tomatoes to collard greens. Guests may even find goodies like fresh bread\, homemade ice cream\, or local honey as well.
URL:https://sustain.auburn.edu/event/o-grows-famers-market-2022-09-27/2023-08-29/
LOCATION:215 S 9th St\, 215 S. 9th St.\, Opelika
CATEGORIES:Anyone,Evening,Gathering,Off-Campus
GEO:32.6458644;-85.3799415
X-APPLE-STRUCTURED-LOCATION;VALUE=URI;X-ADDRESS=215 S 9th St 215 S. 9th St. Opelika;X-APPLE-RADIUS=500;X-TITLE=215 S. 9th St.:geo:-85.3799415,32.6458644
END:VEVENT
BEGIN:VEVENT
DTSTART;TZID=America/Chicago:20230822T150000
DTEND;TZID=America/Chicago:20230822T180000
DTSTAMP:20260421T010312
CREATED:20220913T162249Z
LAST-MODIFIED:20230516T154522Z
UID:10003923-1692716400-1692727200@sustain.auburn.edu
SUMMARY:O Grows Farmers Market
DESCRIPTION:Opelika’s local farmers market\, located across the street from the Cultural Arts Center on Glenn Street near the community garden\, is a tradition in Opelika throughout the summer. Visitors are welcome to walk around the square and find fresh\, local produce ranging from heirloom tomatoes to collard greens. Guests may even find goodies like fresh bread\, homemade ice cream\, or local honey as well.
URL:https://sustain.auburn.edu/event/o-grows-famers-market-2022-09-27/2023-08-22/
LOCATION:215 S 9th St\, 215 S. 9th St.\, Opelika
CATEGORIES:Anyone,Evening,Gathering,Off-Campus
GEO:32.6458644;-85.3799415
X-APPLE-STRUCTURED-LOCATION;VALUE=URI;X-ADDRESS=215 S 9th St 215 S. 9th St. Opelika;X-APPLE-RADIUS=500;X-TITLE=215 S. 9th St.:geo:-85.3799415,32.6458644
END:VEVENT
BEGIN:VEVENT
DTSTART;TZID=America/Chicago:20230815T150000
DTEND;TZID=America/Chicago:20230815T180000
DTSTAMP:20260421T010312
CREATED:20220913T162249Z
LAST-MODIFIED:20230516T154522Z
UID:10003922-1692111600-1692122400@sustain.auburn.edu
SUMMARY:O Grows Farmers Market
DESCRIPTION:Opelika’s local farmers market\, located across the street from the Cultural Arts Center on Glenn Street near the community garden\, is a tradition in Opelika throughout the summer. Visitors are welcome to walk around the square and find fresh\, local produce ranging from heirloom tomatoes to collard greens. Guests may even find goodies like fresh bread\, homemade ice cream\, or local honey as well.
URL:https://sustain.auburn.edu/event/o-grows-famers-market-2022-09-27/2023-08-15/
LOCATION:215 S 9th St\, 215 S. 9th St.\, Opelika
CATEGORIES:Anyone,Evening,Gathering,Off-Campus
GEO:32.6458644;-85.3799415
X-APPLE-STRUCTURED-LOCATION;VALUE=URI;X-ADDRESS=215 S 9th St 215 S. 9th St. Opelika;X-APPLE-RADIUS=500;X-TITLE=215 S. 9th St.:geo:-85.3799415,32.6458644
END:VEVENT
BEGIN:VEVENT
DTSTART;TZID=America/Chicago:20230808T150000
DTEND;TZID=America/Chicago:20230808T180000
DTSTAMP:20260421T010312
CREATED:20220913T162249Z
LAST-MODIFIED:20230516T154522Z
UID:10003921-1691506800-1691517600@sustain.auburn.edu
SUMMARY:O Grows Farmers Market
DESCRIPTION:Opelika’s local farmers market\, located across the street from the Cultural Arts Center on Glenn Street near the community garden\, is a tradition in Opelika throughout the summer. Visitors are welcome to walk around the square and find fresh\, local produce ranging from heirloom tomatoes to collard greens. Guests may even find goodies like fresh bread\, homemade ice cream\, or local honey as well.
URL:https://sustain.auburn.edu/event/o-grows-famers-market-2022-09-27/2023-08-08/
LOCATION:215 S 9th St\, 215 S. 9th St.\, Opelika
CATEGORIES:Anyone,Evening,Gathering,Off-Campus
GEO:32.6458644;-85.3799415
X-APPLE-STRUCTURED-LOCATION;VALUE=URI;X-ADDRESS=215 S 9th St 215 S. 9th St. Opelika;X-APPLE-RADIUS=500;X-TITLE=215 S. 9th St.:geo:-85.3799415,32.6458644
END:VEVENT
BEGIN:VEVENT
DTSTART;TZID=America/Chicago:20230801T150000
DTEND;TZID=America/Chicago:20230801T180000
DTSTAMP:20260421T010312
CREATED:20220913T162249Z
LAST-MODIFIED:20230516T154522Z
UID:10003920-1690902000-1690912800@sustain.auburn.edu
SUMMARY:O Grows Farmers Market
DESCRIPTION:Opelika’s local farmers market\, located across the street from the Cultural Arts Center on Glenn Street near the community garden\, is a tradition in Opelika throughout the summer. Visitors are welcome to walk around the square and find fresh\, local produce ranging from heirloom tomatoes to collard greens. Guests may even find goodies like fresh bread\, homemade ice cream\, or local honey as well.
URL:https://sustain.auburn.edu/event/o-grows-famers-market-2022-09-27/2023-08-01/
LOCATION:215 S 9th St\, 215 S. 9th St.\, Opelika
CATEGORIES:Anyone,Evening,Gathering,Off-Campus
GEO:32.6458644;-85.3799415
X-APPLE-STRUCTURED-LOCATION;VALUE=URI;X-ADDRESS=215 S 9th St 215 S. 9th St. Opelika;X-APPLE-RADIUS=500;X-TITLE=215 S. 9th St.:geo:-85.3799415,32.6458644
END:VEVENT
BEGIN:VEVENT
DTSTART;TZID=America/Chicago:20230725T150000
DTEND;TZID=America/Chicago:20230725T180000
DTSTAMP:20260421T010312
CREATED:20220913T162249Z
LAST-MODIFIED:20230516T154522Z
UID:10003919-1690297200-1690308000@sustain.auburn.edu
SUMMARY:O Grows Farmers Market
DESCRIPTION:Opelika’s local farmers market\, located across the street from the Cultural Arts Center on Glenn Street near the community garden\, is a tradition in Opelika throughout the summer. Visitors are welcome to walk around the square and find fresh\, local produce ranging from heirloom tomatoes to collard greens. Guests may even find goodies like fresh bread\, homemade ice cream\, or local honey as well.
URL:https://sustain.auburn.edu/event/o-grows-famers-market-2022-09-27/2023-07-25/
LOCATION:215 S 9th St\, 215 S. 9th St.\, Opelika
CATEGORIES:Anyone,Evening,Gathering,Off-Campus
GEO:32.6458644;-85.3799415
X-APPLE-STRUCTURED-LOCATION;VALUE=URI;X-ADDRESS=215 S 9th St 215 S. 9th St. Opelika;X-APPLE-RADIUS=500;X-TITLE=215 S. 9th St.:geo:-85.3799415,32.6458644
END:VEVENT
BEGIN:VEVENT
DTSTART;TZID=America/Chicago:20230718T150000
DTEND;TZID=America/Chicago:20230718T180000
DTSTAMP:20260421T010312
CREATED:20220913T162249Z
LAST-MODIFIED:20230516T154522Z
UID:10003918-1689692400-1689703200@sustain.auburn.edu
SUMMARY:O Grows Farmers Market
DESCRIPTION:Opelika’s local farmers market\, located across the street from the Cultural Arts Center on Glenn Street near the community garden\, is a tradition in Opelika throughout the summer. Visitors are welcome to walk around the square and find fresh\, local produce ranging from heirloom tomatoes to collard greens. Guests may even find goodies like fresh bread\, homemade ice cream\, or local honey as well.
URL:https://sustain.auburn.edu/event/o-grows-famers-market-2022-09-27/2023-07-18/
LOCATION:215 S 9th St\, 215 S. 9th St.\, Opelika
CATEGORIES:Anyone,Evening,Gathering,Off-Campus
GEO:32.6458644;-85.3799415
X-APPLE-STRUCTURED-LOCATION;VALUE=URI;X-ADDRESS=215 S 9th St 215 S. 9th St. Opelika;X-APPLE-RADIUS=500;X-TITLE=215 S. 9th St.:geo:-85.3799415,32.6458644
END:VEVENT
BEGIN:VEVENT
DTSTART;TZID=America/Chicago:20230711T150000
DTEND;TZID=America/Chicago:20230711T180000
DTSTAMP:20260421T010312
CREATED:20220913T162249Z
LAST-MODIFIED:20230516T154522Z
UID:10003917-1689087600-1689098400@sustain.auburn.edu
SUMMARY:O Grows Farmers Market
DESCRIPTION:Opelika’s local farmers market\, located across the street from the Cultural Arts Center on Glenn Street near the community garden\, is a tradition in Opelika throughout the summer. Visitors are welcome to walk around the square and find fresh\, local produce ranging from heirloom tomatoes to collard greens. Guests may even find goodies like fresh bread\, homemade ice cream\, or local honey as well.
URL:https://sustain.auburn.edu/event/o-grows-famers-market-2022-09-27/2023-07-11/
LOCATION:215 S 9th St\, 215 S. 9th St.\, Opelika
CATEGORIES:Anyone,Evening,Gathering,Off-Campus
GEO:32.6458644;-85.3799415
X-APPLE-STRUCTURED-LOCATION;VALUE=URI;X-ADDRESS=215 S 9th St 215 S. 9th St. Opelika;X-APPLE-RADIUS=500;X-TITLE=215 S. 9th St.:geo:-85.3799415,32.6458644
END:VEVENT
BEGIN:VEVENT
DTSTART;TZID=America/Chicago:20230704T150000
DTEND;TZID=America/Chicago:20230704T180000
DTSTAMP:20260421T010312
CREATED:20220913T162249Z
LAST-MODIFIED:20230516T154522Z
UID:10003916-1688482800-1688493600@sustain.auburn.edu
SUMMARY:O Grows Farmers Market
DESCRIPTION:Opelika’s local farmers market\, located across the street from the Cultural Arts Center on Glenn Street near the community garden\, is a tradition in Opelika throughout the summer. Visitors are welcome to walk around the square and find fresh\, local produce ranging from heirloom tomatoes to collard greens. Guests may even find goodies like fresh bread\, homemade ice cream\, or local honey as well.
URL:https://sustain.auburn.edu/event/o-grows-famers-market-2022-09-27/2023-07-04/
LOCATION:215 S 9th St\, 215 S. 9th St.\, Opelika
CATEGORIES:Anyone,Evening,Gathering,Off-Campus
GEO:32.6458644;-85.3799415
X-APPLE-STRUCTURED-LOCATION;VALUE=URI;X-ADDRESS=215 S 9th St 215 S. 9th St. Opelika;X-APPLE-RADIUS=500;X-TITLE=215 S. 9th St.:geo:-85.3799415,32.6458644
END:VEVENT
BEGIN:VEVENT
DTSTART;TZID=America/Chicago:20230627T150000
DTEND;TZID=America/Chicago:20230627T180000
DTSTAMP:20260421T010312
CREATED:20220913T162249Z
LAST-MODIFIED:20230516T154522Z
UID:10003915-1687878000-1687888800@sustain.auburn.edu
SUMMARY:O Grows Farmers Market
DESCRIPTION:Opelika’s local farmers market\, located across the street from the Cultural Arts Center on Glenn Street near the community garden\, is a tradition in Opelika throughout the summer. Visitors are welcome to walk around the square and find fresh\, local produce ranging from heirloom tomatoes to collard greens. Guests may even find goodies like fresh bread\, homemade ice cream\, or local honey as well.
URL:https://sustain.auburn.edu/event/o-grows-famers-market-2022-09-27/2023-06-27/
LOCATION:215 S 9th St\, 215 S. 9th St.\, Opelika
CATEGORIES:Anyone,Evening,Gathering,Off-Campus
GEO:32.6458644;-85.3799415
X-APPLE-STRUCTURED-LOCATION;VALUE=URI;X-ADDRESS=215 S 9th St 215 S. 9th St. Opelika;X-APPLE-RADIUS=500;X-TITLE=215 S. 9th St.:geo:-85.3799415,32.6458644
END:VEVENT
BEGIN:VEVENT
DTSTART;TZID=America/Chicago:20230620T150000
DTEND;TZID=America/Chicago:20230620T180000
DTSTAMP:20260421T010312
CREATED:20220913T162249Z
LAST-MODIFIED:20230516T154522Z
UID:10003914-1687273200-1687284000@sustain.auburn.edu
SUMMARY:O Grows Farmers Market
DESCRIPTION:Opelika’s local farmers market\, located across the street from the Cultural Arts Center on Glenn Street near the community garden\, is a tradition in Opelika throughout the summer. Visitors are welcome to walk around the square and find fresh\, local produce ranging from heirloom tomatoes to collard greens. Guests may even find goodies like fresh bread\, homemade ice cream\, or local honey as well.
URL:https://sustain.auburn.edu/event/o-grows-famers-market-2022-09-27/2023-06-20/
LOCATION:215 S 9th St\, 215 S. 9th St.\, Opelika
CATEGORIES:Anyone,Evening,Gathering,Off-Campus
GEO:32.6458644;-85.3799415
X-APPLE-STRUCTURED-LOCATION;VALUE=URI;X-ADDRESS=215 S 9th St 215 S. 9th St. Opelika;X-APPLE-RADIUS=500;X-TITLE=215 S. 9th St.:geo:-85.3799415,32.6458644
END:VEVENT
BEGIN:VEVENT
DTSTART;TZID=America/Chicago:20230613T150000
DTEND;TZID=America/Chicago:20230613T180000
DTSTAMP:20260421T010312
CREATED:20220913T162249Z
LAST-MODIFIED:20230516T154522Z
UID:10003913-1686668400-1686679200@sustain.auburn.edu
SUMMARY:O Grows Farmers Market
DESCRIPTION:Opelika’s local farmers market\, located across the street from the Cultural Arts Center on Glenn Street near the community garden\, is a tradition in Opelika throughout the summer. Visitors are welcome to walk around the square and find fresh\, local produce ranging from heirloom tomatoes to collard greens. Guests may even find goodies like fresh bread\, homemade ice cream\, or local honey as well.
URL:https://sustain.auburn.edu/event/o-grows-famers-market-2022-09-27/2023-06-13/
LOCATION:215 S 9th St\, 215 S. 9th St.\, Opelika
CATEGORIES:Anyone,Evening,Gathering,Off-Campus
GEO:32.6458644;-85.3799415
X-APPLE-STRUCTURED-LOCATION;VALUE=URI;X-ADDRESS=215 S 9th St 215 S. 9th St. Opelika;X-APPLE-RADIUS=500;X-TITLE=215 S. 9th St.:geo:-85.3799415,32.6458644
END:VEVENT
BEGIN:VEVENT
DTSTART;TZID=America/Chicago:20230606T150000
DTEND;TZID=America/Chicago:20230606T180000
DTSTAMP:20260421T010312
CREATED:20220913T162249Z
LAST-MODIFIED:20230516T154522Z
UID:10003912-1686063600-1686074400@sustain.auburn.edu
SUMMARY:O Grows Farmers Market
DESCRIPTION:Opelika’s local farmers market\, located across the street from the Cultural Arts Center on Glenn Street near the community garden\, is a tradition in Opelika throughout the summer. Visitors are welcome to walk around the square and find fresh\, local produce ranging from heirloom tomatoes to collard greens. Guests may even find goodies like fresh bread\, homemade ice cream\, or local honey as well.
URL:https://sustain.auburn.edu/event/o-grows-famers-market-2022-09-27/2023-06-06/
LOCATION:215 S 9th St\, 215 S. 9th St.\, Opelika
CATEGORIES:Anyone,Evening,Gathering,Off-Campus
GEO:32.6458644;-85.3799415
X-APPLE-STRUCTURED-LOCATION;VALUE=URI;X-ADDRESS=215 S 9th St 215 S. 9th St. Opelika;X-APPLE-RADIUS=500;X-TITLE=215 S. 9th St.:geo:-85.3799415,32.6458644
END:VEVENT
BEGIN:VEVENT
DTSTART;TZID=America/Chicago:20230530T150000
DTEND;TZID=America/Chicago:20230530T180000
DTSTAMP:20260421T010312
CREATED:20220913T162249Z
LAST-MODIFIED:20230516T154522Z
UID:10003911-1685458800-1685469600@sustain.auburn.edu
SUMMARY:O Grows Farmers Market
DESCRIPTION:Opelika’s local farmers market\, located across the street from the Cultural Arts Center on Glenn Street near the community garden\, is a tradition in Opelika throughout the summer. Visitors are welcome to walk around the square and find fresh\, local produce ranging from heirloom tomatoes to collard greens. Guests may even find goodies like fresh bread\, homemade ice cream\, or local honey as well.
URL:https://sustain.auburn.edu/event/o-grows-famers-market-2022-09-27/2023-05-30/
LOCATION:215 S 9th St\, 215 S. 9th St.\, Opelika
CATEGORIES:Anyone,Evening,Gathering,Off-Campus
GEO:32.6458644;-85.3799415
X-APPLE-STRUCTURED-LOCATION;VALUE=URI;X-ADDRESS=215 S 9th St 215 S. 9th St. Opelika;X-APPLE-RADIUS=500;X-TITLE=215 S. 9th St.:geo:-85.3799415,32.6458644
END:VEVENT
BEGIN:VEVENT
DTSTART;TZID=America/Chicago:20230523T150000
DTEND;TZID=America/Chicago:20230523T180000
DTSTAMP:20260421T010312
CREATED:20220913T162249Z
LAST-MODIFIED:20230516T154522Z
UID:10003910-1684854000-1684864800@sustain.auburn.edu
SUMMARY:O Grows Farmers Market
DESCRIPTION:Opelika’s local farmers market\, located across the street from the Cultural Arts Center on Glenn Street near the community garden\, is a tradition in Opelika throughout the summer. Visitors are welcome to walk around the square and find fresh\, local produce ranging from heirloom tomatoes to collard greens. Guests may even find goodies like fresh bread\, homemade ice cream\, or local honey as well.
URL:https://sustain.auburn.edu/event/o-grows-famers-market-2022-09-27/2023-05-23/
LOCATION:215 S 9th St\, 215 S. 9th St.\, Opelika
CATEGORIES:Anyone,Evening,Gathering,Off-Campus
GEO:32.6458644;-85.3799415
X-APPLE-STRUCTURED-LOCATION;VALUE=URI;X-ADDRESS=215 S 9th St 215 S. 9th St. Opelika;X-APPLE-RADIUS=500;X-TITLE=215 S. 9th St.:geo:-85.3799415,32.6458644
END:VEVENT
BEGIN:VEVENT
DTSTART;TZID=America/Chicago:20230516T150000
DTEND;TZID=America/Chicago:20230516T180000
DTSTAMP:20260421T010312
CREATED:20220913T162249Z
LAST-MODIFIED:20230516T154522Z
UID:10003909-1684249200-1684260000@sustain.auburn.edu
SUMMARY:O Grows Farmers Market
DESCRIPTION:Opelika’s local farmers market\, located across the street from the Cultural Arts Center on Glenn Street near the community garden\, is a tradition in Opelika throughout the summer. Visitors are welcome to walk around the square and find fresh\, local produce ranging from heirloom tomatoes to collard greens. Guests may even find goodies like fresh bread\, homemade ice cream\, or local honey as well.
URL:https://sustain.auburn.edu/event/o-grows-famers-market-2022-09-27/2023-05-16/
LOCATION:215 S 9th St\, 215 S. 9th St.\, Opelika
CATEGORIES:Anyone,Evening,Gathering,Off-Campus
GEO:32.6458644;-85.3799415
X-APPLE-STRUCTURED-LOCATION;VALUE=URI;X-ADDRESS=215 S 9th St 215 S. 9th St. Opelika;X-APPLE-RADIUS=500;X-TITLE=215 S. 9th St.:geo:-85.3799415,32.6458644
END:VEVENT
END:VCALENDAR