BEGIN:VCALENDAR
VERSION:2.0
PRODID:-//Office of Sustainability - ECPv6.15.15//NONSGML v1.0//EN
CALSCALE:GREGORIAN
METHOD:PUBLISH
X-WR-CALNAME:Office of Sustainability
X-ORIGINAL-URL:https://sustain.auburn.edu
X-WR-CALDESC:Events for Office of Sustainability
REFRESH-INTERVAL;VALUE=DURATION:PT1H
X-Robots-Tag:noindex
X-PUBLISHED-TTL:PT1H
BEGIN:VTIMEZONE
TZID:America/Chicago
BEGIN:DAYLIGHT
TZOFFSETFROM:-0600
TZOFFSETTO:-0500
TZNAME:CDT
DTSTART:20160313T080000
END:DAYLIGHT
BEGIN:STANDARD
TZOFFSETFROM:-0500
TZOFFSETTO:-0600
TZNAME:CST
DTSTART:20161106T070000
END:STANDARD
BEGIN:DAYLIGHT
TZOFFSETFROM:-0600
TZOFFSETTO:-0500
TZNAME:CDT
DTSTART:20170312T080000
END:DAYLIGHT
BEGIN:STANDARD
TZOFFSETFROM:-0500
TZOFFSETTO:-0600
TZNAME:CST
DTSTART:20171105T070000
END:STANDARD
BEGIN:DAYLIGHT
TZOFFSETFROM:-0600
TZOFFSETTO:-0500
TZNAME:CDT
DTSTART:20180311T080000
END:DAYLIGHT
BEGIN:STANDARD
TZOFFSETFROM:-0500
TZOFFSETTO:-0600
TZNAME:CST
DTSTART:20181104T070000
END:STANDARD
END:VTIMEZONE
BEGIN:VEVENT
DTSTART;TZID=America/Chicago:20170513T100000
DTEND;TZID=America/Chicago:20170513T160000
DTSTAMP:20260423T005040
CREATED:20201007T165039Z
LAST-MODIFIED:20201007T215203Z
UID:10003132-1494669600-1494691200@sustain.auburn.edu
SUMMARY:Insider Outsider Art Festival
DESCRIPTION:The Second Annual Insider-Outsider Art Festival will be held at Southside Marketplace\\, home to a creative collective that includes Amsterdam Café\\, Perch Jewelry Studio\\, Mama Mocha’s\\, Auburn University Art Department Field Works Project\\, Willie’s Wings\\, Parlor 113 and Shenanigans Tattoo. The festival will feature an extensive juried collection of Southern artists. The festival is free and includes potters\\, welders\\, clothing designers\\, farmers\\, brewers and numerous musicians. For more information\\, please contact Hannah Birdsong at hannah@perchjewelrystudio.com or check out or website here: <a href=\'http://www.perchjewelrystudio.com/\'>http://www.perchjewelrystudio.com</a>
URL:https://sustain.auburn.edu/event/insider-outsider-art-festival-2/
LOCATION:Southside Marketplace
ATTACH;FMTTYPE=image/png:https://sustain.auburn.edu/wp-content/uploads/2020/10/Default-Event-jo5OOK.tmp_.png
GEO:32.598549;-85.480268
END:VEVENT
END:VCALENDAR