BEGIN:VCALENDAR
VERSION:2.0
PRODID:-//Office of Sustainability - ECPv6.15.15//NONSGML v1.0//EN
CALSCALE:GREGORIAN
METHOD:PUBLISH
X-WR-CALNAME:Office of Sustainability
X-ORIGINAL-URL:https://sustain.auburn.edu
X-WR-CALDESC:Events for Office of Sustainability
REFRESH-INTERVAL;VALUE=DURATION:PT1H
X-Robots-Tag:noindex
X-PUBLISHED-TTL:PT1H
BEGIN:VTIMEZONE
TZID:America/Chicago
BEGIN:DAYLIGHT
TZOFFSETFROM:-0600
TZOFFSETTO:-0500
TZNAME:CDT
DTSTART:20160313T080000
END:DAYLIGHT
BEGIN:STANDARD
TZOFFSETFROM:-0500
TZOFFSETTO:-0600
TZNAME:CST
DTSTART:20161106T070000
END:STANDARD
BEGIN:DAYLIGHT
TZOFFSETFROM:-0600
TZOFFSETTO:-0500
TZNAME:CDT
DTSTART:20170312T080000
END:DAYLIGHT
BEGIN:STANDARD
TZOFFSETFROM:-0500
TZOFFSETTO:-0600
TZNAME:CST
DTSTART:20171105T070000
END:STANDARD
BEGIN:DAYLIGHT
TZOFFSETFROM:-0600
TZOFFSETTO:-0500
TZNAME:CDT
DTSTART:20180311T080000
END:DAYLIGHT
BEGIN:STANDARD
TZOFFSETFROM:-0500
TZOFFSETTO:-0600
TZNAME:CST
DTSTART:20181104T070000
END:STANDARD
END:VTIMEZONE
BEGIN:VEVENT
DTSTART;TZID=America/Chicago:20170422T100000
DTEND;TZID=America/Chicago:20170422T140000
DTSTAMP:20260421T215247
CREATED:20201007T165054Z
LAST-MODIFIED:20201007T215219Z
UID:10003152-1492855200-1492869600@sustain.auburn.edu
SUMMARY:Climate Awareness Walk
DESCRIPTION:Auburn\'s Green Action Information Network (GAIN) is hosting \'For the Love of Science ~ A Climate Awareness Walk\' this coming Earth Day to celebrate and educate with a walk\\, a picnic\\, and some factually fun talks about \'Science\\, the Climate\\, the Earth and You.\'\nThere will be a walk through down to Toomer\'s Corner and back\\, followed by a community picnic. Guests are encouraged to bring their own food and drink. They may also brings signs made from recycled cardboard. At the picnic there will be talks\\, tables and booths from different local and state environmental groups set up for education and action. There will be a table with scientists who will answer questions about all things science (related to their field of expertise). \nThis family-friendly event with have an activity area for children in the \'Kid\'s Corner\' by the \'Hugging Tree.\' Jennifer Lolley the Curator of the Louise Kreher Forest Ecology Nature Preserve\\, and the Forest Friends Team will be bringing a few animal friends from the preserve\\, along with eco-games and other nature based activities.\nIf you would like to volunteer for the event or to contribute in another way\\, please contact the organizers at GAINAuburn@gmail.com or find them on <a href=\'https://www.facebook.com/gainauburn/\' target=\'_blank\'>Facebook</a>.
URL:https://sustain.auburn.edu/event/climate-awareness-walk-2/
LOCATION:Donald E. Davis Arboretum
CATEGORIES:Daytime
ATTACH;FMTTYPE=image/png:https://sustain.auburn.edu/wp-content/uploads/2020/10/GAIN-Event-vgpYoE.tmp_.png
GEO:32.593754;-85.484464
END:VEVENT
END:VCALENDAR