BEGIN:VCALENDAR
VERSION:2.0
PRODID:-//Office of Sustainability - ECPv6.15.15//NONSGML v1.0//EN
CALSCALE:GREGORIAN
METHOD:PUBLISH
X-WR-CALNAME:Office of Sustainability
X-ORIGINAL-URL:https://sustain.auburn.edu
X-WR-CALDESC:Events for Office of Sustainability
REFRESH-INTERVAL;VALUE=DURATION:PT1H
X-Robots-Tag:noindex
X-PUBLISHED-TTL:PT1H
BEGIN:VTIMEZONE
TZID:America/Chicago
BEGIN:DAYLIGHT
TZOFFSETFROM:-0600
TZOFFSETTO:-0500
TZNAME:CDT
DTSTART:20190310T080000
END:DAYLIGHT
BEGIN:STANDARD
TZOFFSETFROM:-0500
TZOFFSETTO:-0600
TZNAME:CST
DTSTART:20191103T070000
END:STANDARD
BEGIN:DAYLIGHT
TZOFFSETFROM:-0600
TZOFFSETTO:-0500
TZNAME:CDT
DTSTART:20200308T080000
END:DAYLIGHT
BEGIN:STANDARD
TZOFFSETFROM:-0500
TZOFFSETTO:-0600
TZNAME:CST
DTSTART:20201101T070000
END:STANDARD
BEGIN:DAYLIGHT
TZOFFSETFROM:-0600
TZOFFSETTO:-0500
TZNAME:CDT
DTSTART:20210314T080000
END:DAYLIGHT
BEGIN:STANDARD
TZOFFSETFROM:-0500
TZOFFSETTO:-0600
TZNAME:CST
DTSTART:20211107T070000
END:STANDARD
BEGIN:DAYLIGHT
TZOFFSETFROM:-0600
TZOFFSETTO:-0500
TZNAME:CDT
DTSTART:20220313T080000
END:DAYLIGHT
BEGIN:STANDARD
TZOFFSETFROM:-0500
TZOFFSETTO:-0600
TZNAME:CST
DTSTART:20221106T070000
END:STANDARD
BEGIN:DAYLIGHT
TZOFFSETFROM:-0600
TZOFFSETTO:-0500
TZNAME:CDT
DTSTART:20230312T080000
END:DAYLIGHT
BEGIN:STANDARD
TZOFFSETFROM:-0500
TZOFFSETTO:-0600
TZNAME:CST
DTSTART:20231105T070000
END:STANDARD
END:VTIMEZONE
BEGIN:VEVENT
DTSTART;TZID=America/Chicago:20220427T183000
DTEND;TZID=America/Chicago:20220427T203000
DTSTAMP:20260425T190507
CREATED:20220425T174935Z
LAST-MODIFIED:20260304T204938Z
UID:10003708-1651084200-1651091400@sustain.auburn.edu
SUMMARY:Free Film Event: Wild & Scenic Film Festival
DESCRIPTION:Join the Auburn University Department of Geosciences and the Citizen’s Climate Lobby for a free film showing to enjoy climate change and sustainability related short films! The event will take place at the Science Classroom Center Auditorium on April 27th from 6:30-8:30.
URL:https://sustain.auburn.edu/event/wild-scenic-film-festival-3/
LOCATION:Event Venue | Science Center Auditorium
CATEGORIES:Film
GEO:32.60086;-85.485738
END:VEVENT
BEGIN:VEVENT
DTSTART;TZID=America/Chicago:20220317T180000
DTEND;TZID=America/Chicago:20220317T190000
DTSTAMP:20260425T190507
CREATED:20220303T154642Z
LAST-MODIFIED:20220303T154934Z
UID:10003695-1647540000-1647543600@sustain.auburn.edu
SUMMARY:Citizens' Climate Lobby
DESCRIPTION:Please join Citizens’ Climate Higher Education on March 17\, 2022\, at 7:00 PM ET to learn about their Climate Lobby Approach led by Steffanie Munguía\, CCL Student Engagement Manager. \nHigher education is a large and powerful constituency that includes science and policy experts\, community leaders\, and young adults who will be most affected by climate change. Together they wield enormous intellectual\, political\, and economic capital. Citizens’ Climate Higher Education believes that higher education’s role as creators and disseminators of knowledge\, as well as its mission to educate responsible citizens\, puts it in a unique and powerful position as an advocate for climate action. \nRegister Here
URL:https://sustain.auburn.edu/event/citizens-climate-lobby/
LOCATION:Virtual Event | Check Event Page for Link\, United States
CATEGORIES:Registration Open,Seminar
GEO:38.7945952;-106.5348379
END:VEVENT
BEGIN:VEVENT
DTSTART;TZID=America/Chicago:20200613T120000
DTEND;TZID=America/Chicago:20200613T160000
DTSTAMP:20260425T190507
CREATED:20201007T164313Z
LAST-MODIFIED:20201007T214457Z
UID:10002634-1592049600-1592064000@sustain.auburn.edu
SUMMARY:Citizens' Climate Lobby Virtual Conference
DESCRIPTION:Join CCL’s virtual conference to learn about the path ahead for climate change policy.<ul>\n 	<li>Get updated on the prospect of climate change action from members of Congress\, journalists and other climate organizations.</li>\n 	<li>Get trained on how to engage your member of Congress and others in your community about climate change.</li>\n 	<li>Connect virtually with others from around the country who are concerned about climate change and working to get Congress to act on climate.</li>\n</ul>\n<p style='text-align: center;'><a href='https://www.eventbrite.com/e/june-2020-virtual-conference-registration-104351967544' target='_blank' rel='noopener noreferrer'>REGISTER FOR THIS EVENT</a></p>
URL:https://sustain.auburn.edu/event/citizens-climate-lobby-virtual-conference-2/
LOCATION:Virtual Event | Check Event Page for Link\, United States
CATEGORIES:Conference
GEO:38.7945952;-106.5348379
END:VEVENT
BEGIN:VEVENT
DTSTART;TZID=America/Chicago:20200425T130000
DTEND;TZID=America/Chicago:20200425T160000
DTSTAMP:20260425T190507
CREATED:20201007T164303Z
LAST-MODIFIED:20201007T214449Z
UID:10002606-1587819600-1587830400@sustain.auburn.edu
SUMMARY:Virtual Earth Day: Uniting From Home with Katharine Hayhoe
DESCRIPTION:Please join Citizens’ Climate Lobby (CCL) to celebrate the 50th anniversary of Earth Day\, with a presentation by world-renowned climate scientist Dr. Katharine Hayhoe. Not all of us are able to focus on climate change right now. But for those who can\, we’ll hear from climate leaders\, learn about quick actions we can take to help climate change\, and get trained. You can attend this virtual Earth Day event from home\, using this <a href='https://citizensclimate.zoom.us/j/563867729'>link</a> or by dialing 1-646-588-8656. Please join us\, and (virtually) bring a friend!
URL:https://sustain.auburn.edu/event/virtual-earth-day-uniting-from-home-with-katharine-hayhoe-2/
CATEGORIES:Talk
END:VEVENT
END:VCALENDAR