BEGIN:VCALENDAR
VERSION:2.0
PRODID:-//Office of Sustainability - ECPv6.15.15//NONSGML v1.0//EN
CALSCALE:GREGORIAN
METHOD:PUBLISH
X-WR-CALNAME:Office of Sustainability
X-ORIGINAL-URL:https://sustain.auburn.edu
X-WR-CALDESC:Events for Office of Sustainability
REFRESH-INTERVAL;VALUE=DURATION:PT1H
X-Robots-Tag:noindex
X-PUBLISHED-TTL:PT1H
BEGIN:VTIMEZONE
TZID:America/Chicago
BEGIN:DAYLIGHT
TZOFFSETFROM:-0600
TZOFFSETTO:-0500
TZNAME:CDT
DTSTART:20210314T080000
END:DAYLIGHT
BEGIN:STANDARD
TZOFFSETFROM:-0500
TZOFFSETTO:-0600
TZNAME:CST
DTSTART:20211107T070000
END:STANDARD
BEGIN:DAYLIGHT
TZOFFSETFROM:-0600
TZOFFSETTO:-0500
TZNAME:CDT
DTSTART:20220313T080000
END:DAYLIGHT
BEGIN:STANDARD
TZOFFSETFROM:-0500
TZOFFSETTO:-0600
TZNAME:CST
DTSTART:20221106T070000
END:STANDARD
BEGIN:DAYLIGHT
TZOFFSETFROM:-0600
TZOFFSETTO:-0500
TZNAME:CDT
DTSTART:20230312T080000
END:DAYLIGHT
BEGIN:STANDARD
TZOFFSETFROM:-0500
TZOFFSETTO:-0600
TZNAME:CST
DTSTART:20231105T070000
END:STANDARD
END:VTIMEZONE
BEGIN:VEVENT
DTSTART;TZID=America/Chicago:20221019T093000
DTEND;TZID=America/Chicago:20221019T093000
DTSTAMP:20260422T211220
CREATED:20221003T180155Z
LAST-MODIFIED:20221003T180155Z
UID:10002991-1666171800-1666171800@sustain.auburn.edu
SUMMARY:Study Abroad Fair
DESCRIPTION:The fair will showcase the diverse program types\, which include coursework\, internship/work\, volunteer/service-learning\, research/fieldwork\, exchange\, and experiential programs. All Auburn University students are welcome and encouraged to attend. \n“The Study Abroad Fair provides students with the opportunity to explore the immense amount of international opportunities offered at Auburn\,” said Deborah Weiss\, director of Auburn Abroad. “If a student has even the slightest interest in studying abroad\, the fair is the perfect occasion to learn about the programs and ask any questions.” \nThere will be more than 15 exhibitors representing Auburn custom-led and exchange programs\, and more than 20 affiliate program providers/universities at the event. Attendees will be able to speak with representatives from the various study abroad programs\, hear personal testimonies from previous participants\, and learn about scholarship possibilities. \nFor more information on Auburn Abroad and to apply for a study abroad program\, visit auburn.edu/studyabroad.
URL:https://sustain.auburn.edu/event/study-abroad-fair-3/
LOCATION:Melton Student Center Ballroom\, 255 Heisman Drive\, Auburn\, AL\, 36849\, United States
CATEGORIES:On-Campus,Students,Talk
ATTACH;FMTTYPE=image/png:https://sustain.auburn.edu/wp-content/uploads/2022/10/aburn-abroad-event.png
GEO:32.6022524;-85.4869745
X-APPLE-STRUCTURED-LOCATION;VALUE=URI;X-ADDRESS=Melton Student Center Ballroom 255 Heisman Drive Auburn AL 36849 United States;X-APPLE-RADIUS=500;X-TITLE=255 Heisman Drive:geo:-85.4869745,32.6022524
END:VEVENT
END:VCALENDAR