BEGIN:VCALENDAR
VERSION:2.0
PRODID:-//Office of Sustainability - ECPv6.15.15//NONSGML v1.0//EN
CALSCALE:GREGORIAN
METHOD:PUBLISH
X-ORIGINAL-URL:https://sustain.auburn.edu
X-WR-CALDESC:Events for Office of Sustainability
REFRESH-INTERVAL;VALUE=DURATION:PT1H
X-Robots-Tag:noindex
X-PUBLISHED-TTL:PT1H
BEGIN:VTIMEZONE
TZID:America/Chicago
BEGIN:DAYLIGHT
TZOFFSETFROM:-0600
TZOFFSETTO:-0500
TZNAME:CDT
DTSTART:20230312T080000
END:DAYLIGHT
BEGIN:STANDARD
TZOFFSETFROM:-0500
TZOFFSETTO:-0600
TZNAME:CST
DTSTART:20231105T070000
END:STANDARD
BEGIN:DAYLIGHT
TZOFFSETFROM:-0600
TZOFFSETTO:-0500
TZNAME:CDT
DTSTART:20240310T080000
END:DAYLIGHT
BEGIN:STANDARD
TZOFFSETFROM:-0500
TZOFFSETTO:-0600
TZNAME:CST
DTSTART:20241103T070000
END:STANDARD
BEGIN:DAYLIGHT
TZOFFSETFROM:-0600
TZOFFSETTO:-0500
TZNAME:CDT
DTSTART:20250309T080000
END:DAYLIGHT
BEGIN:STANDARD
TZOFFSETFROM:-0500
TZOFFSETTO:-0600
TZNAME:CST
DTSTART:20251102T070000
END:STANDARD
END:VTIMEZONE
BEGIN:VEVENT
DTSTART;VALUE=DATE:20241001
DTEND;VALUE=DATE:20241002
DTSTAMP:20260425T114738
CREATED:20240926T174215Z
LAST-MODIFIED:20240926T175128Z
UID:10004743-1727740800-1727827199@sustain.auburn.edu
SUMMARY:Outstanding Sustainability Essay Contest
DESCRIPTION:University Writing and the Academic Sustainability Program seek submissions for the Outstanding Sustainability Essay Award. This award recognizes exceptional student writing in prose with a focus on sustainability. \nThe essay prompts reflect themes in Auburn’s Common Book for 2024\, The Music of Bees by Eileen Garvin. As you reflect\, use the Sustainability Compass to orient your writing toward the interrelations of nature\, society\, economy\, and wellbeing. \nPlease read the full call for submissions here and submit your essay here by Oct. 1. Winners will be honored at a keynote address by Eileen Garvin.
URL:https://sustain.auburn.edu/event/outstanding-sustainability-essay-contest/
CATEGORIES:Competition,Deadline,Students
ATTACH;FMTTYPE=image/jpeg:https://sustain.auburn.edu/wp-content/uploads/2022/02/sustainabilitycompass-design1-CompassEducation-web-scaled.jpg
ORGANIZER;CN="Event Organizer | Academic Sustainability Program":MAILTO:srhamilton@auburn.edu
END:VEVENT
BEGIN:VEVENT
DTSTART;TZID=America/Chicago:20241002T173000
DTEND;TZID=America/Chicago:20241002T190000
DTSTAMP:20260425T114738
CREATED:20240812T194818Z
LAST-MODIFIED:20240923T154804Z
UID:10004676-1727890200-1727895600@sustain.auburn.edu
SUMMARY:Electric Vehicle Showcase
DESCRIPTION:Join the Office of Sustainability with our cohosts Alabama Clean Fuels Coalition and AU Parking Services\, at the Electric Vehicle Showcase and learn how you can enjoy the economical & fun experience of owning an electric vehicle.  Electric bikes and autos will be brought by actual owners. This will be an educational event\, not a sales event\, so bring your questions and talk with actual owners of a variety of makes and models. See why electric vehicles are the fastest-growing transportation segment. It is a fun and informative time\, so come kick the tires and ask questions! \nElectric vehicle owners register online if they want to be a part of the showcase. \nThis event will take place on Woodfield Drive between South College Street and South Donahue Drive in the Gogue Performing Arts Center parking lot.
URL:https://sustain.auburn.edu/event/electric-vehicle-showcase-4/
LOCATION:The Event Venue | Jay and Susie Gogue Performing Arts Center\, Woodfield Dr\, Auburn\, AL\, United States
CATEGORIES:Cycle September,Gathering,On Campus,Social Event
ATTACH;FMTTYPE=image/png:https://sustain.auburn.edu/wp-content/uploads/2022/09/electric-vehicle-event-2-1.png
GEO:32.589299529246;-85.486463819324
X-APPLE-STRUCTURED-LOCATION;VALUE=URI;X-ADDRESS=The Event Venue | Jay and Susie Gogue Performing Arts Center Woodfield Dr Auburn AL United States;X-APPLE-RADIUS=500;X-TITLE=Woodfield Dr:geo:-85.486463819324,32.589299529246
END:VEVENT
BEGIN:VEVENT
DTSTART;TZID=America/Chicago:20241003T160000
DTEND;TZID=America/Chicago:20241003T180000
DTSTAMP:20260425T114738
CREATED:20240926T184740Z
LAST-MODIFIED:20240926T184740Z
UID:10004747-1727971200-1727978400@sustain.auburn.edu
SUMMARY:First 56 Event: The Native American Indigenous Alliance
DESCRIPTION:The Native American and Indigenous Alliance (NAIA) invites the community to celebrate the first 56 days of the semester on the lawn at Cater Hall. The event will feature Danielle Fixico\, instructor and artist at the College of the Muscogee Nation in Okmulgee\, Oklahoma. Fixico’s work has been featured in the Tribal College Journal and publications from the National Indigenous Women’s Resource Center and is used for the National Day of Awareness for Missing and Murdered Indigenous Women. The Mississippi Choctaw Dancers will perform and demonstrate traditional cultural dances. \nThe event is free and open to all and is co-sponsored by the College of Liberal Arts and the Caroline Marshall Draughon Center for the Arts & Humanities. \nTo lean more about this event and contacts\, please visit the College of Liberal Arts website.\, 
URL:https://sustain.auburn.edu/event/first-56-event-the-native-american-indigenous-alliance/
LOCATION:Event Venue | Cater Hall Lawn
CATEGORIES:Anyone,Celebration,Evening,Gathering,On Campus,Performance,Social Event,Staff,Students,Talk
ATTACH;FMTTYPE=image/png:https://sustain.auburn.edu/wp-content/uploads/2023/02/College-of-Liberal-Arts-Event.png
GEO:32.603823;-85.484842
END:VEVENT
BEGIN:VEVENT
DTSTART;TZID=America/Chicago:20241004T050000
DTEND;TZID=America/Chicago:20241004T190000
DTSTAMP:20260425T114738
CREATED:20241002T232153Z
LAST-MODIFIED:20241002T232323Z
UID:10004750-1728018000-1728068400@sustain.auburn.edu
SUMMARY:Taiwan Center -Taiwan Night
DESCRIPTION:Join the AU-NCKU Taiwan Center at Taiwan Night and experience what a Taiwanese night market might be like in Taiwan! There will be games\, prizes and free food (+ free boba tea from Kung Fu Tea)! \nIf you haven’t been to a traditional Taiwanese Night market\, don’t miss out and come join in on the fun! We hope to see you there!
URL:https://sustain.auburn.edu/event/taiwan-center-taiwan-night/
LOCATION:Event Venue | Foy Hall – Room 208\, United States
CATEGORIES:Celebration,Evening,Faculty,Gathering,Graduate Students,On Campus,Social Event,Staff,Students
GEO:32.604839;-85.484783
END:VEVENT
BEGIN:VEVENT
DTSTART;TZID=America/Chicago:20241004T110000
DTEND;TZID=America/Chicago:20241004T140000
DTSTAMP:20260425T114738
CREATED:20240820T190521Z
LAST-MODIFIED:20240820T193326Z
UID:10004666-1728039600-1728050400@sustain.auburn.edu
SUMMARY:Mobile Bike Shop
DESCRIPTION:No registration required. Don’t have time to stop by the Auburn Outdoors bike shop at The Rec? Don’t worry – trained and experienced Bike Techs are on campus to provide repairs\, maintenance\, and tune-ups on your way to class. Follow @auburnrecwellness on Instagram to see where they will be each month or view our calendar! \n 
URL:https://sustain.auburn.edu/event/mobile-bike-shop-2-3/
LOCATION:Event Venue | Haley Concourse\, United States
CATEGORIES:Anyone
GEO:32.60282;-85.48607
END:VEVENT
BEGIN:VEVENT
DTSTART;TZID=America/Chicago:20241005T080000
DTEND;TZID=America/Chicago:20241005T110000
DTSTAMP:20260425T114738
CREATED:20240919T153058Z
LAST-MODIFIED:20240919T153213Z
UID:10004684-1728115200-1728126000@sustain.auburn.edu
SUMMARY:Ride and Seek at Chewacla State Park
DESCRIPTION:Join the Auburn Bike Committee for Ride and Seek. Ride and Seek is an event designed to teach kids how to ride bicycles and have fun. Designed for kids in grades K – 8\, riders and their parents will get safety tips from experts and test their skills on mountain bike trails and paved trails. There will be free prizes and a raffle for some great bike equipment. Each child must have a guardian or parent registered. \nParticipants should pre-register on the Auburn Parks and Recreation Website by September 25th at 5:00 PM to receive a t – shirt. $15 per person.
URL:https://sustain.auburn.edu/event/ride-and-seek-at-chewacla-state-park/
LOCATION:Event Venue | Chewacla State Park\, 124 Shell Toomer Pkwy\, Auburn\, AL\, 36830\, United States
CATEGORIES:Anyone,Daytime,Exercise,Gathering,Off Campus,Registration Open
ATTACH;FMTTYPE=image/png:https://sustain.auburn.edu/wp-content/uploads/2021/04/Auburn-Bicycle-Committee-Logo.png
GEO:32.5545931;-85.4822295
X-APPLE-STRUCTURED-LOCATION;VALUE=URI;X-ADDRESS=Event Venue | Chewacla State Park 124 Shell Toomer Pkwy Auburn AL 36830 United States;X-APPLE-RADIUS=500;X-TITLE=124 Shell Toomer Pkwy:geo:-85.4822295,32.5545931
END:VEVENT
BEGIN:VEVENT
DTSTART;VALUE=DATE:20241007
DTEND;VALUE=DATE:20241010
DTSTAMP:20260425T114738
CREATED:20240718T140208Z
LAST-MODIFIED:20240718T140449Z
UID:10004658-1728259200-1728518399@sustain.auburn.edu
SUMMARY:The Sustainable Future of Cross-Laminated Timber in the South: Grow. Design. Build.
DESCRIPTION:This 3-day premier conference on cross-laminated timber will feature renowned forestry\, building science\, engineering\, architecture\, and design experts who will share the latest research\, trends\, and developments in the South. Session tracks will cater to the diverse interests of designers\, builders\, contractors\, forestry professionals\, academics\, landowners\, manufacturers\, and suppliers. \nRegister today to stay abreast of the latest opportunities and advancements in CLT and sustainable mass timber products!
URL:https://sustain.auburn.edu/event/the-sustainable-future-of-cross-laminated-timber-in-the-south-grow-design-build/
LOCATION:Event Venue | Auburn University Hotel and Conference Center\, 241 S. College St\, Auburn\, AL\, 36830\, United States
CATEGORIES:Anyone
GEO:32.6029913;-85.4809402
X-APPLE-STRUCTURED-LOCATION;VALUE=URI;X-ADDRESS=Event Venue | Auburn University Hotel and Conference Center 241 S. College St Auburn AL 36830 United States;X-APPLE-RADIUS=500;X-TITLE=241 S. College St:geo:-85.4809402,32.6029913
END:VEVENT
BEGIN:VEVENT
DTSTART;TZID=America/Chicago:20241007T170000
DTEND;TZID=America/Chicago:20241007T183000
DTSTAMP:20260425T114738
CREATED:20240718T161949Z
LAST-MODIFIED:20240718T161949Z
UID:10004673-1728320400-1728325800@sustain.auburn.edu
SUMMARY:Oars and S'mores
DESCRIPTION:Join Auburn Outdoors for a night of S’mores and outdoor fun! We will be fixing up bikes with our mobile bike shop\, roasting s’mores\, and talking about all the amazing outdoor trips we have planned for the semester. For more information visit the Rec’s Instagram – @AuburnRecandWellness! \n  \n 
URL:https://sustain.auburn.edu/event/oars-and-smores/
LOCATION:Event Venue | Campus Green\, 500 Heisman Dr\, Auburn\, AL\, 36849\, United States
CATEGORIES:Students
GEO:32.6017874;-85.4877659
X-APPLE-STRUCTURED-LOCATION;VALUE=URI;X-ADDRESS=Event Venue | Campus Green 500 Heisman Dr Auburn AL 36849 United States;X-APPLE-RADIUS=500;X-TITLE=500 Heisman Dr:geo:-85.4877659,32.6017874
END:VEVENT
BEGIN:VEVENT
DTSTART;TZID=America/Chicago:20241012T080000
DTEND;TZID=America/Chicago:20241012T120000
DTSTAMP:20260425T114738
CREATED:20241002T222143Z
LAST-MODIFIED:20241002T222143Z
UID:10004748-1728720000-1728734400@sustain.auburn.edu
SUMMARY:Harvest Market
DESCRIPTION:City Market presents Harvest Market! \nThe best farmer’s market\, City Market\, is back for the fall season! For this market\, the Auburn Parks and Recreation Department partners with local growers and artisans to help sell their fresh\, local and handmade products to community members.  To learn more about Harvest Market\, click here to visit the post on the City of Auburn’s website!
URL:https://sustain.auburn.edu/event/harvest-market-5/
LOCATION:Event Venue | Town Creek Park\, United States
CATEGORIES:Anyone,Daytime,Market,Off Campus
ATTACH;FMTTYPE=image/png:https://sustain.auburn.edu/wp-content/uploads/2020/10/City-of-Auburn-Logo-V08K3m.tmp_.png
GEO:32.5844913206;-85.4756279188
END:VEVENT
BEGIN:VEVENT
DTSTART;TZID=America/Chicago:20241015T190000
DTEND;TZID=America/Chicago:20241015T200000
DTSTAMP:20260425T114738
CREATED:20240820T200951Z
LAST-MODIFIED:20260326T194626Z
UID:10004680-1729018800-1729022400@sustain.auburn.edu
SUMMARY:"Hope is Power: Pathways to Living Democracy" a Talk by Frances Moore Lappé 
DESCRIPTION:Hope is Power: Pathways to Living Democracy\nDoing Our Part to Sustain Democracy\nAre you curious about the intersection between democracy and sustainability? Don’t miss an extraordinary opportunity to hear from the renowned author and activist Frances Moore Lappé at Auburn University! \nIn her captivating talk\, “Hope is Power: Pathways to Living Democracy\,” Ms. Lappé will take you on her journey that started with addressing food scarcity and diet and led to unraveling the root causes of societal challenges. With her profound insights and compelling storytelling\, she will challenge us to see the world not “as it is” but “as we are\,” revealing the powerful filters that shape our perceptions and actions.  \nDiscover how private interests\, political barriers\, and disinformation impede true democracy and learn about inspiring pathways to empowerment. Ms. Lappé will share stories from around the globe\, showcasing democratic reform movements and state and city initiatives that energize and motivate democracy-strengthening action. \nThis is an exceptional chance to engage with a visionary thinker who understands the power of fact-based hope and collective action to create a better world. Whether you’re a student\, faculty member\, or community resident\, this talk is designed to inspire and equip you with the knowledge and motivation needed to make a tangible difference. \nTake advantage of this opportunity to participate in a conversation that could change your perspective and empower your actions!\n_____________\nFollowing the talk\, Ms. Lappé will sign books. Thanks to Well Red\, copies of three of her works—Daring Democracy\, Hope’s Edge\, and Diet for a Small Planet\, 50th Anniversary Edition—will be available for purchase at the event.  \nFree parking is available in campus lots after 5:30 PM. The closest locations are levels 2 and 3 of the South College Parking Deck\, the Draughon Library Parking Deck\, and the lot in front of Comer Hall. The Hotel at Auburn University has valet parking.\n______________\nThis year’s Sustainability Speaker Series is a collaborative effort between the Office of Sustainability\, Caroline Marshall Draughon Center for the Arts & Humanities\, Academic Sustainability Program\, Department of Sociology\, Anthropology\, & Social Work\, Hunger Solutions Institute\, League of Women Voters of East Alabama\,  Master of Community Planning\, and the School of Communication and Journalism.
URL:https://sustain.auburn.edu/event/sustainability-speaker-series-frances-moore-lappe/
LOCATION:Event Venue | Auburn University Hotel and Conference Center\, 241 S. College St.\, Auburn\, AL\, 36830
CATEGORIES:Anyone,Evening,On Campus,Talk
ATTACH;FMTTYPE=image/png:https://sustain.auburn.edu/wp-content/uploads/2024/08/Sustainability-Speaker-Series-Event.png
GEO:32.6029913;-85.4809402
X-APPLE-STRUCTURED-LOCATION;VALUE=URI;X-ADDRESS=Event Venue | Auburn University Hotel and Conference Center 241 S. College St. Auburn AL 36830;X-APPLE-RADIUS=500;X-TITLE=241 S. College St.:geo:-85.4809402,32.6029913
END:VEVENT
BEGIN:VEVENT
DTSTART;TZID=America/Chicago:20241019T090000
DTEND;TZID=America/Chicago:20241019T140000
DTSTAMP:20260425T114738
CREATED:20241014T172353Z
LAST-MODIFIED:20241014T172542Z
UID:10004751-1729328400-1729346400@sustain.auburn.edu
SUMMARY:AAES Plant Sale
DESCRIPTION:Join Alabama Agricultural Experiment Station (AAES) for a plant sale at Auburn University’s Plant Science Research Center! Their plants will include native perennials\, trees\, shrubs\, tropical house plants\, and more! \nThe sale will be located on Woodfield Dr. between the Gouge Performing Arts Center and Donahue Drive.
URL:https://sustain.auburn.edu/event/aaes-plant-sale/
LOCATION:Event Venue | Auburn University Plant Science Research Center
CATEGORIES:Anyone,Daytime,Market
GEO:32.589449;-85.479165
END:VEVENT
BEGIN:VEVENT
DTSTART;TZID=America/Chicago:20241021T090000
DTEND;TZID=America/Chicago:20241021T150000
DTSTAMP:20260425T114738
CREATED:20240206T202802Z
LAST-MODIFIED:20240206T202802Z
UID:10004496-1729501200-1729522800@sustain.auburn.edu
SUMMARY:Voter registration deadline
DESCRIPTION:Today is the voter registration deadline for the 2024 General Election. \nTo learn more about voting\, you can visit the Office of Sustainability’s voting page or the Alabama Secretary of State website. \nPLEASE NOTE: The voting information on our website could be subject to error. It is good practice to gain information from an official government source to ensure credibility and accuracy.
URL:https://sustain.auburn.edu/event/voter-registration-deadline-2/
LOCATION:Event Venue | Various Locations
CATEGORIES:Administration,All Employees,Alumni,Anyone,Voting
END:VEVENT
BEGIN:VEVENT
DTSTART;TZID=America/Chicago:20241022T180000
DTEND;TZID=America/Chicago:20241022T180000
DTSTAMP:20260425T114738
CREATED:20241002T230618Z
LAST-MODIFIED:20241002T230649Z
UID:10004749-1729620000-1729620000@sustain.auburn.edu
SUMMARY:Social Justice Lecture - Moving the Needle: What Tight Labor Markets Do for the Poor
DESCRIPTION:The Department of Sociology\, Anthropology\, & Social Work Presents “Moving the Needle: What Tight Labor Markets Do for the Poor” by Katherine S. Newman\, Ph.D. and Elisabeth Jacobs\, Ph.D. \nWhat happens when jobs are plentiful\, and workers are hard to come by? The authors discuss positive consequences of tight labor markets along with the downside of overheated economies and offer a call to implement policies that will improve job prospects and life chances of our most vulnerable households. \nSponsored By the Department of History\, Department of Music\, Department of Political Science\, Department of Psychological Sciences\, Department of Sociology\, Anthropology & Social Work\, Department of Theatre and Dance\, School of Communication and Journalism\, World Languages\, Literatures and Cultures\, Agricultural Economics & Rural Sociology\, and the College of Liberal Arts
URL:https://sustain.auburn.edu/event/social-justice-lecture-moving-the-needle-what-tight-labor-markets-do-for-the-poor/
LOCATION:Event Venue | Haley Center – Room 2370\, Thach Concourse\, Auburn\, AL\, 36849\, United States
CATEGORIES:Anyone,On Campus,Talk
ATTACH;FMTTYPE=image/png:https://sustain.auburn.edu/wp-content/uploads/2023/02/College-of-Liberal-Arts-Event.png
GEO:32.6033955;-85.4867928
X-APPLE-STRUCTURED-LOCATION;VALUE=URI;X-ADDRESS=Event Venue | Haley Center – Room 2370 Thach Concourse Auburn AL 36849 United States;X-APPLE-RADIUS=500;X-TITLE=Thach Concourse:geo:-85.4867928,32.6033955
END:VEVENT
BEGIN:VEVENT
DTSTART;TZID=America/Chicago:20241022T190000
DTEND;TZID=America/Chicago:20241022T200000
DTSTAMP:20260425T114738
CREATED:20240718T153142Z
LAST-MODIFIED:20240723T133611Z
UID:10004672-1729623600-1729627200@sustain.auburn.edu
SUMMARY:Common Book Keynote with Author Eileen Garvin: The Music of Bees\, with Book Signing to Follow
DESCRIPTION:Each Fall\, the Auburn Family reads our common book and participates in activities to share new perspectives\, discuss important themes\, and learn from one another. Join the Office of the Provost on October 22 for the 2024 Common Book Author Keynote and Book Signing! The fall 2024 book is The Music of Bees. \nThe Keynote will be from 7:00 – 8:00 PM\, followed by the Book Signing which will end around 9:30 PM. \nThe event will be held in the Student Activities Center Auditorium located behind the Martin Aquatics Center. \n 
URL:https://sustain.auburn.edu/event/common-book-keynote-and-books-signing-with-author-eileen-garvin-the-music-of-bees/
LOCATION:Event Venue | Student Activities Center
END:VEVENT
BEGIN:VEVENT
DTSTART;TZID=America/Chicago:20241024T183000
DTEND;TZID=America/Chicago:20241024T183000
DTSTAMP:20260425T114738
CREATED:20241022T184559Z
LAST-MODIFIED:20241022T185029Z
UID:10004753-1729794600-1729794600@sustain.auburn.edu
SUMMARY:Science Pub "Lessons of Life: Told from the Wings of a Butterfly"
DESCRIPTION:Join Auburn University Outreach at John Emerald Distilling Co. in Opelika for a presentation by Dr. Brian Counterman\, a professor in the Department of Biological Sciences and a curator of the AU Museum of Natural History. \nThe story of butterflies started nearly 100 million years ago\, not far from where we’ll meet. Their brilliantly colored wings have always fascinated and perplexed us — how has such a diversity of beautifully complex organisms come to exist? \nCome hear the story of the origin of butterflies\, and how Alabama and its scientists have played pivotal roles in shaping our understanding of butterfly diversification and the origin of species. This event is free and open to all ages (with parent discretion)\, no registration necessary.
URL:https://sustain.auburn.edu/event/science-pub-lessons-of-life-told-from-the-wings-of-a-butterfly/
LOCATION:Event Venue | John Emerald Distillery\, 706 N Railroad Ave\, Opelika\, AL\, 36801\, United States
CATEGORIES:Anyone,Gathering,Off Campus,Social Event,Talk
ATTACH;FMTTYPE=image/png:https://sustain.auburn.edu/wp-content/uploads/2020/10/Science-Pub-Event-ip9Pny.tmp_.png
ORGANIZER;CN="Event Organizer | Auburn University Outreach":MAILTO:outreach@auburn.edu
GEO:32.6493589;-85.3791347
X-APPLE-STRUCTURED-LOCATION;VALUE=URI;X-ADDRESS=Event Venue | John Emerald Distillery 706 N Railroad Ave Opelika AL 36801 United States;X-APPLE-RADIUS=500;X-TITLE=706 N Railroad Ave:geo:-85.3791347,32.6493589
END:VEVENT
BEGIN:VEVENT
DTSTART;TZID=America/Chicago:20241029T090000
DTEND;TZID=America/Chicago:20241029T150000
DTSTAMP:20260425T114738
CREATED:20240206T203201Z
LAST-MODIFIED:20240206T203201Z
UID:10004497-1730192400-1730214000@sustain.auburn.edu
SUMMARY:Last day to apply for an absentee ballot by mail DEADLINE
DESCRIPTION:Today is the last day to apply for an absentee ballot by mail for the 2024 General Election. \nTo learn more about voting\, you can visit the Office of Sustainability’s voting page or the Alabama Secretary of State website. \nPLEASE NOTE: The voting information on our website could be subject to error. It is good practice to gain information from an official government source to ensure credibility and accuracy.
URL:https://sustain.auburn.edu/event/last-day-to-apply-for-an-absentee-ballot-by-mail-deadline-2/
LOCATION:Event Venue | Various Locations
CATEGORIES:Administration,All Employees,Alumni,Anyone,Voting
END:VEVENT
BEGIN:VEVENT
DTSTART;TZID=America/Chicago:20241031T090000
DTEND;TZID=America/Chicago:20241031T150000
DTSTAMP:20260425T114738
CREATED:20240206T203534Z
LAST-MODIFIED:20240206T203713Z
UID:10004498-1730365200-1730386800@sustain.auburn.edu
SUMMARY:Last day to apply for an absentee ballot in person DEADLINE
DESCRIPTION:Today is the last day to apply for an absentee ballot in person for the 2024 General Election. \nTo learn more about voting\, you can visit the Office of Sustainability’s voting page or the Alabama Secretary of State website. \nPLEASE NOTE: The voting information on our website could be subject to error. It is good practice to gain information from an official government source to ensure credibility and accuracy.
URL:https://sustain.auburn.edu/event/last-day-to-apply-for-an-absentee-ballot-in-person-deadline/
LOCATION:Event Venue | Various Locations
CATEGORIES:Administration,All Employees,Alumni,Anyone,Voting
END:VEVENT
END:VCALENDAR