BEGIN:VCALENDAR
VERSION:2.0
PRODID:-//Office of Sustainability - ECPv6.15.15//NONSGML v1.0//EN
CALSCALE:GREGORIAN
METHOD:PUBLISH
X-ORIGINAL-URL:https://sustain.auburn.edu
X-WR-CALDESC:Events for Office of Sustainability
REFRESH-INTERVAL;VALUE=DURATION:PT1H
X-Robots-Tag:noindex
X-PUBLISHED-TTL:PT1H
BEGIN:VTIMEZONE
TZID:America/Chicago
BEGIN:DAYLIGHT
TZOFFSETFROM:-0600
TZOFFSETTO:-0500
TZNAME:CDT
DTSTART:20230312T080000
END:DAYLIGHT
BEGIN:STANDARD
TZOFFSETFROM:-0500
TZOFFSETTO:-0600
TZNAME:CST
DTSTART:20231105T070000
END:STANDARD
BEGIN:DAYLIGHT
TZOFFSETFROM:-0600
TZOFFSETTO:-0500
TZNAME:CDT
DTSTART:20240310T080000
END:DAYLIGHT
BEGIN:STANDARD
TZOFFSETFROM:-0500
TZOFFSETTO:-0600
TZNAME:CST
DTSTART:20241103T070000
END:STANDARD
BEGIN:DAYLIGHT
TZOFFSETFROM:-0600
TZOFFSETTO:-0500
TZNAME:CDT
DTSTART:20250309T080000
END:DAYLIGHT
BEGIN:STANDARD
TZOFFSETFROM:-0500
TZOFFSETTO:-0600
TZNAME:CST
DTSTART:20251102T070000
END:STANDARD
END:VTIMEZONE
BEGIN:VEVENT
DTSTART;TZID=America/Chicago:20240304T090000
DTEND;TZID=America/Chicago:20240304T150000
DTSTAMP:20260423T214457
CREATED:20240206T184933Z
LAST-MODIFIED:20240206T184954Z
UID:10004489-1709542800-1709564400@sustain.auburn.edu
SUMMARY:Last Day to Hand-Deliver Absentee Ballot: DEADLINE
DESCRIPTION:Today is the last day to hand-deliver an absentee ballot in Alabama for the 2024 Primary Election. To learn more about voting\, you can visit the Office of Sustainability’s voting page or the Alabama Secretary of State website. \nPLEASE NOTE: The voting information on our website could be subject to error. It is good practice to gain information from an official government source to ensure credibility and accuracy.
URL:https://sustain.auburn.edu/event/last-day-to-hand-deliver-absentee-ballot-deadline/
LOCATION:Event Venue | Various Locations
CATEGORIES:Administration,All Employees,Alumni,Anyone,Voting
END:VEVENT
BEGIN:VEVENT
DTSTART;VALUE=DATE:20240305
DTEND;VALUE=DATE:20240306
DTSTAMP:20260423T214457
CREATED:20240209T141656Z
LAST-MODIFIED:20240209T141656Z
UID:10004502-1709596800-1709683199@sustain.auburn.edu
SUMMARY:VOTING DAY!! Alabama Primary Elections
DESCRIPTION:VOTE ON ELECTION DAY \nPolling places will be open from 7 AM — 7 PM on Election Day: Tuesday\, March 5\, 2024. Click here to find your Election Day polling location. \nVOTER ID REQUIREMENTS\nTo vote in person in Alabama\, you must show one form of accepted photo ID. Click here to see which forms of identification are accepted. \nYOU HAVE THE RIGHT TO VOTE\nIf you have any problems voting\, call or text the nonpartisan Election Protection Hotline: 866-OUR-VOTE (1-866-687-8683). You can also chat with Election Protection here. \nLinks above from vote.org. \nVisit aub.ie/vote for more information.
URL:https://sustain.auburn.edu/event/voting-day-alabama-primary-elections/
CATEGORIES:Voting
END:VEVENT
BEGIN:VEVENT
DTSTART;TZID=America/Chicago:20240305T090000
DTEND;TZID=America/Chicago:20240305T150000
DTSTAMP:20260423T214457
CREATED:20240206T190710Z
LAST-MODIFIED:20240206T190710Z
UID:10004490-1709629200-1709650800@sustain.auburn.edu
SUMMARY:Absentee ballots returned by mail must be received by noon: DEADLINE
DESCRIPTION:Absentee ballots returned by mail must be received by noon in Alabama (except for persons casting absentee ballots pursuant to the Uniformed and Overseas Citizens Absentee Voting Act (UOCAVA voters)) for the 2024 Primary Election. To learn more about voting\, you can visit the Office of Sustainability’s voting page or the Alabama Secretary of State website. \nPLEASE NOTE: The voting information on our website could be subject to error. It is good practice to gain information from an official government source to ensure credibility and accuracy.
URL:https://sustain.auburn.edu/event/absentee-ballots-returned-by-mail-must-be-received-by-noon-deadline/
LOCATION:Event Venue | Various Locations
CATEGORIES:Administration,All Employees,Alumni,Anyone,Voting
END:VEVENT
BEGIN:VEVENT
DTSTART;TZID=America/Chicago:20240313T110000
DTEND;TZID=America/Chicago:20240313T130000
DTSTAMP:20260423T214457
CREATED:20240227T175956Z
LAST-MODIFIED:20240227T175956Z
UID:10004508-1710327600-1710334800@sustain.auburn.edu
SUMMARY:Free Lunch Seminar for International Women's Day
DESCRIPTION:The International Cultural Center (ICC) in the Office of International Programs and the Women and Gender Studies Program are hosting a free lunch seminar to recognize International Women’s Day. The seminar will consist of a panel of Auburn University and community members in which the audience is encouraged to interact\, and a meal will be provided. \nIn addition to the celebration of International Women’s Day\, ICC’s Year of Indonesia will also be recognized through the appreciation of Indonesian artifacts and artwork. \nThe event will take place in Ballroom B in the Harold D. Melton Student Center from 11:00 AM to 1:00 PM.
URL:https://sustain.auburn.edu/event/free-lunch-seminar-for-international-womens-day/
LOCATION:Event Venue | Melton Student Center Ballroom\, 255 Heisman Drive\, Auburn\, AL\, 36849\, United States
CATEGORIES:Daytime,Discussion,Faculty,Graduate Students,On Campus,Staff,Students,Talk
GEO:32.6022524;-85.4869745
X-APPLE-STRUCTURED-LOCATION;VALUE=URI;X-ADDRESS=Event Venue | Melton Student Center Ballroom 255 Heisman Drive Auburn AL 36849 United States;X-APPLE-RADIUS=500;X-TITLE=255 Heisman Drive:geo:-85.4869745,32.6022524
END:VEVENT
BEGIN:VEVENT
DTSTART;TZID=America/Chicago:20240318T190000
DTEND;TZID=America/Chicago:20240318T203000
DTSTAMP:20260423T214457
CREATED:20240105T202150Z
LAST-MODIFIED:20240916T135344Z
UID:10002252-1710788400-1710793800@sustain.auburn.edu
SUMMARY:Climate Change: A Story of Opportunities and Possibilities to Reverse Global Warming\, presented by Dr. Jonathan Foley
DESCRIPTION:Please join us for our Spring 2024 Sustainability Speaker Series: – Climate Change: A Story of Opportunities and Possibilities to Reverse Global Warming with Dr. Jonathan Foley.  \nJonathan Foley\, Ph.D.\, Executive Director of Project Drawdown\, is a world-renowned environmental scientist\, sustainability expert\, author\, and public speaker. His work focuses on understanding our changing planet and finding new solutions to sustain the climate\, ecosystems\, and natural resources we all depend on.  \nDr. Foley will present on the innovative initiative Project Drawdown\, whose mission is to help the world stop climate change as quickly\, safely\, and equitably as possible.  Project Drawdown identifies solutions and strategies for stopping climate change\, engages all sectors of society to bring climate solutions to scale\, and works to shift the conversation from doom and gloom to possibility and opportunity.  Almost every solution identified by Project Drawdown is regenerative development that has the potential to create millions of jobs.  Project Drawdown proves we can stop global warming and draw down greenhouse gas concentrations in the atmosphere to form a more sustainable world.  \nDr. Foley’s presents on Monday\, March 18th\, 2024\, in the Langdon Hall Auditorium at Auburn University starting at 7:00 PM. There will be time for questions and answers before wrapping up at 8:30 PM. Free parking is available downtown after 6:00 PM.   
URL:https://sustain.auburn.edu/event/sustainability-speaker-series-dr-jonathan-foley/
CATEGORIES:Anyone,Evening,Gathering,On Campus,Talk
ATTACH;FMTTYPE=image/png:https://sustain.auburn.edu/wp-content/uploads/2024/01/CAL-Speaker-Series-1.png
END:VEVENT
BEGIN:VEVENT
DTSTART;TZID=America/Chicago:20240320T110000
DTEND;TZID=America/Chicago:20240320T140000
DTSTAMP:20260423T214457
CREATED:20240215T164735Z
LAST-MODIFIED:20240215T164735Z
UID:10004504-1710932400-1710943200@sustain.auburn.edu
SUMMARY:Beyond the Farm
DESCRIPTION:Join the Ag Council for the 2024 Beyond the Farm event! Come by to learn more about agriculture and to interact with the different offices\, groups\, and organizations that will be tabling!
URL:https://sustain.auburn.edu/event/beyond-the-farm-3/
LOCATION:Event Venue | Student Center Greenspace
CATEGORIES:Administration,All Employees,Daytime,Faculty,Gathering,Graduate Students,On Campus,Staff,Students
GEO:32.601344;-85.487312
END:VEVENT
BEGIN:VEVENT
DTSTART;TZID=America/Chicago:20240321T180000
DTEND;TZID=America/Chicago:20240321T193000
DTSTAMP:20260423T214457
CREATED:20230831T191134Z
LAST-MODIFIED:20230831T191756Z
UID:10004048-1711044000-1711049400@sustain.auburn.edu
SUMMARY:Third Thursday Poetry Series
DESCRIPTION:Join the Caroline Marshall Draughon Center for the Arts & Humanities\, Department of English\, and Southern Humanities Review in the College of Liberal Arts at Auburn University; the Osher Lifelong Learning Institute at Auburn University\, and the Alabama State Council on the Arts for the 2023-2024 Third Thursday Poetry Series! Here’s the 23-24 series: \nSeptember 21\, 2023 – Alina Stefanescu \nOctober 19\, 2023 – Witness Prize Honoring Jake Adam York\, Featuring Joy Harjo \n*Presented by the Jule Collins Smith Museum of Fine Art \nOctober 26\, 2023 – Patricia Foster \nNovember 16\, 2023 – Matthew Olzmann \nJanuary 18\, 2024 – Jim Peterson \nFebruary 1\, 2024 –Molly McCully Brown \nFebruary 15\, 2024 – Jennifer Grotz \nMarch 21\, 2024- Southern Humanities Review Spring Sessions\, Gregory Pardlo & Laura Spence-Ash \nApril 4\, 2024 – Rose McLarney & Justin Gardiner \nApril 18\, 2024 – Graduating Students Reading \nMay 16\, 2024 – Community Reading
URL:https://sustain.auburn.edu/event/third-thursday-poetry-series-2/2024-03-21/
LOCATION:Event Venue | Pebble Hill – College of Liberal Arts\, United States
CATEGORIES:Anyone,Evening,Gathering,Off Campus
GEO:32.606519;-85.47234
END:VEVENT
BEGIN:VEVENT
DTSTART;TZID=America/Chicago:20240326T180000
DTEND;TZID=America/Chicago:20240326T193000
DTSTAMP:20260423T214457
CREATED:20240314T154658Z
LAST-MODIFIED:20240314T154658Z
UID:10004510-1711476000-1711481400@sustain.auburn.edu
SUMMARY:Muscogee Nation: An Overview of History\, Culture\, and Contemporary Life
DESCRIPTION:Join the Caroline Draughon Center for the Arts & Humanities and Dr. Monte Randall at Pebble Hill for a talk regarding the history\, culture\, and contemporary life of the Muscogee Nation. Dr. Randall is the President of the Muscogee (Creek) Nation and from the Apekv-Tvlledegv Tribal Town and Deer Clan. His list of achievements is extensive and includes\, but is not limited to\, being a Mellon and Aspen Fellow\, as well as a Carnegie Foundation Commissioner. He regularly volunteers as a community leader and also often educates on Native American culture\, education\, and more. \nThis event is free and open to the public\, and will occur on March 26 at 6:00 PM to 7:30 PM.
URL:https://sustain.auburn.edu/event/muscogee-nation-an-overview-of-history-culture-and-contemporary-life/
LOCATION:Event Venue | Pebble Hill – College of Liberal Arts\, United States
CATEGORIES:Anyone,Evening,Talk
GEO:32.606519;-85.47234
END:VEVENT
BEGIN:VEVENT
DTSTART;TZID=America/Chicago:20240327T190000
DTEND;TZID=America/Chicago:20240327T210000
DTSTAMP:20260423T214457
CREATED:20240312T190503Z
LAST-MODIFIED:20240319T192132Z
UID:10004509-1711566000-1711573200@sustain.auburn.edu
SUMMARY:Outdoor Film: Dirt! the Movie
DESCRIPTION:Join us\, along with Auburn Outdoors and Permaculture Tigers\, at Pebble Hill for a community screening of Dirt! the Movie. Learn about the importance of soil and have some movie snacks! Free soda\, hot chocolate\, tea\, water\, and popcorn will be provided\, and Auburn Outdoors will also be hosting a build-your-own s’mores table! The event will begin at 7:00 PM with the screening starting at 7:30 PM. In the interest of sustainability\, we ask that you please bring your own mugs and/or water bottles. The screening will be outside so please feel free to bring your own chairs or picnic blankets and dress for the weather. Any updates for weather-related postponements or cancellations will be on the Office of Sustainability social media pages and the Office of Sustainability Calendar.
URL:https://sustain.auburn.edu/event/outdoor-film-dirt-the-movie/
LOCATION:Event Venue | Pebble Hill – College of Liberal Arts\, United States
CATEGORIES:Anyone,Evening,Film,Gathering
GEO:32.606519;-85.47234
END:VEVENT
END:VCALENDAR