BEGIN:VCALENDAR
VERSION:2.0
PRODID:-//Office of Sustainability - ECPv6.15.15//NONSGML v1.0//EN
CALSCALE:GREGORIAN
METHOD:PUBLISH
X-WR-CALNAME:Office of Sustainability
X-ORIGINAL-URL:https://sustain.auburn.edu
X-WR-CALDESC:Events for Office of Sustainability
REFRESH-INTERVAL;VALUE=DURATION:PT1H
X-Robots-Tag:noindex
X-PUBLISHED-TTL:PT1H
BEGIN:VTIMEZONE
TZID:America/Chicago
BEGIN:DAYLIGHT
TZOFFSETFROM:-0600
TZOFFSETTO:-0500
TZNAME:CDT
DTSTART:20230312T080000
END:DAYLIGHT
BEGIN:STANDARD
TZOFFSETFROM:-0500
TZOFFSETTO:-0600
TZNAME:CST
DTSTART:20231105T070000
END:STANDARD
BEGIN:DAYLIGHT
TZOFFSETFROM:-0600
TZOFFSETTO:-0500
TZNAME:CDT
DTSTART:20240310T080000
END:DAYLIGHT
BEGIN:STANDARD
TZOFFSETFROM:-0500
TZOFFSETTO:-0600
TZNAME:CST
DTSTART:20241103T070000
END:STANDARD
BEGIN:DAYLIGHT
TZOFFSETFROM:-0600
TZOFFSETTO:-0500
TZNAME:CDT
DTSTART:20250309T080000
END:DAYLIGHT
BEGIN:STANDARD
TZOFFSETFROM:-0500
TZOFFSETTO:-0600
TZNAME:CST
DTSTART:20251102T070000
END:STANDARD
END:VTIMEZONE
BEGIN:VEVENT
DTSTART;TZID=America/Chicago:20240201T143000
DTEND;TZID=America/Chicago:20240201T163000
DTSTAMP:20260419T221122
CREATED:20231130T194600Z
LAST-MODIFIED:20240123T162258Z
UID:10004066-1706797800-1706805000@sustain.auburn.edu
SUMMARY:Plant Ahead: A Tree Planting Event
DESCRIPTION:Come join the Office of Sustainability and the Kreher Preserve and Nature Center for Plant Ahead: A Tree Planting Event. Volunteers are invited to come plant trees at the Kreher Preserve and Nature Center! Together\, we will learn about forestry practices\, Alabama’s native flora\, and how to properly plant trees while enjoying the beautiful outdoor scenery and wildlife of the preserve. A short information session will precede the event!  \nWork will be physical so volunteers should wear clothing that will protect the legs\, clothes you do not mind getting dirty\, and closed-toed shoes. A water cooler will be present\, so please bring a refillable water bottle. Additionally\, volunteers should bring gloves\, if available. Tools and some gloves will be available. Registration is requested\, but not required\, prior to the event. For an event reminder and to help spread the word\, RSVP for the PLANt Ahead event on Facebook. Students can register on the Office of Sustainability GivePulse. Waivers will be signed on site.    \nWe will meet in the parking lot at the Kreher Preserve and Nature Center. Please join us on Thursday\, February 1\, 2024\, from 2:30 PM-4:30 PM at the Kreher Preserve and Nature Center to get outside and plant ahead! We will plant trees even if it is raining but will not plant trees if there is a threat of dangerous weather. Email the Office of Sustainability at sustain@auburn.edu if you need transportation to this event from campus. 
URL:https://sustain.auburn.edu/event/plant-ahead-a-tree-planting-event-3-2024-02-01/
LOCATION:Kreher Preserve & Nature Center\, United States
CATEGORIES:Anyone,Daytime,Faculty,Gathering,Graduate-Students,Outing,Social-Event,Staff,Students,Volunteer
GEO:32.658578;-85.485692
END:VEVENT
BEGIN:VEVENT
DTSTART;TZID=America/Chicago:20240201T170000
DTEND;TZID=America/Chicago:20240201T210000
DTSTAMP:20260419T221122
CREATED:20220829T175008Z
LAST-MODIFIED:20220829T175008Z
UID:10003841-1706806800-1706821200@sustain.auburn.edu
SUMMARY:Concerts on Campus
DESCRIPTION:Concerts on Campus is WEGL 91.1 FM’s weekly concert series where we host student\, local\, and regional acts across campus for free. \nDoors open at 5 pm but at 6 pm.
URL:https://sustain.auburn.edu/event/concerts-on-campus/2024-02-01/
LOCATION:Cater Hall Lawn
CATEGORIES:Concert,Evening,Gathering,On-Campus,Performance,Social-Event,Students
ATTACH;FMTTYPE=image/png:https://sustain.auburn.edu/wp-content/uploads/2022/08/cater-hall-event.png
ORGANIZER;CN="WEGL 91.1":MAILTO:wegl91auburn@gmail.com
GEO:32.603823;-85.484842
END:VEVENT
BEGIN:VEVENT
DTSTART;TZID=America/Chicago:20240201T180000
DTEND;TZID=America/Chicago:20240201T193000
DTSTAMP:20260419T221122
CREATED:20230831T192143Z
LAST-MODIFIED:20230831T192437Z
UID:10004052-1706810400-1706815800@sustain.auburn.edu
SUMMARY:Third Thursday Poetry Series
DESCRIPTION:Join the Caroline Marshall Draughon Center for the Arts & Humanities\, Department of English\, and Southern Humanities Review in the College of Liberal Arts at Auburn University; the Osher Lifelong Learning Institute at Auburn University\, and the Alabama State Council on the Arts for the 2023-2024 Third Thursday Poetry Series! Here’s the 23-24 series: \nSeptember 21\, 2023 – Alina Stefanescu \nOctober 19\, 2023 – Witness Prize Honoring Jake Adam York\, Featuring Joy Harjo \n*Presented by the Jule Collins Smith Museum of Fine Art \nOctober 26\, 2023 – Patricia Foster \nNovember 16\, 2023 – Matthew Olzmann \nJanuary 18\, 2024 – Jim Peterson \nFebruary 1\, 2024 –Molly McCully Brown \nFebruary 15\, 2024 – Jennifer Grotz \nMarch 21\, 2024- Southern Humanities Review Spring Sessions\, Gregory Pardlo & Laura Spence-Ash \nApril 4\, 2024 – Rose McLarney & Justin Gardiner \nApril 18\, 2024 – Graduating Students Reading \nMay 16\, 2024 – Community Reading
URL:https://sustain.auburn.edu/event/third-thursday-poetry-series-3/2024-02-01/
LOCATION:Pebble Hill
CATEGORIES:Anyone,Evening,Gathering
GEO:32.606519;-85.47234
END:VEVENT
BEGIN:VEVENT
DTSTART;TZID=America/Chicago:20240201T180000
DTEND;TZID=America/Chicago:20240201T193000
DTSTAMP:20260419T221122
CREATED:20230831T192833Z
LAST-MODIFIED:20230831T192833Z
UID:10004055-1706810400-1706815800@sustain.auburn.edu
SUMMARY:Third Thursday Poetry Series
DESCRIPTION:Join the Caroline Marshall Draughon Center for the Arts & Humanities\, Department of English\, and Southern Humanities Review in the College of Liberal Arts at Auburn University; the Osher Lifelong Learning Institute at Auburn University\, and the Alabama State Council on the Arts for the 2023-2024 Third Thursday Poetry Series! Here’s the 23-24 series: \nSeptember 21\, 2023 – Alina Stefanescu \nOctober 19\, 2023 – Witness Prize Honoring Jake Adam York\, Featuring Joy Harjo \n*Presented by the Jule Collins Smith Museum of Fine Art \nOctober 26\, 2023 – Patricia Foster \nNovember 16\, 2023 – Matthew Olzmann \nJanuary 18\, 2024 – Jim Peterson \nFebruary 1\, 2024 –Molly McCully Brown \nFebruary 15\, 2024 – Jennifer Grotz \nMarch 21\, 2024- Southern Humanities Review Spring Sessions\, Gregory Pardlo & Laura Spence-Ash \nApril 4\, 2024 – Rose McLarney & Justin Gardiner \nApril 18\, 2024 – Graduating Students Reading \nMay 16\, 2024 – Community Reading
URL:https://sustain.auburn.edu/event/third-thursday-poetry-series-5/
LOCATION:Pebble Hill
CATEGORIES:Anyone,Evening,Gathering,Off-Campus
GEO:32.606519;-85.47234
END:VEVENT
BEGIN:VEVENT
DTSTART;TZID=America/Chicago:20240202T130000
DTEND;TZID=America/Chicago:20240202T143000
DTSTAMP:20260419T221122
CREATED:20240111T182351Z
LAST-MODIFIED:20240116T175242Z
UID:10004067-1706878800-1706884200@sustain.auburn.edu
SUMMARY:Talk by Charles Mauldin
DESCRIPTION:The Caroline Marshall Draughon Center for the Arts and the Humanities and the Department of History are hosting a talk from Charles Mauldin\, a Civil Rights Foot Soldier\, on February 2 at 1pm. Mauldin participated in the teacher’s march\, was present at Dr. Martin Luther King Jr.’s meeting when it was decided to march to Montgomery\, and assisted people such as John Lewis in organizing support for the Voting Rights Act of 1965. Mauldin was also one of the individuals that was protesting on the day that became known as Bloody Sunday\, the day that peaceful protestors were advocating for voting rights.  For more information\, visit their calendar. This event is free and open to the public!
URL:https://sustain.auburn.edu/event/talk-by-charles-mauldin/
LOCATION:Pebble Hill
CATEGORIES:Anyone,Daytime,Faculty,Gathering,On-Campus,Seminar,Staff,Students,Talk
GEO:32.606519;-85.47234
END:VEVENT
BEGIN:VEVENT
DTSTART;TZID=America/Chicago:20240202T160000
DTEND;TZID=America/Chicago:20240202T170000
DTSTAMP:20260419T221122
CREATED:20220112T202344Z
LAST-MODIFIED:20220112T204558Z
UID:10003672-1706889600-1706893200@sustain.auburn.edu
SUMMARY:ISO Social Hour
DESCRIPTION:ISO Social Hour is a social/cultural event every Friday afternoon from 4:00-5:00pm in The Melton Student Center! Swing by to experience the culture of the student cultural organization we are highlighting that week! There will be free food!
URL:https://sustain.auburn.edu/event/iso-social-hour/2024-02-02/
LOCATION:Melton Student Center – Room 2222\, 225 Heisman Dr.\, Auburn\, AL\, 36849\, United States
CATEGORIES:On-Campus,Students
GEO:32.6009848;-85.4894075
X-APPLE-STRUCTURED-LOCATION;VALUE=URI;X-ADDRESS=Melton Student Center – Room 2222 225 Heisman Dr. Auburn AL 36849 United States;X-APPLE-RADIUS=500;X-TITLE=225 Heisman Dr.:geo:-85.4894075,32.6009848
END:VEVENT
BEGIN:VEVENT
DTSTART;TZID=America/Chicago:20240203T073000
DTEND;TZID=America/Chicago:20240203T210000
DTSTAMP:20260419T221122
CREATED:20240116T172806Z
LAST-MODIFIED:20240116T173617Z
UID:10004069-1706945400-1706994000@sustain.auburn.edu
SUMMARY:Guest Artist & Faculty Recital: Moisés Molina & Minjung Seo
DESCRIPTION:Come hear a performance from Moisés Molina and Minjung Seo at the Goodwin Recital Hall! Moisés Molina is a cellist from Honduras\, and\, in addition to being a musician\, he is also a clinician and Assistant Professor at the University of Alabama. Minjung Seo is a pianist and lecturer at Auburn University. She won the Samuel Sanders Collaborative Pianists Award and has been a pianist and coach at the Juilliard School and Lincoln Center. \nThe recital will be located in Room 125 at the Goodwin Recital Hall. It is open to the public\, and the cost is $15 for the general public and $7.50 for Auburn University students. For more information (including ticket purchase)\, please visit the College of Liberal Arts calendar post.
URL:https://sustain.auburn.edu/event/guest-artist-faculty-recital-moises-molina-minjung-seo/
LOCATION:Goodwin Recital Hall at Auburn University\, Goodwin Music Hall\, 320 W Samford Ave\, Auburn\, AL\, 36849\, United States
CATEGORIES:Anyone,Concert,Evening,Gathering,On-Campus,Performance
GEO:32.5984866;-85.4860561
X-APPLE-STRUCTURED-LOCATION;VALUE=URI;X-ADDRESS=Goodwin Recital Hall at Auburn University Goodwin Music Hall 320 W Samford Ave Auburn AL 36849 United States;X-APPLE-RADIUS=500;X-TITLE=Goodwin Music Hall\, 320 W Samford Ave:geo:-85.4860561,32.5984866
END:VEVENT
BEGIN:VEVENT
DTSTART;TZID=America/Chicago:20240206T150000
DTEND;TZID=America/Chicago:20240206T163000
DTSTAMP:20260419T221122
CREATED:20240111T205337Z
LAST-MODIFIED:20240111T205337Z
UID:10004068-1707231600-1707237000@sustain.auburn.edu
SUMMARY:Talk by John Beaver
DESCRIPTION:John Beaver will be coming to speak at the Ralph Brown Draughon Library in the Caroline Marshall Draughon Lecture Room at 3PM to 4:30PN on February 6. Beaver manages the Creek Council House Museum  at the Muscogee Nation Cultural Center. This talk is free and open to the public! Check out the Caroline Marshall Draughon Center for the Arts & Humanities calendar event for more information!
URL:https://sustain.auburn.edu/event/talk-by-john-beaver/
LOCATION:RBD Library\, 231 Mell St\, Auburn\, AL\, 36849\, United States
CATEGORIES:Anyone,Daytime,Faculty,Gathering,On-Campus,Seminar,Staff,Students,Talk
GEO:32.6027926;-85.4830601
X-APPLE-STRUCTURED-LOCATION;VALUE=URI;X-ADDRESS=RBD Library 231 Mell St Auburn AL 36849 United States;X-APPLE-RADIUS=500;X-TITLE=231 Mell St:geo:-85.4830601,32.6027926
END:VEVENT
BEGIN:VEVENT
DTSTART;TZID=America/Chicago:20240213T150000
DTEND;TZID=America/Chicago:20240213T163000
DTSTAMP:20260419T221122
CREATED:20240116T191354Z
LAST-MODIFIED:20240116T191354Z
UID:10004070-1707836400-1707841800@sustain.auburn.edu
SUMMARY:Cycle Through Sustainability
DESCRIPTION:Experience the beauty of campus on this 2.5-mile bike ride highlighting Auburn University’s ongoing sustainability efforts. The hour-long\, 10-stop tour will be led by Auburn Outdoors and the Office of Sustainability. Please bring your own water bottle. Bikes\, helmets\, and snacks will be provided.
URL:https://sustain.auburn.edu/event/cycle-through-sustainability-3/
LOCATION:Auburn Outdoors
CATEGORIES:Exercise,On-Campus,Outing,Tour
GEO:32.601335;-85.492816
END:VEVENT
BEGIN:VEVENT
DTSTART;TZID=America/Chicago:20240215T180000
DTEND;TZID=America/Chicago:20240215T193000
DTSTAMP:20260419T221122
CREATED:20230831T191134Z
LAST-MODIFIED:20230831T191756Z
UID:10004047-1708020000-1708025400@sustain.auburn.edu
SUMMARY:Third Thursday Poetry Series
DESCRIPTION:Join the Caroline Marshall Draughon Center for the Arts & Humanities\, Department of English\, and Southern Humanities Review in the College of Liberal Arts at Auburn University; the Osher Lifelong Learning Institute at Auburn University\, and the Alabama State Council on the Arts for the 2023-2024 Third Thursday Poetry Series! Here’s the 23-24 series: \nSeptember 21\, 2023 – Alina Stefanescu \nOctober 19\, 2023 – Witness Prize Honoring Jake Adam York\, Featuring Joy Harjo \n*Presented by the Jule Collins Smith Museum of Fine Art \nOctober 26\, 2023 – Patricia Foster \nNovember 16\, 2023 – Matthew Olzmann \nJanuary 18\, 2024 – Jim Peterson \nFebruary 1\, 2024 –Molly McCully Brown \nFebruary 15\, 2024 – Jennifer Grotz \nMarch 21\, 2024- Southern Humanities Review Spring Sessions\, Gregory Pardlo & Laura Spence-Ash \nApril 4\, 2024 – Rose McLarney & Justin Gardiner \nApril 18\, 2024 – Graduating Students Reading \nMay 16\, 2024 – Community Reading
URL:https://sustain.auburn.edu/event/third-thursday-poetry-series-2/2024-02-15/
LOCATION:Pebble Hill
CATEGORIES:Anyone,Evening,Gathering,Off-Campus
GEO:32.606519;-85.47234
END:VEVENT
BEGIN:VEVENT
DTSTART;TZID=America/Chicago:20240216T090000
DTEND;TZID=America/Chicago:20240216T150000
DTSTAMP:20260419T221122
CREATED:20240125T210601Z
LAST-MODIFIED:20240125T211643Z
UID:10004071-1708074000-1708095600@sustain.auburn.edu
SUMMARY:Hand-Deliver Alabama Voter Registration Forms: Deadline
DESCRIPTION:This is the last day to hand-deliver voter registration forms in Alabama for the 2024 Primary Election. To learn more about voting\, you can visit the Office of Sustainability’s voting page or the Alabama Secretary of State website. \nPLEASE NOTE: The voting information on our website could be subject to error. It is good practice to gain information from an official government source to ensure credibility and accuracy.
URL:https://sustain.auburn.edu/event/hand-deliver-voter-registration-forms-deadline/
LOCATION:Various Locations
CATEGORIES:Administration,All-Employees,Alumni,Anyone,Voting
END:VEVENT
BEGIN:VEVENT
DTSTART;TZID=America/Chicago:20240216T130000
DTEND;TZID=America/Chicago:20240216T160000
DTSTAMP:20260419T221122
CREATED:20240208T182305Z
LAST-MODIFIED:20240208T182305Z
UID:10004501-1708088400-1708099200@sustain.auburn.edu
SUMMARY:Creek Cleanup
DESCRIPTION:Join the Alabama Watershed Stewards\, Auburn University Water Resources Center\, and Auburn University Risk Management and Safety to help clean Parkerson Mill Creek on campus! This event will take place on Friday\, February 16 from 1:00 PM to 4:00 PM.  Supplies will be provided\, and attendees are asked to bring waterproof shoes and clothes that they do not mind getting dirty. For more information and to sign up\, visit aub.ie/cleanup.
URL:https://sustain.auburn.edu/event/creek-cleanup/
LOCATION:Parkerson Mill Creek Outside of Wellness Kitchen\, 370 S Donahue Dr\, Auburn\, AL\, 36832\, United States
CATEGORIES:Anyone,Daytime,Gathering,On-Campus,Volunteer
GEO:32.5987728;-85.4909254
X-APPLE-STRUCTURED-LOCATION;VALUE=URI;X-ADDRESS=Parkerson Mill Creek Outside of Wellness Kitchen 370 S Donahue Dr Auburn AL 36832 United States;X-APPLE-RADIUS=500;X-TITLE=370 S Donahue Dr:geo:-85.4909254,32.5987728
END:VEVENT
BEGIN:VEVENT
DTSTART;TZID=America/Chicago:20240217T090000
DTEND;TZID=America/Chicago:20240217T150000
DTSTAMP:20260419T221122
CREATED:20240125T212419Z
LAST-MODIFIED:20240125T213647Z
UID:10004072-1708160400-1708182000@sustain.auburn.edu
SUMMARY:Last day to postmark Alabama voter registration forms: Deadline
DESCRIPTION:This is the last day to postmark Alabama voter registration forms for the 2024 Primary Election. To learn more about voting\, you can visit the Office of Sustainability’s voting page or the Alabama Secretary of State website. \nPLEASE NOTE: The voting information on our website could be subject to error. It is good practice to gain information from an official government source to ensure credibility and accuracy.
URL:https://sustain.auburn.edu/event/last-day-to-postmark-alabama-voter-registration-forms/
LOCATION:Various Locations
CATEGORIES:Administration,All-Employees,Alumni,Anyone,Voting
END:VEVENT
BEGIN:VEVENT
DTSTART;TZID=America/Chicago:20240219T090000
DTEND;TZID=America/Chicago:20240219T150000
DTSTAMP:20260419T221122
CREATED:20240125T213344Z
LAST-MODIFIED:20240125T213344Z
UID:10004073-1708333200-1708354800@sustain.auburn.edu
SUMMARY:Last day to register to vote electronically in Alabama: Deadline
DESCRIPTION:This is the last day to register to vote electronically in Alabama for the 2024 Primary Election. To learn more about voting\, you can visit the Office of Sustainability’s voting page or the Alabama Secretary of State website. \nPLEASE NOTE: The voting information on our website could be subject to error. It is good practice to gain information from an official government source to ensure credibility and accuracy.
URL:https://sustain.auburn.edu/event/last-day-to-register-to-vote-electronically-in-alabama-deadline/
LOCATION:Various Locations
CATEGORIES:Administration,All-Employees,Alumni,Anyone,Voting
END:VEVENT
BEGIN:VEVENT
DTSTART;TZID=America/Chicago:20240219T190000
DTEND;TZID=America/Chicago:20240219T200000
DTSTAMP:20260419T221122
CREATED:20240215T163014Z
LAST-MODIFIED:20240215T163014Z
UID:10004503-1708369200-1708372800@sustain.auburn.edu
SUMMARY:Elections talk with Lee County Probate Judge Bill English
DESCRIPTION:Join the League of Women Voters of East Alabama (LWVEA) and Lee County Probate Judge and Chief Election Official Bill English for a talk regarding elections\, polling locations\, how to become a poll worker\, and more! Doors open at 6:30 PM! \nLWVEA is nonpartisan\, so there will be no endorsements of any parties or election candidates.
URL:https://sustain.auburn.edu/event/elections-talk-with-lee-county-probate-judge-bill-english/
LOCATION:Auburn First Baptist Church\, 128 E Glenn Ave\, Auburn\, AL\, 36830\, United States
CATEGORIES:Anyone,Evening,Talk,Voting
GEO:32.6085864;-85.4805696
X-APPLE-STRUCTURED-LOCATION;VALUE=URI;X-ADDRESS=Auburn First Baptist Church 128 E Glenn Ave Auburn AL 36830 United States;X-APPLE-RADIUS=500;X-TITLE=128 E Glenn Ave:geo:-85.4805696,32.6085864
END:VEVENT
BEGIN:VEVENT
DTSTART;TZID=America/Chicago:20240221T110000
DTEND;TZID=America/Chicago:20240221T130000
DTSTAMP:20260419T221122
CREATED:20240215T220705Z
LAST-MODIFIED:20240215T220705Z
UID:10004505-1708513200-1708520400@sustain.auburn.edu
SUMMARY:Auburn University Samuel Ginn College of Engineering Careers in Sustainability Industry Day Spring 2024
DESCRIPTION:Join the Samuel Ginn College of Engineering for a Careers in Sustainability Industry Day! Come to learn about varying jobs and careers in which sustainable design is being implemented. All majors are welcome! Walk-ins are welcome as well\, but please register ahead if you would like to have lunch at 11:00 AM. See the list of upcoming College of Engineering Career Fairs here\, as well as to register and see more information about this event.
URL:https://sustain.auburn.edu/event/auburn-university-samuel-ginn-college-of-engineering-careers-in-sustainability-industry-day-spring-2024/
LOCATION:Brown-Kopel Engineering Student Achievement Center – Grand Hall\, Engineering Shops\, 152 Wilmore Dr\, Auburn\, AL\, 63849
CATEGORIES:On-Campus,Students
GEO:32.6053971;-85.4855343
X-APPLE-STRUCTURED-LOCATION;VALUE=URI;X-ADDRESS=Brown-Kopel Engineering Student Achievement Center – Grand Hall Engineering Shops 152 Wilmore Dr Auburn AL 63849;X-APPLE-RADIUS=500;X-TITLE=Engineering Shops\, 152 Wilmore Dr:geo:-85.4855343,32.6053971
END:VEVENT
BEGIN:VEVENT
DTSTART;TZID=America/Chicago:20240227T090000
DTEND;TZID=America/Chicago:20240227T150000
DTSTAMP:20260419T221122
CREATED:20240125T214328Z
LAST-MODIFIED:20240125T214328Z
UID:10004074-1709024400-1709046000@sustain.auburn.edu
SUMMARY:Last day to apply for an absentee ballot by mail in Alabama: Deadline
DESCRIPTION:This is the last day to apply for an absentee ballot by mail in Alabama for the 2024 Primary Election. To learn more about voting\, you can visit the Office of Sustainability’s voting page or the Alabama Secretary of State website. \nPLEASE NOTE: The voting information on our website could be subject to error. It is good practice to gain information from an official government source to ensure credibility and accuracy.
URL:https://sustain.auburn.edu/event/last-day-to-apply-for-an-absentee-ballot-by-mail-in-alabama-deadline/
LOCATION:Various Locations
CATEGORIES:Administration,All-Employees,Alumni,Anyone,Voting
END:VEVENT
BEGIN:VEVENT
DTSTART;TZID=America/Chicago:20240227T170000
DTEND;TZID=America/Chicago:20240227T193000
DTSTAMP:20260419T221122
CREATED:20240222T214234Z
LAST-MODIFIED:20240222T214411Z
UID:10004506-1709053200-1709062200@sustain.auburn.edu
SUMMARY:Through the Decades: Black History Month Speaker Panel
DESCRIPTION:Come to Through the Decades: Black History Month Speaker Panel to listen to four Auburn alumni share their personal experiences and ways that they’ve seen Auburn grow and change over the years. The event will consist of a Q&A discussion moderated by students and a reception for networking afterward. Catering at the reception will be from Pannie George’s! All Auburn students\, faculty\, and staff are welcome at this event. This event is hosted by the Black Student Union\, Emerge at Auburn\, the University Program Council\, and the Office of Inclusion and Diversity. To learn more about this event or to RSVP\, please visit their AU Involve page. This event will take place in the Melton Student Center Ballroom.
URL:https://sustain.auburn.edu/event/through-the-decades-black-history-month-speaker-panel/
LOCATION:Melton Student Center Ballroom\, 255 Heisman Drive\, Auburn\, AL\, 36849\, United States
CATEGORIES:Alumni,Evening,Faculty,Gathering,On-Campus,Staff,Students
GEO:32.6022524;-85.4869745
X-APPLE-STRUCTURED-LOCATION;VALUE=URI;X-ADDRESS=Melton Student Center Ballroom 255 Heisman Drive Auburn AL 36849 United States;X-APPLE-RADIUS=500;X-TITLE=255 Heisman Drive:geo:-85.4869745,32.6022524
END:VEVENT
BEGIN:VEVENT
DTSTART;TZID=America/Chicago:20240229T090000
DTEND;TZID=America/Chicago:20240229T150000
DTSTAMP:20260419T221122
CREATED:20240125T214942Z
LAST-MODIFIED:20240125T214942Z
UID:10003117-1709197200-1709218800@sustain.auburn.edu
SUMMARY:Last day to apply for an absentee ballot in person in Alabama: Deadline
DESCRIPTION:Today is the last day to apply for an absentee ballot in person in Alabama for the 2024 Primary Election. To learn more about voting\, you can visit the Office of Sustainability’s voting page or the Alabama Secretary of State website. \nPLEASE NOTE: The voting information on our website could be subject to error. It is good practice to gain information from an official government source to ensure credibility and accuracy.
URL:https://sustain.auburn.edu/event/last-day-to-apply-for-an-absentee-ballot-in-person-in-alabama-deadline/
LOCATION:Various Locations
CATEGORIES:Administration,All-Employees,Alumni,Anyone,Voting
END:VEVENT
END:VCALENDAR