BEGIN:VCALENDAR
VERSION:2.0
PRODID:-//Office of Sustainability - ECPv6.15.15//NONSGML v1.0//EN
CALSCALE:GREGORIAN
METHOD:PUBLISH
X-WR-CALNAME:Office of Sustainability
X-ORIGINAL-URL:https://sustain.auburn.edu
X-WR-CALDESC:Events for Office of Sustainability
REFRESH-INTERVAL;VALUE=DURATION:PT1H
X-Robots-Tag:noindex
X-PUBLISHED-TTL:PT1H
BEGIN:VTIMEZONE
TZID:America/Chicago
BEGIN:DAYLIGHT
TZOFFSETFROM:-0600
TZOFFSETTO:-0500
TZNAME:CDT
DTSTART:20220313T080000
END:DAYLIGHT
BEGIN:STANDARD
TZOFFSETFROM:-0500
TZOFFSETTO:-0600
TZNAME:CST
DTSTART:20221106T070000
END:STANDARD
BEGIN:DAYLIGHT
TZOFFSETFROM:-0600
TZOFFSETTO:-0500
TZNAME:CDT
DTSTART:20230312T080000
END:DAYLIGHT
BEGIN:STANDARD
TZOFFSETFROM:-0500
TZOFFSETTO:-0600
TZNAME:CST
DTSTART:20231105T070000
END:STANDARD
BEGIN:DAYLIGHT
TZOFFSETFROM:-0600
TZOFFSETTO:-0500
TZNAME:CDT
DTSTART:20240310T080000
END:DAYLIGHT
BEGIN:STANDARD
TZOFFSETFROM:-0500
TZOFFSETTO:-0600
TZNAME:CST
DTSTART:20241103T070000
END:STANDARD
END:VTIMEZONE
BEGIN:VEVENT
DTSTART;TZID=America/Chicago:20231102T170000
DTEND;TZID=America/Chicago:20231102T210000
DTSTAMP:20260424T194756
CREATED:20220829T175008Z
LAST-MODIFIED:20220829T175008Z
UID:10003828-1698944400-1698958800@sustain.auburn.edu
SUMMARY:Concerts on Campus
DESCRIPTION:Concerts on Campus is WEGL 91.1 FM’s weekly concert series where we host student\, local\, and regional acts across campus for free. \nDoors open at 5 pm but at 6 pm.
URL:https://sustain.auburn.edu/event/concerts-on-campus/2023-11-02/
LOCATION:Event Venue | Cater Hall Lawn
CATEGORIES:Concert,Evening,Gathering,On Campus,Performance,Social Event,Students
ATTACH;FMTTYPE=image/png:https://sustain.auburn.edu/wp-content/uploads/2022/08/cater-hall-event.png
ORGANIZER;CN="Event Organizer | WEGL 91.1 \ Student Radio Station":MAILTO:wegl91auburn@gmail.com
GEO:32.603823;-85.484842
END:VEVENT
BEGIN:VEVENT
DTSTART;TZID=America/Chicago:20231103T160000
DTEND;TZID=America/Chicago:20231103T170000
DTSTAMP:20260424T194756
CREATED:20220112T202344Z
LAST-MODIFIED:20220112T204558Z
UID:10003659-1699027200-1699030800@sustain.auburn.edu
SUMMARY:ISO Social Hour
DESCRIPTION:ISO Social Hour is a social/cultural event every Friday afternoon from 4:00-5:00pm in The Melton Student Center! Swing by to experience the culture of the student cultural organization we are highlighting that week! There will be free food!
URL:https://sustain.auburn.edu/event/iso-social-hour/2023-11-03/
LOCATION:Event Venue | Melton Student Center – Room 2222\, 225 Heisman Dr.\, Auburn\, AL\, 36849\, United States
CATEGORIES:On Campus,Students
GEO:32.6009848;-85.4894075
X-APPLE-STRUCTURED-LOCATION;VALUE=URI;X-ADDRESS=Event Venue | Melton Student Center – Room 2222 225 Heisman Dr. Auburn AL 36849 United States;X-APPLE-RADIUS=500;X-TITLE=225 Heisman Dr.:geo:-85.4894075,32.6009848
END:VEVENT
BEGIN:VEVENT
DTSTART;TZID=America/Chicago:20231104T080000
DTEND;TZID=America/Chicago:20231104T120000
DTSTAMP:20260424T194756
CREATED:20230831T194151Z
LAST-MODIFIED:20230911T214004Z
UID:10004058-1699084800-1699099200@sustain.auburn.edu
SUMMARY:Invasive Plant Removal
DESCRIPTION:The Auburn Tree Commission is hosting an invasive removal and cleanup at Sam Harris Park to remove kudzu\, privet\, and other invasive plants from the park. \nAttendees are welcome to bring their own tools\, but we ask that attendees do not bring motorized or battery-powered tools. Please bring work gloves if you have some\, and bring a filled water bottle. We will have additional gloves and clippers available to check out if needed. \nStudents\, to let us know you are coming please sign up on GivePulse.
URL:https://sustain.auburn.edu/event/invasive-plant-removal-4/2023-11-04/
LOCATION:Event Venue | Sam Harris Park\, 850 Foster Street\, Auburn\, AL\, 36832\, United States
CATEGORIES:Anyone,Daytime,Volunteer
ORGANIZER;CN="Event Organizer | City of Auburn | Tree Commission":MAILTO:treecommission@auburnalabama.org
GEO:32.6199632;-85.5020207
X-APPLE-STRUCTURED-LOCATION;VALUE=URI;X-ADDRESS=Event Venue | Sam Harris Park 850 Foster Street Auburn AL 36832 United States;X-APPLE-RADIUS=500;X-TITLE=850 Foster Street:geo:-85.5020207,32.6199632
END:VEVENT
BEGIN:VEVENT
DTSTART;TZID=America/Chicago:20231109T120000
DTEND;TZID=America/Chicago:20231109T125000
DTSTAMP:20260424T194756
CREATED:20230914T194449Z
LAST-MODIFIED:20230914T194449Z
UID:10004061-1699531200-1699534200@sustain.auburn.edu
SUMMARY:Taiwan Center Knotting Class
DESCRIPTION:Join the Taiwan Center for a culture class to learn about knotting! Registration is due by November 3\, 2023\, and the class is limited to 10 people. The class will be in Room 209 in Foy Hall. \nREGISTRATION REQUIRED
URL:https://sustain.auburn.edu/event/taiwan-center-knotting-class/
LOCATION:Event Venue | Foy Hall\, 282 W Thach Concourse\, Auburn\, 36849
CATEGORIES:All Employees,Daytime,Graduate Students,On Campus,Students
GEO:32.6047986968;-85.4851625035
X-APPLE-STRUCTURED-LOCATION;VALUE=URI;X-ADDRESS=Event Venue | Foy Hall 282 W Thach Concourse Auburn 36849;X-APPLE-RADIUS=500;X-TITLE=282 W Thach Concourse:geo:-85.4851625035,32.6047986968
END:VEVENT
BEGIN:VEVENT
DTSTART;TZID=America/Chicago:20231109T140000
DTEND;TZID=America/Chicago:20231109T153000
DTSTAMP:20260424T194756
CREATED:20230717T173912Z
LAST-MODIFIED:20230905T160135Z
UID:10003107-1699538400-1699543800@sustain.auburn.edu
SUMMARY:Cycle Through Sustainability
DESCRIPTION:Experience the beauty of campus on this 2.5-mile bike ride highlighting Auburn University’s ongoing sustainability efforts. The hour-long\, 10-stop tour will be led by Auburn Outdoors and the Office of Sustainability. Please bring your own water bottle. Bikes\, helmets\, and snacks will be provided.
URL:https://sustain.auburn.edu/event/cycle-through-sustainability-2/
LOCATION:Event Venue | Auburn Outdoors\, United States
CATEGORIES:Exercise,On Campus,Outing,Tour
ATTACH;FMTTYPE=image/png:https://sustain.auburn.edu/wp-content/uploads/2023/07/Cycle-Through-Sustainability-500-×-500-px-2.png
GEO:32.601335;-85.492816
END:VEVENT
BEGIN:VEVENT
DTSTART;TZID=America/Chicago:20231109T170000
DTEND;TZID=America/Chicago:20231109T210000
DTSTAMP:20260424T194756
CREATED:20220829T175008Z
LAST-MODIFIED:20220829T175008Z
UID:10003829-1699549200-1699563600@sustain.auburn.edu
SUMMARY:Concerts on Campus
DESCRIPTION:Concerts on Campus is WEGL 91.1 FM’s weekly concert series where we host student\, local\, and regional acts across campus for free. \nDoors open at 5 pm but at 6 pm.
URL:https://sustain.auburn.edu/event/concerts-on-campus/2023-11-09/
LOCATION:Event Venue | Cater Hall Lawn
CATEGORIES:Concert,Evening,Gathering,On Campus,Performance,Social Event,Students
ATTACH;FMTTYPE=image/png:https://sustain.auburn.edu/wp-content/uploads/2022/08/cater-hall-event.png
ORGANIZER;CN="Event Organizer | WEGL 91.1 \ Student Radio Station":MAILTO:wegl91auburn@gmail.com
GEO:32.603823;-85.484842
END:VEVENT
BEGIN:VEVENT
DTSTART;TZID=America/Chicago:20231110T160000
DTEND;TZID=America/Chicago:20231110T170000
DTSTAMP:20260424T194757
CREATED:20220112T202344Z
LAST-MODIFIED:20220112T204558Z
UID:10003660-1699632000-1699635600@sustain.auburn.edu
SUMMARY:ISO Social Hour
DESCRIPTION:ISO Social Hour is a social/cultural event every Friday afternoon from 4:00-5:00pm in The Melton Student Center! Swing by to experience the culture of the student cultural organization we are highlighting that week! There will be free food!
URL:https://sustain.auburn.edu/event/iso-social-hour/2023-11-10/
LOCATION:Event Venue | Melton Student Center – Room 2222\, 225 Heisman Dr.\, Auburn\, AL\, 36849\, United States
CATEGORIES:On Campus,Students
GEO:32.6009848;-85.4894075
X-APPLE-STRUCTURED-LOCATION;VALUE=URI;X-ADDRESS=Event Venue | Melton Student Center – Room 2222 225 Heisman Dr. Auburn AL 36849 United States;X-APPLE-RADIUS=500;X-TITLE=225 Heisman Dr.:geo:-85.4894075,32.6009848
END:VEVENT
BEGIN:VEVENT
DTSTART;TZID=America/Chicago:20231116T170000
DTEND;TZID=America/Chicago:20231116T210000
DTSTAMP:20260424T194757
CREATED:20220829T175008Z
LAST-MODIFIED:20220829T175008Z
UID:10003830-1700154000-1700168400@sustain.auburn.edu
SUMMARY:Concerts on Campus
DESCRIPTION:Concerts on Campus is WEGL 91.1 FM’s weekly concert series where we host student\, local\, and regional acts across campus for free. \nDoors open at 5 pm but at 6 pm.
URL:https://sustain.auburn.edu/event/concerts-on-campus/2023-11-16/
LOCATION:Event Venue | Cater Hall Lawn
CATEGORIES:Concert,Evening,Gathering,On Campus,Performance,Social Event,Students
ATTACH;FMTTYPE=image/png:https://sustain.auburn.edu/wp-content/uploads/2022/08/cater-hall-event.png
ORGANIZER;CN="Event Organizer | WEGL 91.1 \ Student Radio Station":MAILTO:wegl91auburn@gmail.com
GEO:32.603823;-85.484842
END:VEVENT
BEGIN:VEVENT
DTSTART;TZID=America/Chicago:20231116T180000
DTEND;TZID=America/Chicago:20231116T193000
DTSTAMP:20260424T194757
CREATED:20230831T191134Z
LAST-MODIFIED:20230831T191756Z
UID:10004045-1700157600-1700163000@sustain.auburn.edu
SUMMARY:Third Thursday Poetry Series
DESCRIPTION:Join the Caroline Marshall Draughon Center for the Arts & Humanities\, Department of English\, and Southern Humanities Review in the College of Liberal Arts at Auburn University; the Osher Lifelong Learning Institute at Auburn University\, and the Alabama State Council on the Arts for the 2023-2024 Third Thursday Poetry Series! Here’s the 23-24 series: \nSeptember 21\, 2023 – Alina Stefanescu \nOctober 19\, 2023 – Witness Prize Honoring Jake Adam York\, Featuring Joy Harjo \n*Presented by the Jule Collins Smith Museum of Fine Art \nOctober 26\, 2023 – Patricia Foster \nNovember 16\, 2023 – Matthew Olzmann \nJanuary 18\, 2024 – Jim Peterson \nFebruary 1\, 2024 –Molly McCully Brown \nFebruary 15\, 2024 – Jennifer Grotz \nMarch 21\, 2024- Southern Humanities Review Spring Sessions\, Gregory Pardlo & Laura Spence-Ash \nApril 4\, 2024 – Rose McLarney & Justin Gardiner \nApril 18\, 2024 – Graduating Students Reading \nMay 16\, 2024 – Community Reading
URL:https://sustain.auburn.edu/event/third-thursday-poetry-series-2/2023-11-16/
LOCATION:Event Venue | Pebble Hill – College of Liberal Arts\, United States
CATEGORIES:Anyone,Evening,Gathering,Off Campus
GEO:32.606519;-85.47234
END:VEVENT
BEGIN:VEVENT
DTSTART;TZID=America/Chicago:20231117T160000
DTEND;TZID=America/Chicago:20231117T170000
DTSTAMP:20260424T194757
CREATED:20220112T202344Z
LAST-MODIFIED:20220112T204558Z
UID:10003661-1700236800-1700240400@sustain.auburn.edu
SUMMARY:ISO Social Hour
DESCRIPTION:ISO Social Hour is a social/cultural event every Friday afternoon from 4:00-5:00pm in The Melton Student Center! Swing by to experience the culture of the student cultural organization we are highlighting that week! There will be free food!
URL:https://sustain.auburn.edu/event/iso-social-hour/2023-11-17/
LOCATION:Event Venue | Melton Student Center – Room 2222\, 225 Heisman Dr.\, Auburn\, AL\, 36849\, United States
CATEGORIES:On Campus,Students
GEO:32.6009848;-85.4894075
X-APPLE-STRUCTURED-LOCATION;VALUE=URI;X-ADDRESS=Event Venue | Melton Student Center – Room 2222 225 Heisman Dr. Auburn AL 36849 United States;X-APPLE-RADIUS=500;X-TITLE=225 Heisman Dr.:geo:-85.4894075,32.6009848
END:VEVENT
BEGIN:VEVENT
DTSTART;TZID=America/Chicago:20231123T170000
DTEND;TZID=America/Chicago:20231123T210000
DTSTAMP:20260424T194757
CREATED:20220829T175008Z
LAST-MODIFIED:20220829T175008Z
UID:10003831-1700758800-1700773200@sustain.auburn.edu
SUMMARY:Concerts on Campus
DESCRIPTION:Concerts on Campus is WEGL 91.1 FM’s weekly concert series where we host student\, local\, and regional acts across campus for free. \nDoors open at 5 pm but at 6 pm.
URL:https://sustain.auburn.edu/event/concerts-on-campus/2023-11-23/
LOCATION:Event Venue | Cater Hall Lawn
CATEGORIES:Concert,Evening,Gathering,On Campus,Performance,Social Event,Students
ATTACH;FMTTYPE=image/png:https://sustain.auburn.edu/wp-content/uploads/2022/08/cater-hall-event.png
ORGANIZER;CN="Event Organizer | WEGL 91.1 \ Student Radio Station":MAILTO:wegl91auburn@gmail.com
GEO:32.603823;-85.484842
END:VEVENT
BEGIN:VEVENT
DTSTART;TZID=America/Chicago:20231124T160000
DTEND;TZID=America/Chicago:20231124T170000
DTSTAMP:20260424T194757
CREATED:20220112T202344Z
LAST-MODIFIED:20220112T204558Z
UID:10003662-1700841600-1700845200@sustain.auburn.edu
SUMMARY:ISO Social Hour
DESCRIPTION:ISO Social Hour is a social/cultural event every Friday afternoon from 4:00-5:00pm in The Melton Student Center! Swing by to experience the culture of the student cultural organization we are highlighting that week! There will be free food!
URL:https://sustain.auburn.edu/event/iso-social-hour/2023-11-24/
LOCATION:Event Venue | Melton Student Center – Room 2222\, 225 Heisman Dr.\, Auburn\, AL\, 36849\, United States
CATEGORIES:On Campus,Students
GEO:32.6009848;-85.4894075
X-APPLE-STRUCTURED-LOCATION;VALUE=URI;X-ADDRESS=Event Venue | Melton Student Center – Room 2222 225 Heisman Dr. Auburn AL 36849 United States;X-APPLE-RADIUS=500;X-TITLE=225 Heisman Dr.:geo:-85.4894075,32.6009848
END:VEVENT
BEGIN:VEVENT
DTSTART;TZID=America/Chicago:20231130T170000
DTEND;TZID=America/Chicago:20231130T210000
DTSTAMP:20260424T194757
CREATED:20220829T175008Z
LAST-MODIFIED:20220829T175008Z
UID:10003832-1701363600-1701378000@sustain.auburn.edu
SUMMARY:Concerts on Campus
DESCRIPTION:Concerts on Campus is WEGL 91.1 FM’s weekly concert series where we host student\, local\, and regional acts across campus for free. \nDoors open at 5 pm but at 6 pm.
URL:https://sustain.auburn.edu/event/concerts-on-campus/2023-11-30/
LOCATION:Event Venue | Cater Hall Lawn
CATEGORIES:Concert,Evening,Gathering,On Campus,Performance,Social Event,Students
ATTACH;FMTTYPE=image/png:https://sustain.auburn.edu/wp-content/uploads/2022/08/cater-hall-event.png
ORGANIZER;CN="Event Organizer | WEGL 91.1 \ Student Radio Station":MAILTO:wegl91auburn@gmail.com
GEO:32.603823;-85.484842
END:VEVENT
END:VCALENDAR