BEGIN:VCALENDAR
VERSION:2.0
PRODID:-//Office of Sustainability - ECPv6.15.15//NONSGML v1.0//EN
CALSCALE:GREGORIAN
METHOD:PUBLISH
X-WR-CALNAME:Office of Sustainability
X-ORIGINAL-URL:https://sustain.auburn.edu
X-WR-CALDESC:Events for Office of Sustainability
REFRESH-INTERVAL;VALUE=DURATION:PT1H
X-Robots-Tag:noindex
X-PUBLISHED-TTL:PT1H
BEGIN:VTIMEZONE
TZID:America/Chicago
BEGIN:DAYLIGHT
TZOFFSETFROM:-0600
TZOFFSETTO:-0500
TZNAME:CDT
DTSTART:20240310T080000
END:DAYLIGHT
BEGIN:STANDARD
TZOFFSETFROM:-0500
TZOFFSETTO:-0600
TZNAME:CST
DTSTART:20241103T070000
END:STANDARD
BEGIN:DAYLIGHT
TZOFFSETFROM:-0600
TZOFFSETTO:-0500
TZNAME:CDT
DTSTART:20250309T080000
END:DAYLIGHT
BEGIN:STANDARD
TZOFFSETFROM:-0500
TZOFFSETTO:-0600
TZNAME:CST
DTSTART:20251102T070000
END:STANDARD
BEGIN:DAYLIGHT
TZOFFSETFROM:-0600
TZOFFSETTO:-0500
TZNAME:CDT
DTSTART:20260308T080000
END:DAYLIGHT
BEGIN:STANDARD
TZOFFSETFROM:-0500
TZOFFSETTO:-0600
TZNAME:CST
DTSTART:20261101T070000
END:STANDARD
END:VTIMEZONE
BEGIN:VEVENT
DTSTART;TZID=America/Chicago:20251114T130000
DTEND;TZID=America/Chicago:20251114T150000
DTSTAMP:20260423T003754
CREATED:20251110T205656Z
LAST-MODIFIED:20251110T205656Z
UID:10005233-1763125200-1763132400@sustain.auburn.edu
SUMMARY:Parkerson Mill Creek Cleanup
DESCRIPTION:Join Risk Management and Safety next Friday from 1 pm-3 pm for a fun-filled creek cleanup with the Navy ROTC and Political Science students\, currently with Dr. Paul Harris. Gloves\, bags\, and ice water provided. They had over 80\nparticipants last November\, and hope to top that this year. \nThey will meet up at the recreation field house next to the soccer complex\, across from the McWhorter Center. They hope to see you there. \n  \nContact: \nMike Freeman\nAuburn University\nRisk Management and Safety\n334-740-1267 or freemms@auburn.edu
URL:https://sustain.auburn.edu/event/parkerson-mill-creek-cleanup-3/
LOCATION:Intramural Fieldhouse
CATEGORIES:Administration,All-Employees,Alumni,Anyone,Daytime,Gathering,On-Campus,Students,Volunteer
ATTACH;FMTTYPE=image/png:https://sustain.auburn.edu/wp-content/uploads/2022/09/Risk-Management-and-Safety-Event.png
END:VEVENT
END:VCALENDAR