BEGIN:VCALENDAR
VERSION:2.0
PRODID:-//Office of Sustainability - ECPv6.15.15//NONSGML v1.0//EN
CALSCALE:GREGORIAN
METHOD:PUBLISH
X-WR-CALNAME:Office of Sustainability
X-ORIGINAL-URL:https://sustain.auburn.edu
X-WR-CALDESC:Events for Office of Sustainability
REFRESH-INTERVAL;VALUE=DURATION:PT1H
X-Robots-Tag:noindex
X-PUBLISHED-TTL:PT1H
BEGIN:VTIMEZONE
TZID:America/Chicago
BEGIN:DAYLIGHT
TZOFFSETFROM:-0600
TZOFFSETTO:-0500
TZNAME:CDT
DTSTART:20240310T080000
END:DAYLIGHT
BEGIN:STANDARD
TZOFFSETFROM:-0500
TZOFFSETTO:-0600
TZNAME:CST
DTSTART:20241103T070000
END:STANDARD
BEGIN:DAYLIGHT
TZOFFSETFROM:-0600
TZOFFSETTO:-0500
TZNAME:CDT
DTSTART:20250309T080000
END:DAYLIGHT
BEGIN:STANDARD
TZOFFSETFROM:-0500
TZOFFSETTO:-0600
TZNAME:CST
DTSTART:20251102T070000
END:STANDARD
BEGIN:DAYLIGHT
TZOFFSETFROM:-0600
TZOFFSETTO:-0500
TZNAME:CDT
DTSTART:20260308T080000
END:DAYLIGHT
BEGIN:STANDARD
TZOFFSETFROM:-0500
TZOFFSETTO:-0600
TZNAME:CST
DTSTART:20261101T070000
END:STANDARD
END:VTIMEZONE
BEGIN:VEVENT
DTSTART;TZID=America/Chicago:20250426T090000
DTEND;TZID=America/Chicago:20250426T120000
DTSTAMP:20260421T010906
CREATED:20250331T172653Z
LAST-MODIFIED:20250331T172731Z
UID:10005021-1745658000-1745668800@sustain.auburn.edu
SUMMARY:Kreher Rallying for Sustainable Communities
DESCRIPTION:Join AU’s Sustainable Bio-based Materials Lab at the Kreher Preserve & Nature Center for an exciting and educational family event\, Rallying for Sustainable Communities! Get ready to embark on a journey through interactive stations filled with hands-on activities that will teach you all about sustainability and how to take care of our world\, starting right at home. \nThis event is free for the entire family and promises a day full of fun activities\, snacks\, lunch\, and even a hiking tour. Our amazing volunteers will be there to engage with families\, spreading eco-awareness and sharing tips for sustainable living. From wildlife to recycled paper making\, our interactive stations will be buzzing with green energy! For more information\, click here to visit Kreher Preserve’s website.
URL:https://sustain.auburn.edu/event/kreher-rallying-for-sustainable-communities/
LOCATION:Kreher Preserve & Nature Center\, United States
CATEGORIES:Anyone,Volunteer
ATTACH;FMTTYPE=image/png:https://sustain.auburn.edu/wp-content/uploads/2016/12/Kreher-Preserve-Nature-Center-Events.png
GEO:32.658578;-85.485692
END:VEVENT
END:VCALENDAR