BEGIN:VCALENDAR
VERSION:2.0
PRODID:-//Office of Sustainability - ECPv6.15.15//NONSGML v1.0//EN
CALSCALE:GREGORIAN
METHOD:PUBLISH
X-WR-CALNAME:Office of Sustainability
X-ORIGINAL-URL:https://sustain.auburn.edu
X-WR-CALDESC:Events for Office of Sustainability
REFRESH-INTERVAL;VALUE=DURATION:PT1H
X-Robots-Tag:noindex
X-PUBLISHED-TTL:PT1H
BEGIN:VTIMEZONE
TZID:America/Chicago
BEGIN:DAYLIGHT
TZOFFSETFROM:-0600
TZOFFSETTO:-0500
TZNAME:CDT
DTSTART:20230312T080000
END:DAYLIGHT
BEGIN:STANDARD
TZOFFSETFROM:-0500
TZOFFSETTO:-0600
TZNAME:CST
DTSTART:20231105T070000
END:STANDARD
BEGIN:DAYLIGHT
TZOFFSETFROM:-0600
TZOFFSETTO:-0500
TZNAME:CDT
DTSTART:20240310T080000
END:DAYLIGHT
BEGIN:STANDARD
TZOFFSETFROM:-0500
TZOFFSETTO:-0600
TZNAME:CST
DTSTART:20241103T070000
END:STANDARD
BEGIN:DAYLIGHT
TZOFFSETFROM:-0600
TZOFFSETTO:-0500
TZNAME:CDT
DTSTART:20250309T080000
END:DAYLIGHT
BEGIN:STANDARD
TZOFFSETFROM:-0500
TZOFFSETTO:-0600
TZNAME:CST
DTSTART:20251102T070000
END:STANDARD
END:VTIMEZONE
BEGIN:VEVENT
DTSTART;TZID=America/Chicago:20241108T133000
DTEND;TZID=America/Chicago:20241108T150000
DTSTAMP:20260424T025223
CREATED:20240926T181828Z
LAST-MODIFIED:20241105T160844Z
UID:10004745-1731072600-1731078000@sustain.auburn.edu
SUMMARY:Parkerson Mill Creek Cleanup
DESCRIPTION:MAKE AN IMPACT AND HELP CLEAN THE PARKERSON MILL CREEK. \nJoin Auburn’s Risk Management and Safety and Stormwater Management to help cleanup Parkerson Mill Creek. This vital waterway in the heart of campus is used for outdoor classrooms\, recreation\, and more. It’s up to the Auburn University Community to keep this living stream vibrant\, clean\, and beautiful. Supplies will be provided\, and attendees are asked to bring waterproof shoes and clothes that they do not mind getting dirty. \nThe group will be meeting at the intramural field house. To learn more please see the flyer on linked on Auburn’s Stormwater Management page.
URL:https://sustain.auburn.edu/event/parkerson-mill-creek-cleanup-2/
LOCATION:Event Venue | Parkerson Mill Creek Outside of Wellness Kitchen\, 370 S Donahue Dr\, Auburn\, AL\, 36832\, United States
CATEGORIES:Evening,Gathering,Staff,Students,Volunteer
ATTACH;FMTTYPE=image/png:https://sustain.auburn.edu/wp-content/uploads/2022/09/Risk-Management-and-Safety-Event.png
GEO:32.5987728;-85.4909254
X-APPLE-STRUCTURED-LOCATION;VALUE=URI;X-ADDRESS=Event Venue | Parkerson Mill Creek Outside of Wellness Kitchen 370 S Donahue Dr Auburn AL 36832 United States;X-APPLE-RADIUS=500;X-TITLE=370 S Donahue Dr:geo:-85.4909254,32.5987728
END:VEVENT
END:VCALENDAR