BEGIN:VCALENDAR
VERSION:2.0
PRODID:-//Office of Sustainability - ECPv6.15.15//NONSGML v1.0//EN
CALSCALE:GREGORIAN
METHOD:PUBLISH
X-ORIGINAL-URL:https://sustain.auburn.edu
X-WR-CALDESC:Events for Office of Sustainability
REFRESH-INTERVAL;VALUE=DURATION:PT1H
X-Robots-Tag:noindex
X-PUBLISHED-TTL:PT1H
BEGIN:VTIMEZONE
TZID:America/Chicago
BEGIN:DAYLIGHT
TZOFFSETFROM:-0600
TZOFFSETTO:-0500
TZNAME:CDT
DTSTART:20250309T080000
END:DAYLIGHT
BEGIN:STANDARD
TZOFFSETFROM:-0500
TZOFFSETTO:-0600
TZNAME:CST
DTSTART:20251102T070000
END:STANDARD
BEGIN:DAYLIGHT
TZOFFSETFROM:-0600
TZOFFSETTO:-0500
TZNAME:CDT
DTSTART:20260308T080000
END:DAYLIGHT
BEGIN:STANDARD
TZOFFSETFROM:-0500
TZOFFSETTO:-0600
TZNAME:CST
DTSTART:20261101T070000
END:STANDARD
BEGIN:DAYLIGHT
TZOFFSETFROM:-0600
TZOFFSETTO:-0500
TZNAME:CDT
DTSTART:20270314T080000
END:DAYLIGHT
BEGIN:STANDARD
TZOFFSETFROM:-0500
TZOFFSETTO:-0600
TZNAME:CST
DTSTART:20271107T070000
END:STANDARD
END:VTIMEZONE
BEGIN:VEVENT
DTSTART;TZID=America/Chicago:20260409T103000
DTEND;TZID=America/Chicago:20260409T113000
DTSTAMP:20260422T103132
CREATED:20260407T195547Z
LAST-MODIFIED:20260407T195547Z
UID:10005298-1775730600-1775734200@sustain.auburn.edu
SUMMARY:Creative Impact: Building Programs That Transform Communities
DESCRIPTION:Don’t miss this month’s virtual program:\n“Creative Impact: Building Programs That Transform Communities” with Hannah Wohltjen\, Chief Research and Evaluation Officer & Co-Founder at Elevate Consulting. \nCan’t attend live? Register anyway! You’ll receive the session recording\, presentation slides\, and any extra resources shared by the speaker. \nREGISTER HERE
URL:https://sustain.auburn.edu/event/creative-impact-building-programs-that-transform-communities/
LOCATION:Virtual Event\, United States
CATEGORIES:Anyone,Talk,Web-Based
ATTACH;FMTTYPE=image/png:https://sustain.auburn.edu/wp-content/uploads/2022/08/college-of-human-sciences-event.png
GEO:38.7945952;-106.5348379
END:VEVENT
BEGIN:VEVENT
DTSTART;TZID=America/Chicago:20260409T140000
DTEND;TZID=America/Chicago:20260409T160000
DTSTAMP:20260422T103132
CREATED:20260406T185312Z
LAST-MODIFIED:20260406T185312Z
UID:10005294-1775743200-1775750400@sustain.auburn.edu
SUMMARY:Weaver Lecture Series
DESCRIPTION:The Auburn University College of Forestry\, Wildlife and Environment’s Weaver Lecture Series proudly presents a lecture by Matthew Betts\, the Ruth Spaniol Chair of Natural Resources Conservation in the Department of Forest Ecosystems and Society at Oregon State University\, on Thursday\, April 9\, at 2 p.m.\, immediately followed by a reception at the Forestry\, Wildlife and Environment Building located at 602 Duncan Drive\, Auburn\, Ala. \nSummarizing 18 years of research\, Betts’ lecture titled “Can we have our cake and eat it too? Conserving forest biodiversity in an age of humans.” will examine how forest management affects biodiversity across local\, landscape and global scales. Further\, Betts will address the broader question of how to satisfy global wood demand at the least cost to biodiversity and the climate.
URL:https://sustain.auburn.edu/event/weaver-lecture-series/
LOCATION:Forestry\, Wildlife\, and Environment Building Conference Hall Room 1101\, 602 Duncan Drive\, Auburn\, AL\, 36832\, United States
CATEGORIES:All-Employees,Daytime,Gathering,Students,Talk
ATTACH;FMTTYPE=image/png:https://sustain.auburn.edu/wp-content/uploads/2024/11/College-of-Forestry-Wildlife-and-Environment-1.png
ORGANIZER;CN="College of Forestry%2C Wildlife and Environment":MAILTO:334-844-1007
GEO:32.5948005;-85.4878869
X-APPLE-STRUCTURED-LOCATION;VALUE=URI;X-ADDRESS=Forestry Wildlife and Environment Building Conference Hall Room 1101 602 Duncan Drive Auburn AL 36832 United States;X-APPLE-RADIUS=500;X-TITLE=602 Duncan Drive:geo:-85.4878869,32.5948005
END:VEVENT
BEGIN:VEVENT
DTSTART;TZID=America/Chicago:20260414T150000
DTEND;TZID=America/Chicago:20260414T160000
DTSTAMP:20260422T103132
CREATED:20260408T210642Z
LAST-MODIFIED:20260408T210642Z
UID:10005301-1776178800-1776182400@sustain.auburn.edu
SUMMARY:Streamside Planting Workshop
DESCRIPTION:Learn about how to keep our streams healthy and stable – with native plants! Find out why stream-side plants matter\, which ones to pick\, and exactly how to plant them to keep stream banks strong and healthy. Take home native plants while supplies last. \nRegistration is Required. \nRegister Here
URL:https://sustain.auburn.edu/event/streamside-planting-workshop-2/
LOCATION:Lee county Extension Office\, 600 S 7th St\, Suite 4\, Opelika\, AL\, 36801\, United States
CATEGORIES:Anyone,Talk,Workshop
ATTACH;FMTTYPE=image/png:https://sustain.auburn.edu/wp-content/uploads/2026/04/Calendar-3.png
GEO:32.6444682;-85.3725878
X-APPLE-STRUCTURED-LOCATION;VALUE=URI;X-ADDRESS=Lee county Extension Office 600 S 7th St Suite 4 Opelika AL 36801 United States;X-APPLE-RADIUS=500;X-TITLE=600 S 7th St\, Suite 4:geo:-85.3725878,32.6444682
END:VEVENT
END:VCALENDAR