BEGIN:VCALENDAR
VERSION:2.0
PRODID:-//Office of Sustainability - ECPv6.15.15//NONSGML v1.0//EN
CALSCALE:GREGORIAN
METHOD:PUBLISH
X-WR-CALNAME:Office of Sustainability
X-ORIGINAL-URL:https://sustain.auburn.edu
X-WR-CALDESC:Events for Office of Sustainability
REFRESH-INTERVAL;VALUE=DURATION:PT1H
X-Robots-Tag:noindex
X-PUBLISHED-TTL:PT1H
BEGIN:VTIMEZONE
TZID:America/Chicago
BEGIN:DAYLIGHT
TZOFFSETFROM:-0600
TZOFFSETTO:-0500
TZNAME:CDT
DTSTART:20240310T080000
END:DAYLIGHT
BEGIN:STANDARD
TZOFFSETFROM:-0500
TZOFFSETTO:-0600
TZNAME:CST
DTSTART:20241103T070000
END:STANDARD
BEGIN:DAYLIGHT
TZOFFSETFROM:-0600
TZOFFSETTO:-0500
TZNAME:CDT
DTSTART:20250309T080000
END:DAYLIGHT
BEGIN:STANDARD
TZOFFSETFROM:-0500
TZOFFSETTO:-0600
TZNAME:CST
DTSTART:20251102T070000
END:STANDARD
BEGIN:DAYLIGHT
TZOFFSETFROM:-0600
TZOFFSETTO:-0500
TZNAME:CDT
DTSTART:20260308T080000
END:DAYLIGHT
BEGIN:STANDARD
TZOFFSETFROM:-0500
TZOFFSETTO:-0600
TZNAME:CST
DTSTART:20261101T070000
END:STANDARD
END:VTIMEZONE
BEGIN:VEVENT
DTSTART;TZID=America/Chicago:20250410T153000
DTEND;TZID=America/Chicago:20250410T170000
DTSTAMP:20260424T103329
CREATED:20250331T183141Z
LAST-MODIFIED:20250331T183921Z
UID:10005023-1744299000-1744304400@sustain.auburn.edu
SUMMARY:Geographic Indigenous Futures Ft. Dr. Smiles
DESCRIPTION:Join the Department of Geosciences for an important and timely talk by Dr. Deondre Smiles\, Director of the Geographic Indigenous Futures Collaboratory\, as he explores the powerful possibilities of Indigenous scholarship for the discipline of Geography in the face of climate and political instability. \nLearn more about Dr. Niiyokamigaabaw Deondre Smiles:\na research associate in the Institute for Resources\, Environment\, and Sustainability at the University of British Columbia. They are an Indigenous geographer who focuses on Indigenous cultural and political responses to human-driven climate and environmental change. They also direct the Geographic Indigenous Futures Collaboratory\, an international research group that works with Indigenous communities on geographic-based projects. Dr. Smiles holds a PhD in Geography from The Ohio State University.
URL:https://sustain.auburn.edu/event/geographic-indigenous-futures-ft-dr-smiles/
LOCATION:Event Venue | ACLC – Room 208\, Duncan Drive\, Auburn\, AL\, 36849\, United States
CATEGORIES:Faculty,Graduate Students,On Campus,Staff,Students,Talk
GEO:32.599398;-85.4877017
X-APPLE-STRUCTURED-LOCATION;VALUE=URI;X-ADDRESS=Event Venue | ACLC – Room 208 Duncan Drive Auburn AL 36849 United States;X-APPLE-RADIUS=500;X-TITLE=Duncan Drive:geo:-85.4877017,32.599398
END:VEVENT
END:VCALENDAR