BEGIN:VCALENDAR
VERSION:2.0
PRODID:-//Office of Sustainability - ECPv6.15.15//NONSGML v1.0//EN
CALSCALE:GREGORIAN
METHOD:PUBLISH
X-WR-CALNAME:Office of Sustainability
X-ORIGINAL-URL:https://sustain.auburn.edu
X-WR-CALDESC:Events for Office of Sustainability
REFRESH-INTERVAL;VALUE=DURATION:PT1H
X-Robots-Tag:noindex
X-PUBLISHED-TTL:PT1H
BEGIN:VTIMEZONE
TZID:America/Chicago
BEGIN:DAYLIGHT
TZOFFSETFROM:-0600
TZOFFSETTO:-0500
TZNAME:CDT
DTSTART:20190310T080000
END:DAYLIGHT
BEGIN:STANDARD
TZOFFSETFROM:-0500
TZOFFSETTO:-0600
TZNAME:CST
DTSTART:20191103T070000
END:STANDARD
BEGIN:DAYLIGHT
TZOFFSETFROM:-0600
TZOFFSETTO:-0500
TZNAME:CDT
DTSTART:20200308T080000
END:DAYLIGHT
BEGIN:STANDARD
TZOFFSETFROM:-0500
TZOFFSETTO:-0600
TZNAME:CST
DTSTART:20201101T070000
END:STANDARD
BEGIN:DAYLIGHT
TZOFFSETFROM:-0600
TZOFFSETTO:-0500
TZNAME:CDT
DTSTART:20210314T080000
END:DAYLIGHT
BEGIN:STANDARD
TZOFFSETFROM:-0500
TZOFFSETTO:-0600
TZNAME:CST
DTSTART:20211107T070000
END:STANDARD
END:VTIMEZONE
BEGIN:VEVENT
DTSTART;TZID=America/Chicago:20201112T080000
DTEND;TZID=America/Chicago:20201112T170000
DTSTAMP:20260425T085744
CREATED:20201112T235738Z
LAST-MODIFIED:20201112T235738Z
UID:10003288-1605168000-1605200400@sustain.auburn.edu
SUMMARY:Let's Talk! Black Experience Edition
DESCRIPTION:Staff members from Auburn University’s Student Counseling & Psychological Services\, or SCPS\, is inviting Black students to join them for a special online event titled “Let’s Talk! Black Experience Edition\,” a virtual space to communicate about how they are feeling in today’s world.
URL:https://sustain.auburn.edu/event/lets-talk-black-experience-edition/
LOCATION:Virtual Event | Check Event Page for Link\, United States
CATEGORIES:Administration,All Employees,Alumni,Anyone,Evening,Faculty,Graduate Students,Meeting,Students,Talk,Voting,Web Based
ATTACH;FMTTYPE=image/png:https://sustain.auburn.edu/wp-content/uploads/2020/09/AU-Student-Counseling-Services-Event.png
GEO:38.7945952;-106.5348379
END:VEVENT
BEGIN:VEVENT
DTSTART;TZID=America/Chicago:20201112T090000
DTEND;TZID=America/Chicago:20201112T173000
DTSTAMP:20260425T085744
CREATED:20201112T011015Z
LAST-MODIFIED:20201112T011015Z
UID:10003286-1605171600-1605202200@sustain.auburn.edu
SUMMARY:Auburn vs. Alabama Blood Battle
DESCRIPTION:Give blood! Donate blood with the American Red Cross at the Beat Bama Blood Drive. Donate at the Auburn University Student Center 3rd Floor Ball Room.
URL:https://sustain.auburn.edu/event/auburn-vs-alabama-blood-battle/
LOCATION:Event Venue | Student Center – 3rd Floor Ball Room\, United States
CATEGORIES:Administration,All Employees,Alumni,Anyone,Daytime,Evening,Faculty,Graduate Students,Other,Students
ATTACH;FMTTYPE=image/png:https://sustain.auburn.edu/wp-content/uploads/2016/12/Default-Event.png
GEO:37.09024;-95.712891
END:VEVENT
BEGIN:VEVENT
DTSTART;TZID=America/Chicago:20201112T140000
DTEND;TZID=America/Chicago:20201112T153000
DTSTAMP:20260425T085744
CREATED:20201110T051926Z
LAST-MODIFIED:20201113T000618Z
UID:10003264-1605189600-1605195000@sustain.auburn.edu
SUMMARY:LGBTQ+ In the Workplace
DESCRIPTION:The experience of entering the workplace can look different for everyone\, and some encounter unique obstacles. Join us for an open discussion of what the job search process looked like for diverse alumni\, as well as the challenges faced in the workplace.\n\nThis session will focus on those on the LGBT+ spectrum and their transition to the workplace. Hear from others who have already navigated this process and ask questions you are wanting to know.\n\nThis Zoom event will include 4-5 panelists and an opportunity to ask questions openly or anonymously.
URL:https://sustain.auburn.edu/event/lgbtq-in-the-workplace/2020-11-12/
LOCATION:Virtual Event | Check Event Page for Link\, United States
CATEGORIES:Administration,All Employees,Alumni,Anyone,Conference,Daytime,Faculty,Graduate Students,Meeting,Staff,Students,Talk,Web Based
ATTACH;FMTTYPE=image/png:https://sustain.auburn.edu/wp-content/uploads/2017/09/Career-Center-Event.png
GEO:38.7945952;-106.5348379
END:VEVENT
BEGIN:VEVENT
DTSTART;TZID=America/Chicago:20201112T143000
DTEND;TZID=America/Chicago:20201112T153000
DTSTAMP:20260425T085744
CREATED:20201026T170730Z
LAST-MODIFIED:20201028T051236Z
UID:10003235-1605191400-1605195000@sustain.auburn.edu
SUMMARY:Tree Planting
DESCRIPTION:AU Facilities Management Landscape Services is looking for 20 volunteers to help participate in a City/Extension partnered project to provide free native trees for property owners who remove invasive tree species. They have already removed over 100 exotic invasive trees on campus and need help to plant the new 100 native trees. These include Southern Sugar maple\, Black tupelo\, Mexican Plum\, and Cherrybark oak! This event is under guidance provided by Arbor Day for Auburn University’s Tree Campus – Higher Education designation. \nThey will meet in the cul-de-sac of Extension Loop behind the District Energy Plant on the west side of campus. Shovels\, gloves and trees placed at adequate socially-distanced spacing will all be provided. If you are interested\, please contact Alex Hedgepath (abh0010@auburn.edu)
URL:https://sustain.auburn.edu/event/tree-planting/
LOCATION:Event Venue | District Energy Plant
CATEGORIES:Administration,All Employees,Alumni,Anyone,Daytime,Faculty,Gathering,Meeting,On Campus,Staff,Students,Volunteer
ATTACH;FMTTYPE=image/png:https://sustain.auburn.edu/wp-content/uploads/2020/10/Default-Event-jo5OOK.tmp_.png
END:VEVENT
BEGIN:VEVENT
DTSTART;TZID=America/Chicago:20201112T180000
DTEND;TZID=America/Chicago:20201112T190000
DTSTAMP:20260425T085744
CREATED:20201105T044600Z
LAST-MODIFIED:20201105T044600Z
UID:10002686-1605204000-1605207600@sustain.auburn.edu
SUMMARY:Comets // COSAM Campfire
DESCRIPTION:COSAM is hosting STEM activity for the family. It will be a physically distanced event presented by Auburn University faculty. These campfires will be a series of mini-talks about different science\, technology\, and other topics. For November 12th this COSAM campfire will be featuring comets. A snack and a family portrait will be provided.
URL:https://sustain.auburn.edu/event/comets-cosam-campfire/
LOCATION:Event Venue | Donald E. Davis Arboretum
CATEGORIES:Administration,All Employees,Alumni,Anyone,Evening,Faculty,Gathering,On Campus,Staff,Students,Talk
ATTACH;FMTTYPE=image/png:https://sustain.auburn.edu/wp-content/uploads/2017/04/COSAM-Event.png
GEO:32.593754;-85.484464
END:VEVENT
BEGIN:VEVENT
DTSTART;TZID=America/Chicago:20201112T180000
DTEND;TZID=America/Chicago:20201112T200000
DTSTAMP:20260425T085744
CREATED:20201028T043742Z
LAST-MODIFIED:20201028T043742Z
UID:10003243-1605204000-1605211200@sustain.auburn.edu
SUMMARY:Recipes\, Positive Thoughts\, & Workouts // Mental Health Awareness Festival
DESCRIPTION:The Auburn Theatre Events Management has decided to host a virtual Mental Health Awareness Festival\, to provide support to our peers in these difficult times. Over the course of four days\, they will offer a wide variety of crafting\, exercise\, mindfulness\, and conversation in an effort to teach healthy habits and start a healthy conversation concerning mental wellness. The event is free and open to anyone who would like to participate.
URL:https://sustain.auburn.edu/event/recipes-positive-thoughts-workouts-mental-health-awareness-festival/
LOCATION:Virtual Event | Check Event Page for Link\, United States
CATEGORIES:Administration,All Employees,Alumni,Anyone,Conference,Evening,Multi-Day,Staff,Students,Talk,Web Based
ATTACH;FMTTYPE=image/png:https://sustain.auburn.edu/wp-content/uploads/2020/10/Default-Event-jo5OOK.tmp_.png
ORGANIZER;CN="Event Organizer | Auburn Theatre Management":MAILTO:glc0014@auburn.edu
GEO:38.7945952;-106.5348379
END:VEVENT
END:VCALENDAR