BEGIN:VCALENDAR
VERSION:2.0
PRODID:-//Office of Sustainability - ECPv6.15.15//NONSGML v1.0//EN
CALSCALE:GREGORIAN
METHOD:PUBLISH
X-WR-CALNAME:Office of Sustainability
X-ORIGINAL-URL:https://sustain.auburn.edu
X-WR-CALDESC:Events for Office of Sustainability
REFRESH-INTERVAL;VALUE=DURATION:PT1H
X-Robots-Tag:noindex
X-PUBLISHED-TTL:PT1H
BEGIN:VTIMEZONE
TZID:America/Chicago
BEGIN:DAYLIGHT
TZOFFSETFROM:-0600
TZOFFSETTO:-0500
TZNAME:CDT
DTSTART:20240310T080000
END:DAYLIGHT
BEGIN:STANDARD
TZOFFSETFROM:-0500
TZOFFSETTO:-0600
TZNAME:CST
DTSTART:20241103T070000
END:STANDARD
BEGIN:DAYLIGHT
TZOFFSETFROM:-0600
TZOFFSETTO:-0500
TZNAME:CDT
DTSTART:20250309T080000
END:DAYLIGHT
BEGIN:STANDARD
TZOFFSETFROM:-0500
TZOFFSETTO:-0600
TZNAME:CST
DTSTART:20251102T070000
END:STANDARD
BEGIN:DAYLIGHT
TZOFFSETFROM:-0600
TZOFFSETTO:-0500
TZNAME:CDT
DTSTART:20260308T080000
END:DAYLIGHT
BEGIN:STANDARD
TZOFFSETFROM:-0500
TZOFFSETTO:-0600
TZNAME:CST
DTSTART:20261101T070000
END:STANDARD
END:VTIMEZONE
BEGIN:VEVENT
DTSTART;TZID=America/Chicago:20251003T120000
DTEND;TZID=America/Chicago:20251003T140000
DTSTAMP:20260422T093602
CREATED:20250825T222036Z
LAST-MODIFIED:20250825T222036Z
UID:10005182-1759492800-1759500000@sustain.auburn.edu
SUMMARY:Moon Festival
DESCRIPTION:Taiwan Center and Korea Center joint Moon Festival/Chuseok event with food\, games and student performances
URL:https://sustain.auburn.edu/event/moon-festival/
LOCATION:Cater Lawn\, Auburn University
CATEGORIES:Administration,All-Employees,Alumni,On-Campus,Social-Event,Students
ATTACH;FMTTYPE=image/png:https://sustain.auburn.edu/wp-content/uploads/2020/10/Auburn-International-Programs-Event-eYvKKh.tmp_.png
GEO:32.5933574;-85.4951663
END:VEVENT
BEGIN:VEVENT
DTSTART;TZID=America/Chicago:20251003T160000
DTEND;TZID=America/Chicago:20251003T173000
DTSTAMP:20260422T093602
CREATED:20250929T215825Z
LAST-MODIFIED:20250929T215918Z
UID:10005220-1759507200-1759512600@sustain.auburn.edu
SUMMARY:Social Hour
DESCRIPTION:Social hour is a weekly event held by ISO where students get the opportunity to try new foods.
URL:https://sustain.auburn.edu/event/social-hour/2025-10-03/
LOCATION:The Melton Student Center\, Heisman Drive\, Auburn\, AL\, 36849\, United States
CATEGORIES:Evening,On-Campus,Social-Event,Students
ATTACH;FMTTYPE=image/png:https://sustain.auburn.edu/wp-content/uploads/2025/08/Student-Invovlement_Scaled.png
GEO:32.6024867;-85.4869588
X-APPLE-STRUCTURED-LOCATION;VALUE=URI;X-ADDRESS=The Melton Student Center Heisman Drive Auburn AL 36849 United States;X-APPLE-RADIUS=500;X-TITLE=Heisman Drive:geo:-85.4869588,32.6024867
END:VEVENT
BEGIN:VEVENT
DTSTART;TZID=America/Chicago:20251009T080000
DTEND;TZID=America/Chicago:20251012T170000
DTSTAMP:20260422T093602
CREATED:20250904T190419Z
LAST-MODIFIED:20250904T190419Z
UID:10005201-1759996800-1760288400@sustain.auburn.edu
SUMMARY:Fall Break at Mammoth Cave
DESCRIPTION:Registration on RWC Connect: August 18 – September 23 \nCost: $120 \nJoin Auburn Outdoors for an epic Fall Break adventure to Mammoth Cave National Park – the longest known cave system in the world. You’ll explore a natural cave\, canoe the river\, and hike trails of south-central Kentucky by day and camp under the stars at night.  \nA required pre-trip meeting for trip participants will be held on September 23rd @ 5 p.m. Transportation\, meals\, camping accommodations\, entrance fees\, and all gear are included in the trip fee.
URL:https://sustain.auburn.edu/event/fall-break-at-mammoth-cave/
LOCATION:Auburn Outdoors
CATEGORIES:Exercise,Multi-Day,Off-Campus,Outing,Students
ATTACH;FMTTYPE=image/png:https://sustain.auburn.edu/wp-content/uploads/2020/10/Auburn-Outdoors-Events-1-Zpto0R.tmp_-e1769639735491.png
GEO:32.601335;-85.492816
END:VEVENT
BEGIN:VEVENT
DTSTART;TZID=America/Chicago:20251014T120000
DTEND;TZID=America/Chicago:20251014T130000
DTSTAMP:20260422T093602
CREATED:20250203T170057Z
LAST-MODIFIED:20250203T192436Z
UID:10004789-1760443200-1760446800@sustain.auburn.edu
SUMMARY:Davis Arboretum Second Tuesday Tours
DESCRIPTION:Experience the Davis Arboretum like never before! Make plans to attend our new “Second Tuesday Garden Tours” beginning Tuesday\, February 11\, 2025\, at 12:00 PM! Grab your friends and colleagues and meet us at the Arboretum pavilion for a delightful midday stroll through our beautiful garden as you learn about the wonderful world of Alabama’s native plants. \nTours will meet on the 2nd Tuesday of each month with additional tours available during the stunning peak bloom and vibrant color change seasons. \nJoin us as you rediscover the wonder and beauty of Auburn University’s Davis Arboretum! \n 
URL:https://sustain.auburn.edu/event/davis-arboretum-second-tuesday-tours/2025-10-14/
LOCATION:Donald E. Davis Arboretum
CATEGORIES:All-Employees,Alumni,Anyone,Concert,Daytime,On-Campus,Students
ATTACH;FMTTYPE=image/png:https://sustain.auburn.edu/wp-content/uploads/2020/10/Arboretum-Event-LzuIx1.tmp_.png
GEO:32.593754;-85.484464
END:VEVENT
BEGIN:VEVENT
DTSTART;TZID=America/Chicago:20251017T160000
DTEND;TZID=America/Chicago:20251017T173000
DTSTAMP:20260422T093602
CREATED:20250929T215825Z
LAST-MODIFIED:20250929T215918Z
UID:10005221-1760716800-1760722200@sustain.auburn.edu
SUMMARY:Social Hour
DESCRIPTION:Social hour is a weekly event held by ISO where students get the opportunity to try new foods.
URL:https://sustain.auburn.edu/event/social-hour/2025-10-17/
LOCATION:The Melton Student Center\, Heisman Drive\, Auburn\, AL\, 36849\, United States
CATEGORIES:Evening,On-Campus,Social-Event,Students
ATTACH;FMTTYPE=image/png:https://sustain.auburn.edu/wp-content/uploads/2025/08/Student-Invovlement_Scaled.png
GEO:32.6024867;-85.4869588
X-APPLE-STRUCTURED-LOCATION;VALUE=URI;X-ADDRESS=The Melton Student Center Heisman Drive Auburn AL 36849 United States;X-APPLE-RADIUS=500;X-TITLE=Heisman Drive:geo:-85.4869588,32.6024867
END:VEVENT
BEGIN:VEVENT
DTSTART;TZID=America/Chicago:20251017T173000
DTEND;TZID=America/Chicago:20251017T173000
DTSTAMP:20260422T093602
CREATED:20250828T170107Z
LAST-MODIFIED:20250828T170107Z
UID:10005184-1760722200-1760722200@sustain.auburn.edu
SUMMARY:Taiwan Center -Taiwan Night
DESCRIPTION:Join the AU-NCKU Taiwan Center at Taiwan Night and experience what a Taiwanese night market might be like in Taiwan! There will be games\, prizes and free food (+ free boba tea from Kung Fu Tea)! \nIf you haven’t been to a traditional Taiwanese Night market\, don’t miss out and come join in on the fun! We hope to see you there!
URL:https://sustain.auburn.edu/event/taiwan-center-taiwan-night-2/
LOCATION:Foy Hall – Room 208\, United States
CATEGORIES:All-Employees,Celebration,Evening,On-Campus,Social-Event,Students
ATTACH;FMTTYPE=image/png:https://sustain.auburn.edu/wp-content/uploads/2020/10/Auburn-International-Programs-Event-eYvKKh.tmp_.png
GEO:32.604839;-85.484783
END:VEVENT
BEGIN:VEVENT
DTSTART;TZID=America/Chicago:20251024T160000
DTEND;TZID=America/Chicago:20251024T173000
DTSTAMP:20260422T093602
CREATED:20250929T215825Z
LAST-MODIFIED:20250929T215918Z
UID:10005222-1761321600-1761327000@sustain.auburn.edu
SUMMARY:Social Hour
DESCRIPTION:Social hour is a weekly event held by ISO where students get the opportunity to try new foods.
URL:https://sustain.auburn.edu/event/social-hour/2025-10-24/
LOCATION:The Melton Student Center\, Heisman Drive\, Auburn\, AL\, 36849\, United States
CATEGORIES:Evening,On-Campus,Social-Event,Students
ATTACH;FMTTYPE=image/png:https://sustain.auburn.edu/wp-content/uploads/2025/08/Student-Invovlement_Scaled.png
GEO:32.6024867;-85.4869588
X-APPLE-STRUCTURED-LOCATION;VALUE=URI;X-ADDRESS=The Melton Student Center Heisman Drive Auburn AL 36849 United States;X-APPLE-RADIUS=500;X-TITLE=Heisman Drive:geo:-85.4869588,32.6024867
END:VEVENT
BEGIN:VEVENT
DTSTART;TZID=America/Chicago:20251025T090000
DTEND;TZID=America/Chicago:20251026T170000
DTSTAMP:20260422T093602
CREATED:20250911T190726Z
LAST-MODIFIED:20250911T190726Z
UID:10005216-1761382800-1761498000@sustain.auburn.edu
SUMMARY:Intro to Backpacking Trip
DESCRIPTION:Registration is open on RWC Connect: August 18 – October 14 \nJoin Auburn Outdoors for a 2-day\, 1-night backpacking trip to the Pine Mountain Trail. Whether you’re new to backpacking or looking for a low-mileage\, overnight trip with stunning views\, you’ll find community and new experiences on this trip. During this trip\, you’ll wade under a waterfall and hike roughly 10 miles in beautiful Pine Mountain\, GA. Whether it’s your first experience in the backcountry or you’re a seasoned pro\, you’ll find community and new experiences on this trip. A required pre-trip meeting for trip participants will be held on October 14 @ 5 p.m. Transportation\, meals\, camping accommodations\, entrance fees\, and all gear are included in the trip fee.
URL:https://sustain.auburn.edu/event/intro-to-backpacking-trip/
LOCATION:Auburn Outdoors
CATEGORIES:Exercise,Multi-Day,Off-Campus,Registration-Open,Students,Tour,Workshop
ATTACH;FMTTYPE=image/png:https://sustain.auburn.edu/wp-content/uploads/2020/10/Auburn-Outdoors-Events-1-Zpto0R.tmp_-e1769639735491.png
GEO:32.601335;-85.492816
END:VEVENT
END:VCALENDAR