BEGIN:VCALENDAR
VERSION:2.0
PRODID:-//Office of Sustainability - ECPv6.15.15//NONSGML v1.0//EN
CALSCALE:GREGORIAN
METHOD:PUBLISH
X-WR-CALNAME:Office of Sustainability
X-ORIGINAL-URL:https://sustain.auburn.edu
X-WR-CALDESC:Events for Office of Sustainability
REFRESH-INTERVAL;VALUE=DURATION:PT1H
X-Robots-Tag:noindex
X-PUBLISHED-TTL:PT1H
BEGIN:VTIMEZONE
TZID:America/Chicago
BEGIN:DAYLIGHT
TZOFFSETFROM:-0600
TZOFFSETTO:-0500
TZNAME:CDT
DTSTART:20240310T080000
END:DAYLIGHT
BEGIN:STANDARD
TZOFFSETFROM:-0500
TZOFFSETTO:-0600
TZNAME:CST
DTSTART:20241103T070000
END:STANDARD
BEGIN:DAYLIGHT
TZOFFSETFROM:-0600
TZOFFSETTO:-0500
TZNAME:CDT
DTSTART:20250309T080000
END:DAYLIGHT
BEGIN:STANDARD
TZOFFSETFROM:-0500
TZOFFSETTO:-0600
TZNAME:CST
DTSTART:20251102T070000
END:STANDARD
BEGIN:DAYLIGHT
TZOFFSETFROM:-0600
TZOFFSETTO:-0500
TZNAME:CDT
DTSTART:20260308T080000
END:DAYLIGHT
BEGIN:STANDARD
TZOFFSETFROM:-0500
TZOFFSETTO:-0600
TZNAME:CST
DTSTART:20261101T070000
END:STANDARD
END:VTIMEZONE
BEGIN:VEVENT
DTSTART;TZID=America/Chicago:20250909T120000
DTEND;TZID=America/Chicago:20250909T130000
DTSTAMP:20260420T154209
CREATED:20250203T170057Z
LAST-MODIFIED:20250203T192436Z
UID:10004788-1757419200-1757422800@sustain.auburn.edu
SUMMARY:Davis Arboretum Second Tuesday Tours
DESCRIPTION:Experience the Davis Arboretum like never before! Make plans to attend our new “Second Tuesday Garden Tours” beginning Tuesday\, February 11\, 2025\, at 12:00 PM! Grab your friends and colleagues and meet us at the Arboretum pavilion for a delightful midday stroll through our beautiful garden as you learn about the wonderful world of Alabama’s native plants. \nTours will meet on the 2nd Tuesday of each month with additional tours available during the stunning peak bloom and vibrant color change seasons. \nJoin us as you rediscover the wonder and beauty of Auburn University’s Davis Arboretum! \n 
URL:https://sustain.auburn.edu/event/davis-arboretum-second-tuesday-tours/2025-09-09/
LOCATION:Donald E. Davis Arboretum
CATEGORIES:All-Employees,Alumni,Anyone,Concert,Daytime,On-Campus,Students
ATTACH;FMTTYPE=image/png:https://sustain.auburn.edu/wp-content/uploads/2020/10/Arboretum-Event-LzuIx1.tmp_.png
GEO:32.593754;-85.484464
END:VEVENT
BEGIN:VEVENT
DTSTART;TZID=America/Chicago:20250911T083000
DTEND;TZID=America/Chicago:20250911T093000
DTSTAMP:20260420T154209
CREATED:20250904T192153Z
LAST-MODIFIED:20250904T192153Z
UID:10005205-1757579400-1757583000@sustain.auburn.edu
SUMMARY:Nature Walk: Reptiles
DESCRIPTION:Join our guides for a peaceful morning walk as you take in the many sights and sounds of the Preserve.  Nature Walks offer excellent opportunities to socialize and learn\, while enjoying fresh air and exercise in our beautiful outdoors. \nNature Walks are for adults only and offered the second Thursday of each month from 8:30 – 9:30 AM. Each month features a new seasonal theme. Groups meet at the pavilion and pre-registration is not required. \nNature Walks are free – donations are welcomed. Cancelled in the event of rain
URL:https://sustain.auburn.edu/event/nature-walk-reptiles/
LOCATION:Kreher Preserve & Nature Center\, United States
CATEGORIES:Anyone,Exercise,Outing,Social-Event,Staff,Students,Talk,Tour
ATTACH;FMTTYPE=image/png:https://sustain.auburn.edu/wp-content/uploads/2025/08/Kreher_Scaled.png
GEO:32.658578;-85.485692
END:VEVENT
BEGIN:VEVENT
DTSTART;TZID=America/Chicago:20250916T120000
DTEND;TZID=America/Chicago:20250916T140000
DTSTAMP:20260420T154209
CREATED:20250825T221316Z
LAST-MODIFIED:20250825T221807Z
UID:10005181-1758024000-1758031200@sustain.auburn.edu
SUMMARY:Auburn Abroad Study Abroad Fair
DESCRIPTION:It will be a fair style event with many tables setup with different AU and Non-AU study abroad programs where students will be able to walk around freely and meet and discuss these programs with Program Directors and Coordinators. There will also be multiple tables for students to receive advising from our coordinators and student workers about the process of studying abroad. The hope is to promote the academic benefits of studying abroad for students and showing them the large and diverse types of programs.
URL:https://sustain.auburn.edu/event/auburn-abroad-study-abroad-fair/
LOCATION:Cater Lawn\, Auburn University
CATEGORIES:Students
ATTACH;FMTTYPE=image/png:https://sustain.auburn.edu/wp-content/uploads/2020/10/Auburn-International-Programs-Event-eYvKKh.tmp_.png
GEO:32.5933574;-85.4951663
END:VEVENT
BEGIN:VEVENT
DTSTART;TZID=America/Chicago:20250917T113000
DTEND;TZID=America/Chicago:20250917T130000
DTSTAMP:20260420T154209
CREATED:20250903T183238Z
LAST-MODIFIED:20250903T183238Z
UID:10005192-1758108600-1758114000@sustain.auburn.edu
SUMMARY:Branching Out: The Public History of Trees with Brian Dempsey and Carrie Barske Crawford
DESCRIPTION:Part of the OLLI at Auburn Brown Bag Series \n     Trees are often viewed primarily as natural resources\, yet they also hold powerful places in our cultural landscapes and collective memory. Branching Out: The Public History of Trees\, a 2025 essay collection from the University of Massachusetts Press\, explores trees through this cultural lens and examines their important role in public history practice.  \n     University of North Alabama historians Dr. Brian Dempsey and Dr. Carolyn Barske Crawford each contributed essays to the volume. In “An Island of Trees Called Old Hickory: History and Place in the Mississippi Delta\,” Dempsey examines a small stand of trees on the edge of Cleveland\, Mississippi. Though ordinary in appearance\, the site embodies deep cultural associations that illuminate how people connect with and interpret their local landscapes. \n     In “‘The Most Useful Tree:’ The American Chestnut\, Stories\, and Species Restoration\,” Crawford explores how the American Chestnut Foundation leverages memories of the tree’s once-vital economic\, social\, and cultural role in Appalachia to support ongoing restoration efforts. Her work highlights the potential for powerful partnerships between scientists and public historians. Together\, Dempsey and Crawford will share insights from their research and invite the audience to reflect on why trees matter—not only ecologically\, but as anchors of meaning in public history and cultural life.
URL:https://sustain.auburn.edu/event/branching-out-the-public-history-of-trees-with-brian-dempsey-and-carrie-barske-crawford/
LOCATION:Pebble Hill
CATEGORIES:Administration,All-Employees,Alumni,Anyone,Daytime,Discussion,Faculty,Gathering,Graduate-Students,On-Campus,Outing,Staff,Students,Talk
ATTACH;FMTTYPE=image/png:https://sustain.auburn.edu/wp-content/uploads/2016/12/Draughon-Center-for-the-Arts-Humanities-Events-e1771000362181.png
GEO:32.606519;-85.47234
END:VEVENT
BEGIN:VEVENT
DTSTART;TZID=America/Chicago:20250917T160000
DTEND;TZID=America/Chicago:20250917T160000
DTSTAMP:20260420T154209
CREATED:20250821T194240Z
LAST-MODIFIED:20250821T194240Z
UID:10005174-1758124800-1758124800@sustain.auburn.edu
SUMMARY:Constitution Day Speaker - Fred Gray
DESCRIPTION:Mr. Gray\, perhaps the most noted civil rights attorney in the nation\, will reflect on his unique and storied journey arguing for the constitutional rights of African Americans. In his first ten years as a lawyer\, Attorney Gray was legal counsel in what would become four landmark U.S. Supreme Court cases and for over seven decades handled numerous civil rights cases\, including the infamous Tuskegee Syphilis Study. His clients include Rosa Parks\, Claudette Colvin\, Dr. Martin Luther King\, Jr.\, and Congressman John Lewis. Gray represented Harold Franklin in the lawsuit that desegregated Auburn University. In 2022. President Joe Biden awarded Gray the Presidential Medal of Freedom\, the highest civilian honor given in the United States. \n  \nSponsored By: the Caroline Marshall Draughon Center for the Arts & Humanities in the College of Liberal Arts\, Auburn University Libraries\, the Department of Political Science\, and the Charles Wesley Edwards\, Sr. \nEndowment for the Humanities. The Constitution Day lecture is a part of the Discover Auburn Lecture Series.
URL:https://sustain.auburn.edu/event/constitution-day-speaker-fred-gray/
LOCATION:Foy Hall – Room 258
CATEGORIES:Administration,All-Employees,Alumni,Discussion,Gathering,Graduate-Students,On-Campus,Seminar,Staff,Students,Talk
ATTACH;FMTTYPE=image/png:https://sustain.auburn.edu/wp-content/uploads/2025/08/Common-Book-Event.png
GEO:32.604839;-85.484783
END:VEVENT
BEGIN:VEVENT
DTSTART;TZID=America/Chicago:20250918T160000
DTEND;TZID=America/Chicago:20250918T200000
DTSTAMP:20260420T154209
CREATED:20250904T185601Z
LAST-MODIFIED:20250904T185710Z
UID:10005199-1758211200-1758225600@sustain.auburn.edu
SUMMARY:Women in the Wild: Sunset Paddle
DESCRIPTION:Join Auburn Outdoors for a sunset paddle at Lake Martin. During this trip you’ll meet other women interested in getting outside as you paddle your own stand-up paddle board on one of Alabama’s largest lakes. Whether it’s your first experience on a board or you’re a seasoned pro\, you’ll find community and new experiences on this female-only trip. The group will depart AO at 4 PM and return at 8 PM. All gear\, transportation to and from\, and a good time are included in the trip fee. \nMeet at: \n\n\nAuburn Outdoors\, 601 Heisman Dr\, Auburn\, AL 36849\, USA
URL:https://sustain.auburn.edu/event/women-in-the-wild-sunset-paddle/
LOCATION:Auburn Outdoors
CATEGORIES:Exercise,Off-Campus,Outing,Students
ATTACH;FMTTYPE=image/png:https://sustain.auburn.edu/wp-content/uploads/2020/10/Auburn-Outdoors-Events-1-Zpto0R.tmp_-e1769639735491.png
GEO:32.601335;-85.492816
END:VEVENT
BEGIN:VEVENT
DTSTART;TZID=America/Chicago:20250920T080000
DTEND;TZID=America/Chicago:20250920T130000
DTSTAMP:20260420T154209
CREATED:20250904T190736Z
LAST-MODIFIED:20250904T190736Z
UID:10005202-1758355200-1758373200@sustain.auburn.edu
SUMMARY:Gravel and Grounds
DESCRIPTION:Registration on RWC Connect: August 18 – September 13 \nCost: FREE \nIt’s time to redefine the group ride. Join Auburn Outdoors for a bike ride through the beautiful town\nof Waverly\, AL.\nWe’ll ride 20 miles on some of the Southeast’s best gravel roads before visiting Wild Flour\, Waverly’s local coffee shop and bakery. Transportation and bike rental are included at no\ncost. Participants will pay for their own coffee and treats while on the trip.
URL:https://sustain.auburn.edu/event/gravel-and-grounds/
LOCATION:Auburn Outdoors
CATEGORIES:Exercise,Off-Campus,Outing,Students,Tour
ATTACH;FMTTYPE=image/png:https://sustain.auburn.edu/wp-content/uploads/2020/10/Auburn-Outdoors-Events-1-Zpto0R.tmp_-e1769639735491.png
GEO:32.601335;-85.492816
END:VEVENT
BEGIN:VEVENT
DTSTART;TZID=America/Chicago:20250923T120000
DTEND;TZID=America/Chicago:20250923T140000
DTSTAMP:20260420T154209
CREATED:20250917T192741Z
LAST-MODIFIED:20250917T195255Z
UID:10005219-1758628800-1758636000@sustain.auburn.edu
SUMMARY:All Made In Taiwan
DESCRIPTION:The Taiwan Center Seminar Series Presents: All Made In Taiwan \nA seminar\, featuring Eric Au\, on the development of the semiconductor industry in Taiwan and its impact for the future world. \nFree and open to all\, free lunch included!
URL:https://sustain.auburn.edu/event/all-made-in-taiwan/
LOCATION:Melton Student Center – Room 2222\, 225 Heisman Dr.\, Auburn\, AL\, 36849\, United States
CATEGORIES:Administration,Gathering,Meeting,On-Campus,Seminar,Staff,Students,Talk
ATTACH;FMTTYPE=image/png:https://sustain.auburn.edu/wp-content/uploads/2020/10/Auburn-International-Programs-Event-eYvKKh.tmp_.png
GEO:32.6009848;-85.4894075
X-APPLE-STRUCTURED-LOCATION;VALUE=URI;X-ADDRESS=Melton Student Center – Room 2222 225 Heisman Dr. Auburn AL 36849 United States;X-APPLE-RADIUS=500;X-TITLE=225 Heisman Dr.:geo:-85.4894075,32.6009848
END:VEVENT
BEGIN:VEVENT
DTSTART;TZID=America/Chicago:20250924T103000
DTEND;TZID=America/Chicago:20250924T130000
DTSTAMP:20260420T154209
CREATED:20250903T184631Z
LAST-MODIFIED:20250903T184631Z
UID:10005194-1758709800-1758718800@sustain.auburn.edu
SUMMARY:Inspired by William Bartram: Southern Landscapes by Philip Juras
DESCRIPTION:Part of the OLLI at Auburn Brown Bag Series \nGrowing up in Georgia\, artist Philip Juras could only dream of the bountiful southern nature that William Bartram documented two and a half centuries ago. Inspired by Bartram’s writing\, Philip has created a body of paintings depicting both contemporary and historic natural landscapes from across the South.  \nHe will present work from his exhibit and award-winning book The Southern Frontier\, Landscapes Inspired by Bartram’s “Travels”\, along with new drawings and paintings that explore some of the forgotten landscapes Bartram so eloquently painted in words. By celebrating the beauty and richness of the nature we still have today while also conveying what we have lost\, Philip’s work helps us imagine what can be restored for future generations.
URL:https://sustain.auburn.edu/event/inspired-by-william-bartram-southern-landscapes-by-philip-juras/
LOCATION:Pebble Hill
CATEGORIES:Administration,All-Employees,Alumni,Anyone,Daytime,Faculty,Gathering,On-Campus,Students,Talk
ATTACH;FMTTYPE=image/png:https://sustain.auburn.edu/wp-content/uploads/2016/12/Draughon-Center-for-the-Arts-Humanities-Events-e1771000362181.png
GEO:32.606519;-85.47234
END:VEVENT
BEGIN:VEVENT
DTSTART;TZID=America/Chicago:20250924T170000
DTEND;TZID=America/Chicago:20250924T190000
DTSTAMP:20260420T154209
CREATED:20250903T184041Z
LAST-MODIFIED:20250915T223912Z
UID:10005193-1758733200-1758740400@sustain.auburn.edu
SUMMARY:Create and Cultivate
DESCRIPTION:Join the Office of Sustainability and the Auburn University Libraries for a night of sustainable crafting and horticulture! Bring an old ceramic mug to the RBD Library Innovation & Research Commons and leave with an upcycled planter complete with its own greenery! We will have basil\, oregano\, catnip\, and pothos propagations for you to choose from! This event\, part of the I&RC’s Mini-Make series\, will be held on September 24 from 5pm to 7pm. We hope to see you! \nPlease RSVP on our AU Involve Link!
URL:https://sustain.auburn.edu/event/create-and-cultivate/
LOCATION:Innovation & Research Commons – RBD Library\, Mell Street\, Auburn\, AL\, 36849\, United States
CATEGORIES:Evening,Gathering,Graduate-Students,On-Campus,Students,Workshop
ATTACH;FMTTYPE=image/png:https://sustain.auburn.edu/wp-content/uploads/2025/09/Create-and-Cultivate-Calendar-1036-x-300-px.png
GEO:32.6030874;-85.4826645
X-APPLE-STRUCTURED-LOCATION;VALUE=URI;X-ADDRESS=Innovation & Research Commons – RBD Library Mell Street Auburn AL 36849 United States;X-APPLE-RADIUS=500;X-TITLE=Mell Street:geo:-85.4826645,32.6030874
END:VEVENT
BEGIN:VEVENT
DTSTART;TZID=America/Chicago:20250925T180000
DTEND;TZID=America/Chicago:20250925T203000
DTSTAMP:20260420T154209
CREATED:20250910T205733Z
LAST-MODIFIED:20250910T210852Z
UID:10005213-1758823200-1758832200@sustain.auburn.edu
SUMMARY:Gather at the Gogue Center: Student Game Night
DESCRIPTION:Students are invited to bring their favorite board/card games to our lobby. We’ll have tables set up for them to play. We’ll have bagged popcorn and a candy station as well as water and soda.
URL:https://sustain.auburn.edu/event/gather-at-the-gogue-center-student-game-night/
LOCATION:The Jay and Susie Gogue Performing Arts Center\, 910 S College St\, Auburn\, AL\, 36830\, United States
CATEGORIES:Evening,Film,Gathering,On-Campus,Students
ATTACH;FMTTYPE=image/png:https://sustain.auburn.edu/wp-content/uploads/2020/10/Gogue-Preforming-Arts-Center-Event.png
ORGANIZER;CN="Gogue Performing Arts Center":MAILTO:gpac@auburn.edu
GEO:32.5885412;-85.4849784
X-APPLE-STRUCTURED-LOCATION;VALUE=URI;X-ADDRESS=The Jay and Susie Gogue Performing Arts Center 910 S College St Auburn AL 36830 United States;X-APPLE-RADIUS=500;X-TITLE=910 S College St:geo:-85.4849784,32.5885412
END:VEVENT
BEGIN:VEVENT
DTSTART;TZID=America/Chicago:20250930T120000
DTEND;TZID=America/Chicago:20250930T130000
DTSTAMP:20260420T154209
CREATED:20250825T222637Z
LAST-MODIFIED:20250825T222637Z
UID:10005183-1759233600-1759237200@sustain.auburn.edu
SUMMARY:Calligraphy Culture Workshop
DESCRIPTION:Teaching the history of calligraphy and also practicing with prepared calligraphy paper and ink pens
URL:https://sustain.auburn.edu/event/calligraphy-culture-workshop/
LOCATION:foy hall 209\, 282 W Thach Concourse\, Auburn\, AL\, 36849\, United States
CATEGORIES:On-Campus,Students
ATTACH;FMTTYPE=image/png:https://sustain.auburn.edu/wp-content/uploads/2020/10/Auburn-International-Programs-Event-eYvKKh.tmp_.png
GEO:32.6035603;-85.4878447
X-APPLE-STRUCTURED-LOCATION;VALUE=URI;X-ADDRESS=foy hall 209 282 W Thach Concourse Auburn AL 36849 United States;X-APPLE-RADIUS=500;X-TITLE=282 W Thach Concourse:geo:-85.4878447,32.6035603
END:VEVENT
END:VCALENDAR