BEGIN:VCALENDAR
VERSION:2.0
PRODID:-//Office of Sustainability - ECPv6.15.15//NONSGML v1.0//EN
CALSCALE:GREGORIAN
METHOD:PUBLISH
X-ORIGINAL-URL:https://sustain.auburn.edu
X-WR-CALDESC:Events for Office of Sustainability
REFRESH-INTERVAL;VALUE=DURATION:PT1H
X-Robots-Tag:noindex
X-PUBLISHED-TTL:PT1H
BEGIN:VTIMEZONE
TZID:America/Chicago
BEGIN:DAYLIGHT
TZOFFSETFROM:-0600
TZOFFSETTO:-0500
TZNAME:CDT
DTSTART:20200308T080000
END:DAYLIGHT
BEGIN:STANDARD
TZOFFSETFROM:-0500
TZOFFSETTO:-0600
TZNAME:CST
DTSTART:20201101T070000
END:STANDARD
BEGIN:DAYLIGHT
TZOFFSETFROM:-0600
TZOFFSETTO:-0500
TZNAME:CDT
DTSTART:20210314T080000
END:DAYLIGHT
BEGIN:STANDARD
TZOFFSETFROM:-0500
TZOFFSETTO:-0600
TZNAME:CST
DTSTART:20211107T070000
END:STANDARD
BEGIN:DAYLIGHT
TZOFFSETFROM:-0600
TZOFFSETTO:-0500
TZNAME:CDT
DTSTART:20220313T080000
END:DAYLIGHT
BEGIN:STANDARD
TZOFFSETFROM:-0500
TZOFFSETTO:-0600
TZNAME:CST
DTSTART:20221106T070000
END:STANDARD
END:VTIMEZONE
BEGIN:VEVENT
DTSTART;TZID=America/Chicago:20210211T100000
DTEND;TZID=America/Chicago:20210211T143000
DTSTAMP:20260421T145950
CREATED:20210114T153659Z
LAST-MODIFIED:20210114T153659Z
UID:10003323-1613037600-1613053800@sustain.auburn.edu
SUMMARY:Student Energy Summit
DESCRIPTION:The primary focus of the Student Summit is student engagement\, education\, and awareness through two 90-minute sessions beginning at 11:00AM and 2:00PM. The first 90-minute session is part of the Appalachian Energy Summit and will include speakers focused on energy and climate action and is aimed to educate. The second session is where we will give students more opportunity to interact through open breakout rooms. There will be three available rooms focusing on food/zero waste\, an energy careers panel\, and climate action. \nThe Summit Poster Competition is another part of the summit that provides a platform for students to present their energy-related research. Chosen poster participants will have the opportunity to present their research to industry experts. (Please note – the Summit Poster Competition involves a separate application process from the AES Summit application. Students interested in participating in the poster competition must complete both applications for consideration.) \nRegistration is required.
URL:https://sustain.auburn.edu/event/student-energy-summit/
LOCATION:Virtual Event\, United States
CATEGORIES:Conference,Daytime,Graduate-Students,Students
ATTACH;FMTTYPE=image/png:https://sustain.auburn.edu/wp-content/uploads/2016/12/Default-Event.png
ORGANIZER;CN="Appalachian State University":MAILTO:sustainability@appstate.edu
GEO:38.7945952;-106.5348379
END:VEVENT
BEGIN:VEVENT
DTSTART;TZID=America/Chicago:20210216T110000
DTEND;TZID=America/Chicago:20210216T120000
DTSTAMP:20260421T145950
CREATED:20210211T162743Z
LAST-MODIFIED:20210211T162743Z
UID:10003379-1613473200-1613476800@sustain.auburn.edu
SUMMARY:On Historical Tableaux and J. Marion Sims’s Montgomery Clinic // Black History Speaker Series
DESCRIPTION:The Department of History Black History Speaker Series will feature Dr. Nicole Ivy on Feb. 16 at 11 a.m. on Zoom. Ivy will discuss “On Historical Tableaux and J. Marion Sims’s Montgomery Clinic.” \nNicole Ivy is a historical thinker and professional futurist who is passionate about the arts and social change. Her professional and scholarly interests include strategic foresight\, public history\, visual culture and inclusive change management. She earned her B.A. in english from the University of Florida and her joint PhD in African American Studies and American Studies from Yale University. She has received numerous academic appointments and awards\, including as a Visiting Assistant Professor in the History Department at Indiana University\, Bloomington\, or IUB\, and a postdoctoral fellow of the Center for Research on Race and Ethnicity in Society\, or CRRES\, at IUB. She also works widely in the museum field\, having begun her museum practice as an Institute of Museum and Library Services\, or IMLS\, Curatorial Fellow at the African American Museum in Philadelphia. She has held several inaugural positions at the American Alliance of Museums\, including serving as its first Director of Inclusion. She is an assistant professor of American Studies at The George Washington University.
URL:https://sustain.auburn.edu/event/on-historical-tableaux-and-j-marion-simss-montgomery-clinic-black-history-speaker-series/
LOCATION:Virtual Event\, United States
CATEGORIES:Administration,All-Employees,Alumni,Anyone,Daytime,Faculty,Staff,Students,Talk,Web-Based
ATTACH;FMTTYPE=image/png:https://sustain.auburn.edu/wp-content/uploads/2016/02/BlackHistoryMonth.png
ORGANIZER;CN="Department of History":MAILTO:auhist@auburn.edu
GEO:38.7945952;-106.5348379
END:VEVENT
BEGIN:VEVENT
DTSTART;TZID=America/Chicago:20210217T180000
DTEND;TZID=America/Chicago:20210217T193000
DTSTAMP:20260421T145950
CREATED:20210208T221529Z
LAST-MODIFIED:20210208T221529Z
UID:10003362-1613584800-1613590200@sustain.auburn.edu
SUMMARY:“History as a Place Holder for Art” // Black History Month Lecture with Dr. Deb Willis
DESCRIPTION:The Office of Inclusion and Diversity and the Jule Collins Smith Museum of Fine Art will host Dr. Deb Willis for a conversation on “History as a Place Holder for Art.”  Zoom details will be provided after you register for the event.
URL:https://sustain.auburn.edu/event/history-as-a-place-holder-for-art-black-history-month-lecture-with-dr-deb-willis/
LOCATION:Virtual Event\, United States
CATEGORIES:Anyone,Evening,Students,Tour,Web-Based
ATTACH;FMTTYPE=image/png:https://sustain.auburn.edu/wp-content/uploads/2016/02/BlackHistoryMonth.png
ORGANIZER;CN="Auburn University Office of Inclusion and Diversity":MAILTO:diversity@auburn.edu
GEO:38.7945952;-106.5348379
END:VEVENT
BEGIN:VEVENT
DTSTART;TZID=America/Chicago:20210218T180000
DTEND;TZID=America/Chicago:20210218T200000
DTSTAMP:20260421T145950
CREATED:20210208T221855Z
LAST-MODIFIED:20210208T221855Z
UID:10003363-1613671200-1613678400@sustain.auburn.edu
SUMMARY:Film Screening of Just Mercy
DESCRIPTION:Come to the Student Center Ballroom for a free screening of Just Mercy! Face covering required (they’ll provide one if you don’t have one). Check-in begins at 6:00pm\, movie begins at 6:30pm.
URL:https://sustain.auburn.edu/event/film-screening-of-just-mercy/
LOCATION:Student Center – 3rd Floor Ball Room\, United States
CATEGORIES:Film,Graduate-Students,On-Campus,Students
ATTACH;FMTTYPE=image/png:https://sustain.auburn.edu/wp-content/uploads/2016/02/BlackHistoryMonth.png
GEO:37.09024;-95.712891
END:VEVENT
BEGIN:VEVENT
DTSTART;TZID=America/Chicago:20210225T150000
DTEND;TZID=America/Chicago:20210225T160000
DTSTAMP:20260421T145950
CREATED:20210211T154422Z
LAST-MODIFIED:20210211T154422Z
UID:10003377-1614265200-1614268800@sustain.auburn.edu
SUMMARY:Advocacy 101: Ending Hunger College Edition
DESCRIPTION:Student leaders\, faculty advisors\, and student support staff are invited to join Bread for the World for an Advocacy 1010: Ending Hunger College Edition Workshop. Engage with fellow advocates\, share ideas\, and develop community with others dedicated to supporting college student basic needs. \nDuring the hour-long gathering\, you will: \n-Learn about Bread for the World and ways to get involved\n-Hear stories and connect with campus leaders from across the country\n-Plan next steps for advocating against hunger in your own community
URL:https://sustain.auburn.edu/event/advocacy-101-ending-hunger-college-edition/
LOCATION:Virtual Event\, United States
CATEGORIES:Daytime,Faculty,Staff,Students,Talk,Web-Based
ATTACH;FMTTYPE=image/png:https://sustain.auburn.edu/wp-content/uploads/2021/02/Bread-for-the-World-Logo.png
GEO:38.7945952;-106.5348379
END:VEVENT
END:VCALENDAR