BEGIN:VCALENDAR
VERSION:2.0
PRODID:-//Office of Sustainability - ECPv6.15.15//NONSGML v1.0//EN
CALSCALE:GREGORIAN
METHOD:PUBLISH
X-WR-CALNAME:Office of Sustainability
X-ORIGINAL-URL:https://sustain.auburn.edu
X-WR-CALDESC:Events for Office of Sustainability
REFRESH-INTERVAL;VALUE=DURATION:PT1H
X-Robots-Tag:noindex
X-PUBLISHED-TTL:PT1H
BEGIN:VTIMEZONE
TZID:America/Chicago
BEGIN:DAYLIGHT
TZOFFSETFROM:-0600
TZOFFSETTO:-0500
TZNAME:CDT
DTSTART:20240310T080000
END:DAYLIGHT
BEGIN:STANDARD
TZOFFSETFROM:-0500
TZOFFSETTO:-0600
TZNAME:CST
DTSTART:20241103T070000
END:STANDARD
BEGIN:DAYLIGHT
TZOFFSETFROM:-0600
TZOFFSETTO:-0500
TZNAME:CDT
DTSTART:20250309T080000
END:DAYLIGHT
BEGIN:STANDARD
TZOFFSETFROM:-0500
TZOFFSETTO:-0600
TZNAME:CST
DTSTART:20251102T070000
END:STANDARD
BEGIN:DAYLIGHT
TZOFFSETFROM:-0600
TZOFFSETTO:-0500
TZNAME:CDT
DTSTART:20260308T080000
END:DAYLIGHT
BEGIN:STANDARD
TZOFFSETFROM:-0500
TZOFFSETTO:-0600
TZNAME:CST
DTSTART:20261101T070000
END:STANDARD
END:VTIMEZONE
BEGIN:VEVENT
DTSTART;TZID=America/Chicago:20250218T153000
DTEND;TZID=America/Chicago:20250218T153000
DTSTAMP:20260419T203619
CREATED:20241107T160933Z
LAST-MODIFIED:20241107T162856Z
UID:10004756-1739892600-1739892600@sustain.auburn.edu
SUMMARY:Weaver Lecture: Transformative Change and Global Sustainability
DESCRIPTION:Join the Weaver Lecture and Seminar Committee and College of Forestry\, Wildlife and Environment for the Spring 2025 Weaver Lecture with Dr. Arun Agrawal as the speaker and distinguished guest at the with the lecture “Transformative Change and Global Sustainability”. Dr. Agrawal is Samuel Trask Dana Professor in the School for Environment and Sustainability at the University of Michigan\, Ann Arbor and is an elected member of the US National Academy of Sciences. His recent research interests concern the relationship of climate change with health and conflict. Dr. Agrawal will be hosted by Dr. Li An and sponsored by the International Center for Climate and Global Change Research. \nThis will be a big campus-wide event where Dr. Agrawal will also spend time with students around the topic “international issues in natural resource policy” in a student-focused session. \nFor additional information please visit the event on the College of Forestry\, Wildlife and Environment webpage.
URL:https://sustain.auburn.edu/event/weaver-lecture-transformative-change-and-global-sustainability/
LOCATION:School of Forestry and Wildlife Science – Room 1101\, 602 Duncan Drive\, Auburn\, AL\, 36849\, United States
CATEGORIES:Anyone,Discussion,Faculty,Gathering,On-Campus,Seminar,Staff,Students,Talk
ATTACH;FMTTYPE=image/png:https://sustain.auburn.edu/wp-content/uploads/2024/11/College-of-Forestry-Wildlife-and-Environment-1.png
ORGANIZER;CN="College of Forestry%2C Wildlife and Environment":MAILTO:334-844-1007
GEO:32.594787;-85.48787
X-APPLE-STRUCTURED-LOCATION;VALUE=URI;X-ADDRESS=School of Forestry and Wildlife Science – Room 1101 602 Duncan Drive Auburn AL 36849 United States;X-APPLE-RADIUS=500;X-TITLE=602 Duncan Drive:geo:-85.48787,32.594787
END:VEVENT
BEGIN:VEVENT
DTSTART;TZID=America/Chicago:20250220T173000
DTEND;TZID=America/Chicago:20250220T183000
DTSTAMP:20260419T203619
CREATED:20250217T174201Z
LAST-MODIFIED:20250217T174201Z
UID:10004799-1740072600-1740076200@sustain.auburn.edu
SUMMARY:Science Cafe: Black History Month
DESCRIPTION:COSAM Outreach invites you to join them for this month’s Science Cafe\, celebrating Black History Month at Well Red: Second Story. They’ll have two incredible speakers: Jalaan Avritte\, a Postdoctoral Plasma Researcher in the Department of Physics\, and Destini Thornton\, a PhD student in Medicinal Chemistry in the Department of Drug Development and Discovery at the Harrison College of Pharmacy. \nCome out for an evening of fascinating research and great conversation!\nThis event is free and open to all ages.
URL:https://sustain.auburn.edu/event/science-cafe-black-history-month/
LOCATION:Well Red\, 223 Opelika Rd\, Auburn\, AL\, 36830\, United States
CATEGORIES:Anyone,Discussion,Evening,Off-Campus,Staff,Students,Talk
ATTACH;FMTTYPE=image/png:https://sustain.auburn.edu/wp-content/uploads/2022/09/COSAM-EVENT.png
GEO:32.6125557;-85.4789071
X-APPLE-STRUCTURED-LOCATION;VALUE=URI;X-ADDRESS=Well Red 223 Opelika Rd Auburn AL 36830 United States;X-APPLE-RADIUS=500;X-TITLE=223 Opelika Rd:geo:-85.4789071,32.6125557
END:VEVENT
BEGIN:VEVENT
DTSTART;TZID=America/Chicago:20250228T090000
DTEND;TZID=America/Chicago:20250228T110000
DTSTAMP:20260419T203619
CREATED:20250226T151247Z
LAST-MODIFIED:20250226T151247Z
UID:10004800-1740733200-1740740400@sustain.auburn.edu
SUMMARY:Parkerson Mill Creek Litter Cleanup
DESCRIPTION:Join Auburn’s Risk Management and Safety and the City of Auburn to address litter issues along Veterans Blvd. in Auburn. They will provide gloves\, trash bags\, buckets\, and grabbers to support this cause. If you have a safety vest\, please wear it. If not\, wear a bright color (orange is always welcome). Help work to protect Parkerson Mill Creek and the community! \n  \nLocation and Parking: \nVeterans BLVD runs across Parkerson Mill Creek into the Auburn Technology Park just off South College Street near South College Veterinary Clinic. \nParking can be done in a couple of ways. You can park alongside Veterans Blvd\, or you can park in the parking lot at in front of the Military Recruiting Station. Please use the spots closest to College Street.
URL:https://sustain.auburn.edu/event/parkerson-mill-creek-litter-cleanup/
LOCATION:Parkerson Mill Creek Outside of Wellness Kitchen\, 370 S Donahue Dr\, Auburn\, AL\, 36832\, United States
CATEGORIES:Anyone,Daytime,Staff,Students,Volunteer
ATTACH;FMTTYPE=image/png:https://sustain.auburn.edu/wp-content/uploads/2022/09/Risk-Management-and-Safety-Event.png
GEO:32.5987728;-85.4909254
X-APPLE-STRUCTURED-LOCATION;VALUE=URI;X-ADDRESS=Parkerson Mill Creek Outside of Wellness Kitchen 370 S Donahue Dr Auburn AL 36832 United States;X-APPLE-RADIUS=500;X-TITLE=370 S Donahue Dr:geo:-85.4909254,32.5987728
END:VEVENT
END:VCALENDAR