BEGIN:VCALENDAR
VERSION:2.0
PRODID:-//Office of Sustainability - ECPv6.15.15//NONSGML v1.0//EN
CALSCALE:GREGORIAN
METHOD:PUBLISH
X-WR-CALNAME:Office of Sustainability
X-ORIGINAL-URL:https://sustain.auburn.edu
X-WR-CALDESC:Events for Office of Sustainability
REFRESH-INTERVAL;VALUE=DURATION:PT1H
X-Robots-Tag:noindex
X-PUBLISHED-TTL:PT1H
BEGIN:VTIMEZONE
TZID:America/Chicago
BEGIN:DAYLIGHT
TZOFFSETFROM:-0600
TZOFFSETTO:-0500
TZNAME:CDT
DTSTART:20230312T080000
END:DAYLIGHT
BEGIN:STANDARD
TZOFFSETFROM:-0500
TZOFFSETTO:-0600
TZNAME:CST
DTSTART:20231105T070000
END:STANDARD
BEGIN:DAYLIGHT
TZOFFSETFROM:-0600
TZOFFSETTO:-0500
TZNAME:CDT
DTSTART:20240310T080000
END:DAYLIGHT
BEGIN:STANDARD
TZOFFSETFROM:-0500
TZOFFSETTO:-0600
TZNAME:CST
DTSTART:20241103T070000
END:STANDARD
BEGIN:DAYLIGHT
TZOFFSETFROM:-0600
TZOFFSETTO:-0500
TZNAME:CDT
DTSTART:20250309T080000
END:DAYLIGHT
BEGIN:STANDARD
TZOFFSETFROM:-0500
TZOFFSETTO:-0600
TZNAME:CST
DTSTART:20251102T070000
END:STANDARD
END:VTIMEZONE
BEGIN:VEVENT
DTSTART;TZID=America/Chicago:20240409T180000
DTEND;TZID=America/Chicago:20240409T194500
DTSTAMP:20260425T215108
CREATED:20240402T181823Z
LAST-MODIFIED:20240402T181823Z
UID:10004514-1712685600-1712691900@sustain.auburn.edu
SUMMARY:Craft Day
DESCRIPTION:Join Nifty Arts n’ Crafts in Room 3041 in the RBD Library to do some crafting! There will be coloring pages\, yarn and hooks\, and more. This is a free event! Visit the event’s AU Involve page to learn more.
URL:https://sustain.auburn.edu/event/craft-day/
LOCATION:Event Venue | RBD Library\, 231 Mell St\, Auburn\, AL\, 36849\, United States
CATEGORIES:Evening,Faculty,Gathering,Graduate Students,On Campus,Social Event,Staff,Students
GEO:32.6027926;-85.4830601
X-APPLE-STRUCTURED-LOCATION;VALUE=URI;X-ADDRESS=Event Venue | RBD Library 231 Mell St Auburn AL 36849 United States;X-APPLE-RADIUS=500;X-TITLE=231 Mell St:geo:-85.4830601,32.6027926
END:VEVENT
BEGIN:VEVENT
DTSTART;TZID=America/Chicago:20240422T110000
DTEND;TZID=America/Chicago:20240422T140000
DTSTAMP:20260425T215108
CREATED:20240326T192242Z
LAST-MODIFIED:20240402T153056Z
UID:10004511-1713783600-1713794400@sustain.auburn.edu
SUMMARY:Earth Day Extravaganza
DESCRIPTION:UPC’s most-attended event last year is back again! Come to the Campus Green to decorate tote bags\, participate in plant-potting\, make bouquets\, and eat some free food\, just to list a few! Many clubs\, organizations\, and departments will be present to interact and celebrate with. Learn more at UPC’s AU Involve page. \nThe Office of Sustainability will be present with multiple activities\, including a sustainability bike tours with Auburn Outdoors!
URL:https://sustain.auburn.edu/event/earth-day-extravaganza-3/
LOCATION:Event Venue | Campus Green\, 500 Heisman Dr\, Auburn\, AL\, 36849\, United States
CATEGORIES:Administration,Celebration,Daytime,Faculty,Gathering,On Campus,Staff,Students
ATTACH;FMTTYPE=image/png:https://sustain.auburn.edu/wp-content/uploads/2024/03/2024-Temporary-Calendar-Image-1225-×-647-px.png
GEO:32.6017874;-85.4877659
X-APPLE-STRUCTURED-LOCATION;VALUE=URI;X-ADDRESS=Event Venue | Campus Green 500 Heisman Dr Auburn AL 36849 United States;X-APPLE-RADIUS=500;X-TITLE=500 Heisman Dr:geo:-85.4877659,32.6017874
END:VEVENT
END:VCALENDAR