BEGIN:VCALENDAR
VERSION:2.0
PRODID:-//Office of Sustainability - ECPv6.15.15//NONSGML v1.0//EN
CALSCALE:GREGORIAN
METHOD:PUBLISH
X-WR-CALNAME:Office of Sustainability
X-ORIGINAL-URL:https://sustain.auburn.edu
X-WR-CALDESC:Events for Office of Sustainability
REFRESH-INTERVAL;VALUE=DURATION:PT1H
X-Robots-Tag:noindex
X-PUBLISHED-TTL:PT1H
BEGIN:VTIMEZONE
TZID:America/Chicago
BEGIN:DAYLIGHT
TZOFFSETFROM:-0600
TZOFFSETTO:-0500
TZNAME:CDT
DTSTART:20220313T080000
END:DAYLIGHT
BEGIN:STANDARD
TZOFFSETFROM:-0500
TZOFFSETTO:-0600
TZNAME:CST
DTSTART:20221106T070000
END:STANDARD
BEGIN:DAYLIGHT
TZOFFSETFROM:-0600
TZOFFSETTO:-0500
TZNAME:CDT
DTSTART:20230312T080000
END:DAYLIGHT
BEGIN:STANDARD
TZOFFSETFROM:-0500
TZOFFSETTO:-0600
TZNAME:CST
DTSTART:20231105T070000
END:STANDARD
BEGIN:DAYLIGHT
TZOFFSETFROM:-0600
TZOFFSETTO:-0500
TZNAME:CDT
DTSTART:20240310T080000
END:DAYLIGHT
BEGIN:STANDARD
TZOFFSETFROM:-0500
TZOFFSETTO:-0600
TZNAME:CST
DTSTART:20241103T070000
END:STANDARD
BEGIN:DAYLIGHT
TZOFFSETFROM:-0600
TZOFFSETTO:-0500
TZNAME:CDT
DTSTART:20250309T080000
END:DAYLIGHT
BEGIN:STANDARD
TZOFFSETFROM:-0500
TZOFFSETTO:-0600
TZNAME:CST
DTSTART:20251102T070000
END:STANDARD
END:VTIMEZONE
BEGIN:VEVENT
DTSTART;TZID=America/Chicago:20240111T170000
DTEND;TZID=America/Chicago:20240111T210000
DTSTAMP:20260420T121646
CREATED:20220829T175008Z
LAST-MODIFIED:20220829T175008Z
UID:10003838-1704992400-1705006800@sustain.auburn.edu
SUMMARY:Concerts on Campus
DESCRIPTION:Concerts on Campus is WEGL 91.1 FM’s weekly concert series where we host student\, local\, and regional acts across campus for free. \nDoors open at 5 pm but at 6 pm.
URL:https://sustain.auburn.edu/event/concerts-on-campus/2024-01-11/
LOCATION:Cater Hall Lawn
CATEGORIES:Concert,Evening,Gathering,On-Campus,Performance,Social-Event,Students
ATTACH;FMTTYPE=image/png:https://sustain.auburn.edu/wp-content/uploads/2022/08/cater-hall-event.png
ORGANIZER;CN="WEGL 91.1":MAILTO:wegl91auburn@gmail.com
GEO:32.603823;-85.484842
END:VEVENT
BEGIN:VEVENT
DTSTART;TZID=America/Chicago:20240104T170000
DTEND;TZID=America/Chicago:20240104T210000
DTSTAMP:20260420T121646
CREATED:20220829T175008Z
LAST-MODIFIED:20220829T175008Z
UID:10003837-1704387600-1704402000@sustain.auburn.edu
SUMMARY:Concerts on Campus
DESCRIPTION:Concerts on Campus is WEGL 91.1 FM’s weekly concert series where we host student\, local\, and regional acts across campus for free. \nDoors open at 5 pm but at 6 pm.
URL:https://sustain.auburn.edu/event/concerts-on-campus/2024-01-04/
LOCATION:Cater Hall Lawn
CATEGORIES:Concert,Evening,Gathering,On-Campus,Performance,Social-Event,Students
ATTACH;FMTTYPE=image/png:https://sustain.auburn.edu/wp-content/uploads/2022/08/cater-hall-event.png
ORGANIZER;CN="WEGL 91.1":MAILTO:wegl91auburn@gmail.com
GEO:32.603823;-85.484842
END:VEVENT
BEGIN:VEVENT
DTSTART;TZID=America/Chicago:20231228T170000
DTEND;TZID=America/Chicago:20231228T210000
DTSTAMP:20260420T121646
CREATED:20220829T175008Z
LAST-MODIFIED:20220829T175008Z
UID:10003836-1703782800-1703797200@sustain.auburn.edu
SUMMARY:Concerts on Campus
DESCRIPTION:Concerts on Campus is WEGL 91.1 FM’s weekly concert series where we host student\, local\, and regional acts across campus for free. \nDoors open at 5 pm but at 6 pm.
URL:https://sustain.auburn.edu/event/concerts-on-campus/2023-12-28/
LOCATION:Cater Hall Lawn
CATEGORIES:Concert,Evening,Gathering,On-Campus,Performance,Social-Event,Students
ATTACH;FMTTYPE=image/png:https://sustain.auburn.edu/wp-content/uploads/2022/08/cater-hall-event.png
ORGANIZER;CN="WEGL 91.1":MAILTO:wegl91auburn@gmail.com
GEO:32.603823;-85.484842
END:VEVENT
BEGIN:VEVENT
DTSTART;TZID=America/Chicago:20231221T170000
DTEND;TZID=America/Chicago:20231221T210000
DTSTAMP:20260420T121646
CREATED:20220829T175008Z
LAST-MODIFIED:20220829T175008Z
UID:10003835-1703178000-1703192400@sustain.auburn.edu
SUMMARY:Concerts on Campus
DESCRIPTION:Concerts on Campus is WEGL 91.1 FM’s weekly concert series where we host student\, local\, and regional acts across campus for free. \nDoors open at 5 pm but at 6 pm.
URL:https://sustain.auburn.edu/event/concerts-on-campus/2023-12-21/
LOCATION:Cater Hall Lawn
CATEGORIES:Concert,Evening,Gathering,On-Campus,Performance,Social-Event,Students
ATTACH;FMTTYPE=image/png:https://sustain.auburn.edu/wp-content/uploads/2022/08/cater-hall-event.png
ORGANIZER;CN="WEGL 91.1":MAILTO:wegl91auburn@gmail.com
GEO:32.603823;-85.484842
END:VEVENT
BEGIN:VEVENT
DTSTART;TZID=America/Chicago:20231214T170000
DTEND;TZID=America/Chicago:20231214T210000
DTSTAMP:20260420T121646
CREATED:20220829T175008Z
LAST-MODIFIED:20220829T175008Z
UID:10003834-1702573200-1702587600@sustain.auburn.edu
SUMMARY:Concerts on Campus
DESCRIPTION:Concerts on Campus is WEGL 91.1 FM’s weekly concert series where we host student\, local\, and regional acts across campus for free. \nDoors open at 5 pm but at 6 pm.
URL:https://sustain.auburn.edu/event/concerts-on-campus/2023-12-14/
LOCATION:Cater Hall Lawn
CATEGORIES:Concert,Evening,Gathering,On-Campus,Performance,Social-Event,Students
ATTACH;FMTTYPE=image/png:https://sustain.auburn.edu/wp-content/uploads/2022/08/cater-hall-event.png
ORGANIZER;CN="WEGL 91.1":MAILTO:wegl91auburn@gmail.com
GEO:32.603823;-85.484842
END:VEVENT
BEGIN:VEVENT
DTSTART;TZID=America/Chicago:20231207T170000
DTEND;TZID=America/Chicago:20231207T210000
DTSTAMP:20260420T121647
CREATED:20220829T175008Z
LAST-MODIFIED:20220829T175008Z
UID:10003833-1701968400-1701982800@sustain.auburn.edu
SUMMARY:Concerts on Campus
DESCRIPTION:Concerts on Campus is WEGL 91.1 FM’s weekly concert series where we host student\, local\, and regional acts across campus for free. \nDoors open at 5 pm but at 6 pm.
URL:https://sustain.auburn.edu/event/concerts-on-campus/2023-12-07/
LOCATION:Cater Hall Lawn
CATEGORIES:Concert,Evening,Gathering,On-Campus,Performance,Social-Event,Students
ATTACH;FMTTYPE=image/png:https://sustain.auburn.edu/wp-content/uploads/2022/08/cater-hall-event.png
ORGANIZER;CN="WEGL 91.1":MAILTO:wegl91auburn@gmail.com
GEO:32.603823;-85.484842
END:VEVENT
BEGIN:VEVENT
DTSTART;TZID=America/Chicago:20231130T170000
DTEND;TZID=America/Chicago:20231130T210000
DTSTAMP:20260420T121647
CREATED:20220829T175008Z
LAST-MODIFIED:20220829T175008Z
UID:10003832-1701363600-1701378000@sustain.auburn.edu
SUMMARY:Concerts on Campus
DESCRIPTION:Concerts on Campus is WEGL 91.1 FM’s weekly concert series where we host student\, local\, and regional acts across campus for free. \nDoors open at 5 pm but at 6 pm.
URL:https://sustain.auburn.edu/event/concerts-on-campus/2023-11-30/
LOCATION:Cater Hall Lawn
CATEGORIES:Concert,Evening,Gathering,On-Campus,Performance,Social-Event,Students
ATTACH;FMTTYPE=image/png:https://sustain.auburn.edu/wp-content/uploads/2022/08/cater-hall-event.png
ORGANIZER;CN="WEGL 91.1":MAILTO:wegl91auburn@gmail.com
GEO:32.603823;-85.484842
END:VEVENT
BEGIN:VEVENT
DTSTART;TZID=America/Chicago:20231123T170000
DTEND;TZID=America/Chicago:20231123T210000
DTSTAMP:20260420T121647
CREATED:20220829T175008Z
LAST-MODIFIED:20220829T175008Z
UID:10003831-1700758800-1700773200@sustain.auburn.edu
SUMMARY:Concerts on Campus
DESCRIPTION:Concerts on Campus is WEGL 91.1 FM’s weekly concert series where we host student\, local\, and regional acts across campus for free. \nDoors open at 5 pm but at 6 pm.
URL:https://sustain.auburn.edu/event/concerts-on-campus/2023-11-23/
LOCATION:Cater Hall Lawn
CATEGORIES:Concert,Evening,Gathering,On-Campus,Performance,Social-Event,Students
ATTACH;FMTTYPE=image/png:https://sustain.auburn.edu/wp-content/uploads/2022/08/cater-hall-event.png
ORGANIZER;CN="WEGL 91.1":MAILTO:wegl91auburn@gmail.com
GEO:32.603823;-85.484842
END:VEVENT
BEGIN:VEVENT
DTSTART;TZID=America/Chicago:20231116T170000
DTEND;TZID=America/Chicago:20231116T210000
DTSTAMP:20260420T121647
CREATED:20220829T175008Z
LAST-MODIFIED:20220829T175008Z
UID:10003830-1700154000-1700168400@sustain.auburn.edu
SUMMARY:Concerts on Campus
DESCRIPTION:Concerts on Campus is WEGL 91.1 FM’s weekly concert series where we host student\, local\, and regional acts across campus for free. \nDoors open at 5 pm but at 6 pm.
URL:https://sustain.auburn.edu/event/concerts-on-campus/2023-11-16/
LOCATION:Cater Hall Lawn
CATEGORIES:Concert,Evening,Gathering,On-Campus,Performance,Social-Event,Students
ATTACH;FMTTYPE=image/png:https://sustain.auburn.edu/wp-content/uploads/2022/08/cater-hall-event.png
ORGANIZER;CN="WEGL 91.1":MAILTO:wegl91auburn@gmail.com
GEO:32.603823;-85.484842
END:VEVENT
BEGIN:VEVENT
DTSTART;TZID=America/Chicago:20231109T170000
DTEND;TZID=America/Chicago:20231109T210000
DTSTAMP:20260420T121647
CREATED:20220829T175008Z
LAST-MODIFIED:20220829T175008Z
UID:10003829-1699549200-1699563600@sustain.auburn.edu
SUMMARY:Concerts on Campus
DESCRIPTION:Concerts on Campus is WEGL 91.1 FM’s weekly concert series where we host student\, local\, and regional acts across campus for free. \nDoors open at 5 pm but at 6 pm.
URL:https://sustain.auburn.edu/event/concerts-on-campus/2023-11-09/
LOCATION:Cater Hall Lawn
CATEGORIES:Concert,Evening,Gathering,On-Campus,Performance,Social-Event,Students
ATTACH;FMTTYPE=image/png:https://sustain.auburn.edu/wp-content/uploads/2022/08/cater-hall-event.png
ORGANIZER;CN="WEGL 91.1":MAILTO:wegl91auburn@gmail.com
GEO:32.603823;-85.484842
END:VEVENT
BEGIN:VEVENT
DTSTART;TZID=America/Chicago:20231102T170000
DTEND;TZID=America/Chicago:20231102T210000
DTSTAMP:20260420T121647
CREATED:20220829T175008Z
LAST-MODIFIED:20220829T175008Z
UID:10003828-1698944400-1698958800@sustain.auburn.edu
SUMMARY:Concerts on Campus
DESCRIPTION:Concerts on Campus is WEGL 91.1 FM’s weekly concert series where we host student\, local\, and regional acts across campus for free. \nDoors open at 5 pm but at 6 pm.
URL:https://sustain.auburn.edu/event/concerts-on-campus/2023-11-02/
LOCATION:Cater Hall Lawn
CATEGORIES:Concert,Evening,Gathering,On-Campus,Performance,Social-Event,Students
ATTACH;FMTTYPE=image/png:https://sustain.auburn.edu/wp-content/uploads/2022/08/cater-hall-event.png
ORGANIZER;CN="WEGL 91.1":MAILTO:wegl91auburn@gmail.com
GEO:32.603823;-85.484842
END:VEVENT
BEGIN:VEVENT
DTSTART;TZID=America/Chicago:20231026T170000
DTEND;TZID=America/Chicago:20231026T210000
DTSTAMP:20260420T121647
CREATED:20220829T175008Z
LAST-MODIFIED:20220829T175008Z
UID:10003827-1698339600-1698354000@sustain.auburn.edu
SUMMARY:Concerts on Campus
DESCRIPTION:Concerts on Campus is WEGL 91.1 FM’s weekly concert series where we host student\, local\, and regional acts across campus for free. \nDoors open at 5 pm but at 6 pm.
URL:https://sustain.auburn.edu/event/concerts-on-campus/2023-10-26/
LOCATION:Cater Hall Lawn
CATEGORIES:Concert,Evening,Gathering,On-Campus,Performance,Social-Event,Students
ATTACH;FMTTYPE=image/png:https://sustain.auburn.edu/wp-content/uploads/2022/08/cater-hall-event.png
ORGANIZER;CN="WEGL 91.1":MAILTO:wegl91auburn@gmail.com
GEO:32.603823;-85.484842
END:VEVENT
BEGIN:VEVENT
DTSTART;TZID=America/Chicago:20231019T170000
DTEND;TZID=America/Chicago:20231019T210000
DTSTAMP:20260420T121647
CREATED:20220829T175008Z
LAST-MODIFIED:20220829T175008Z
UID:10003826-1697734800-1697749200@sustain.auburn.edu
SUMMARY:Concerts on Campus
DESCRIPTION:Concerts on Campus is WEGL 91.1 FM’s weekly concert series where we host student\, local\, and regional acts across campus for free. \nDoors open at 5 pm but at 6 pm.
URL:https://sustain.auburn.edu/event/concerts-on-campus/2023-10-19/
LOCATION:Cater Hall Lawn
CATEGORIES:Concert,Evening,Gathering,On-Campus,Performance,Social-Event,Students
ATTACH;FMTTYPE=image/png:https://sustain.auburn.edu/wp-content/uploads/2022/08/cater-hall-event.png
ORGANIZER;CN="WEGL 91.1":MAILTO:wegl91auburn@gmail.com
GEO:32.603823;-85.484842
END:VEVENT
BEGIN:VEVENT
DTSTART;TZID=America/Chicago:20231012T170000
DTEND;TZID=America/Chicago:20231012T210000
DTSTAMP:20260420T121647
CREATED:20220829T175008Z
LAST-MODIFIED:20220829T175008Z
UID:10003825-1697130000-1697144400@sustain.auburn.edu
SUMMARY:Concerts on Campus
DESCRIPTION:Concerts on Campus is WEGL 91.1 FM’s weekly concert series where we host student\, local\, and regional acts across campus for free. \nDoors open at 5 pm but at 6 pm.
URL:https://sustain.auburn.edu/event/concerts-on-campus/2023-10-12/
LOCATION:Cater Hall Lawn
CATEGORIES:Concert,Evening,Gathering,On-Campus,Performance,Social-Event,Students
ATTACH;FMTTYPE=image/png:https://sustain.auburn.edu/wp-content/uploads/2022/08/cater-hall-event.png
ORGANIZER;CN="WEGL 91.1":MAILTO:wegl91auburn@gmail.com
GEO:32.603823;-85.484842
END:VEVENT
BEGIN:VEVENT
DTSTART;TZID=America/Chicago:20231005T170000
DTEND;TZID=America/Chicago:20231005T210000
DTSTAMP:20260420T121647
CREATED:20220829T175008Z
LAST-MODIFIED:20220829T175008Z
UID:10003824-1696525200-1696539600@sustain.auburn.edu
SUMMARY:Concerts on Campus
DESCRIPTION:Concerts on Campus is WEGL 91.1 FM’s weekly concert series where we host student\, local\, and regional acts across campus for free. \nDoors open at 5 pm but at 6 pm.
URL:https://sustain.auburn.edu/event/concerts-on-campus/2023-10-05/
LOCATION:Cater Hall Lawn
CATEGORIES:Concert,Evening,Gathering,On-Campus,Performance,Social-Event,Students
ATTACH;FMTTYPE=image/png:https://sustain.auburn.edu/wp-content/uploads/2022/08/cater-hall-event.png
ORGANIZER;CN="WEGL 91.1":MAILTO:wegl91auburn@gmail.com
GEO:32.603823;-85.484842
END:VEVENT
BEGIN:VEVENT
DTSTART;TZID=America/Chicago:20230928T170000
DTEND;TZID=America/Chicago:20230928T210000
DTSTAMP:20260420T121647
CREATED:20220829T175008Z
LAST-MODIFIED:20220829T175008Z
UID:10003823-1695920400-1695934800@sustain.auburn.edu
SUMMARY:Concerts on Campus
DESCRIPTION:Concerts on Campus is WEGL 91.1 FM’s weekly concert series where we host student\, local\, and regional acts across campus for free. \nDoors open at 5 pm but at 6 pm.
URL:https://sustain.auburn.edu/event/concerts-on-campus/2023-09-28/
LOCATION:Cater Hall Lawn
CATEGORIES:Concert,Evening,Gathering,On-Campus,Performance,Social-Event,Students
ATTACH;FMTTYPE=image/png:https://sustain.auburn.edu/wp-content/uploads/2022/08/cater-hall-event.png
ORGANIZER;CN="WEGL 91.1":MAILTO:wegl91auburn@gmail.com
GEO:32.603823;-85.484842
END:VEVENT
BEGIN:VEVENT
DTSTART;TZID=America/Chicago:20230922T193000
DTEND;TZID=America/Chicago:20230922T210000
DTSTAMP:20260420T121647
CREATED:20230918T134458Z
LAST-MODIFIED:20230918T134804Z
UID:10004062-1695411000-1695416400@sustain.auburn.edu
SUMMARY:Sundilla Concert Series at Pebble Hill
DESCRIPTION:Pebble Hill is hosting a concert\, and it is free to the public! The concert will be featuring Jon Shain and FJ Ventre. For more information\, please visit Pebble Hill’s website.
URL:https://sustain.auburn.edu/event/sundilla-concert-series-at-pebble-hill/
LOCATION:Pebble Hill
CATEGORIES:Anyone,Concert,Evening,Gathering,On-Campus,Performance
GEO:32.606519;-85.47234
END:VEVENT
BEGIN:VEVENT
DTSTART;TZID=America/Chicago:20230921T170000
DTEND;TZID=America/Chicago:20230921T210000
DTSTAMP:20260420T121647
CREATED:20220829T175008Z
LAST-MODIFIED:20220829T175008Z
UID:10003822-1695315600-1695330000@sustain.auburn.edu
SUMMARY:Concerts on Campus
DESCRIPTION:Concerts on Campus is WEGL 91.1 FM’s weekly concert series where we host student\, local\, and regional acts across campus for free. \nDoors open at 5 pm but at 6 pm.
URL:https://sustain.auburn.edu/event/concerts-on-campus/2023-09-21/
LOCATION:Cater Hall Lawn
CATEGORIES:Concert,Evening,Gathering,On-Campus,Performance,Social-Event,Students
ATTACH;FMTTYPE=image/png:https://sustain.auburn.edu/wp-content/uploads/2022/08/cater-hall-event.png
ORGANIZER;CN="WEGL 91.1":MAILTO:wegl91auburn@gmail.com
GEO:32.603823;-85.484842
END:VEVENT
BEGIN:VEVENT
DTSTART;TZID=America/Chicago:20230914T170000
DTEND;TZID=America/Chicago:20230914T210000
DTSTAMP:20260420T121647
CREATED:20220829T175008Z
LAST-MODIFIED:20220829T175008Z
UID:10003821-1694710800-1694725200@sustain.auburn.edu
SUMMARY:Concerts on Campus
DESCRIPTION:Concerts on Campus is WEGL 91.1 FM’s weekly concert series where we host student\, local\, and regional acts across campus for free. \nDoors open at 5 pm but at 6 pm.
URL:https://sustain.auburn.edu/event/concerts-on-campus/2023-09-14/
LOCATION:Cater Hall Lawn
CATEGORIES:Concert,Evening,Gathering,On-Campus,Performance,Social-Event,Students
ATTACH;FMTTYPE=image/png:https://sustain.auburn.edu/wp-content/uploads/2022/08/cater-hall-event.png
ORGANIZER;CN="WEGL 91.1":MAILTO:wegl91auburn@gmail.com
GEO:32.603823;-85.484842
END:VEVENT
BEGIN:VEVENT
DTSTART;TZID=America/Chicago:20230907T170000
DTEND;TZID=America/Chicago:20230907T210000
DTSTAMP:20260420T121647
CREATED:20220829T175008Z
LAST-MODIFIED:20220829T175008Z
UID:10003820-1694106000-1694120400@sustain.auburn.edu
SUMMARY:Concerts on Campus
DESCRIPTION:Concerts on Campus is WEGL 91.1 FM’s weekly concert series where we host student\, local\, and regional acts across campus for free. \nDoors open at 5 pm but at 6 pm.
URL:https://sustain.auburn.edu/event/concerts-on-campus/2023-09-07/
LOCATION:Cater Hall Lawn
CATEGORIES:Concert,Evening,Gathering,On-Campus,Performance,Social-Event,Students
ATTACH;FMTTYPE=image/png:https://sustain.auburn.edu/wp-content/uploads/2022/08/cater-hall-event.png
ORGANIZER;CN="WEGL 91.1":MAILTO:wegl91auburn@gmail.com
GEO:32.603823;-85.484842
END:VEVENT
BEGIN:VEVENT
DTSTART;TZID=America/Chicago:20230831T170000
DTEND;TZID=America/Chicago:20230831T210000
DTSTAMP:20260420T121647
CREATED:20220829T175008Z
LAST-MODIFIED:20220829T175008Z
UID:10003819-1693501200-1693515600@sustain.auburn.edu
SUMMARY:Concerts on Campus
DESCRIPTION:Concerts on Campus is WEGL 91.1 FM’s weekly concert series where we host student\, local\, and regional acts across campus for free. \nDoors open at 5 pm but at 6 pm.
URL:https://sustain.auburn.edu/event/concerts-on-campus/2023-08-31/
LOCATION:Cater Hall Lawn
CATEGORIES:Concert,Evening,Gathering,On-Campus,Performance,Social-Event,Students
ATTACH;FMTTYPE=image/png:https://sustain.auburn.edu/wp-content/uploads/2022/08/cater-hall-event.png
ORGANIZER;CN="WEGL 91.1":MAILTO:wegl91auburn@gmail.com
GEO:32.603823;-85.484842
END:VEVENT
BEGIN:VEVENT
DTSTART;TZID=America/Chicago:20230824T170000
DTEND;TZID=America/Chicago:20230824T210000
DTSTAMP:20260420T121647
CREATED:20220829T175008Z
LAST-MODIFIED:20220829T175008Z
UID:10003818-1692896400-1692910800@sustain.auburn.edu
SUMMARY:Concerts on Campus
DESCRIPTION:Concerts on Campus is WEGL 91.1 FM’s weekly concert series where we host student\, local\, and regional acts across campus for free. \nDoors open at 5 pm but at 6 pm.
URL:https://sustain.auburn.edu/event/concerts-on-campus/2023-08-24/
LOCATION:Cater Hall Lawn
CATEGORIES:Concert,Evening,Gathering,On-Campus,Performance,Social-Event,Students
ATTACH;FMTTYPE=image/png:https://sustain.auburn.edu/wp-content/uploads/2022/08/cater-hall-event.png
ORGANIZER;CN="WEGL 91.1":MAILTO:wegl91auburn@gmail.com
GEO:32.603823;-85.484842
END:VEVENT
BEGIN:VEVENT
DTSTART;TZID=America/Chicago:20230817T170000
DTEND;TZID=America/Chicago:20230817T210000
DTSTAMP:20260420T121647
CREATED:20220829T175008Z
LAST-MODIFIED:20220829T175008Z
UID:10003817-1692291600-1692306000@sustain.auburn.edu
SUMMARY:Concerts on Campus
DESCRIPTION:Concerts on Campus is WEGL 91.1 FM’s weekly concert series where we host student\, local\, and regional acts across campus for free. \nDoors open at 5 pm but at 6 pm.
URL:https://sustain.auburn.edu/event/concerts-on-campus/2023-08-17/
LOCATION:Cater Hall Lawn
CATEGORIES:Concert,Evening,Gathering,On-Campus,Performance,Social-Event,Students
ATTACH;FMTTYPE=image/png:https://sustain.auburn.edu/wp-content/uploads/2022/08/cater-hall-event.png
ORGANIZER;CN="WEGL 91.1":MAILTO:wegl91auburn@gmail.com
GEO:32.603823;-85.484842
END:VEVENT
BEGIN:VEVENT
DTSTART;TZID=America/Chicago:20230810T170000
DTEND;TZID=America/Chicago:20230810T210000
DTSTAMP:20260420T121647
CREATED:20220829T175008Z
LAST-MODIFIED:20220829T175008Z
UID:10003816-1691686800-1691701200@sustain.auburn.edu
SUMMARY:Concerts on Campus
DESCRIPTION:Concerts on Campus is WEGL 91.1 FM’s weekly concert series where we host student\, local\, and regional acts across campus for free. \nDoors open at 5 pm but at 6 pm.
URL:https://sustain.auburn.edu/event/concerts-on-campus/2023-08-10/
LOCATION:Cater Hall Lawn
CATEGORIES:Concert,Evening,Gathering,On-Campus,Performance,Social-Event,Students
ATTACH;FMTTYPE=image/png:https://sustain.auburn.edu/wp-content/uploads/2022/08/cater-hall-event.png
ORGANIZER;CN="WEGL 91.1":MAILTO:wegl91auburn@gmail.com
GEO:32.603823;-85.484842
END:VEVENT
BEGIN:VEVENT
DTSTART;TZID=America/Chicago:20230803T170000
DTEND;TZID=America/Chicago:20230803T210000
DTSTAMP:20260420T121647
CREATED:20220829T175008Z
LAST-MODIFIED:20220829T175008Z
UID:10003815-1691082000-1691096400@sustain.auburn.edu
SUMMARY:Concerts on Campus
DESCRIPTION:Concerts on Campus is WEGL 91.1 FM’s weekly concert series where we host student\, local\, and regional acts across campus for free. \nDoors open at 5 pm but at 6 pm.
URL:https://sustain.auburn.edu/event/concerts-on-campus/2023-08-03/
LOCATION:Cater Hall Lawn
CATEGORIES:Concert,Evening,Gathering,On-Campus,Performance,Social-Event,Students
ATTACH;FMTTYPE=image/png:https://sustain.auburn.edu/wp-content/uploads/2022/08/cater-hall-event.png
ORGANIZER;CN="WEGL 91.1":MAILTO:wegl91auburn@gmail.com
GEO:32.603823;-85.484842
END:VEVENT
BEGIN:VEVENT
DTSTART;TZID=America/Chicago:20230727T170000
DTEND;TZID=America/Chicago:20230727T210000
DTSTAMP:20260420T121647
CREATED:20220829T175008Z
LAST-MODIFIED:20220829T175008Z
UID:10003814-1690477200-1690491600@sustain.auburn.edu
SUMMARY:Concerts on Campus
DESCRIPTION:Concerts on Campus is WEGL 91.1 FM’s weekly concert series where we host student\, local\, and regional acts across campus for free. \nDoors open at 5 pm but at 6 pm.
URL:https://sustain.auburn.edu/event/concerts-on-campus/2023-07-27/
LOCATION:Cater Hall Lawn
CATEGORIES:Concert,Evening,Gathering,On-Campus,Performance,Social-Event,Students
ATTACH;FMTTYPE=image/png:https://sustain.auburn.edu/wp-content/uploads/2022/08/cater-hall-event.png
ORGANIZER;CN="WEGL 91.1":MAILTO:wegl91auburn@gmail.com
GEO:32.603823;-85.484842
END:VEVENT
BEGIN:VEVENT
DTSTART;TZID=America/Chicago:20230720T170000
DTEND;TZID=America/Chicago:20230720T210000
DTSTAMP:20260420T121647
CREATED:20220829T175008Z
LAST-MODIFIED:20220829T175008Z
UID:10003813-1689872400-1689886800@sustain.auburn.edu
SUMMARY:Concerts on Campus
DESCRIPTION:Concerts on Campus is WEGL 91.1 FM’s weekly concert series where we host student\, local\, and regional acts across campus for free. \nDoors open at 5 pm but at 6 pm.
URL:https://sustain.auburn.edu/event/concerts-on-campus/2023-07-20/
LOCATION:Cater Hall Lawn
CATEGORIES:Concert,Evening,Gathering,On-Campus,Performance,Social-Event,Students
ATTACH;FMTTYPE=image/png:https://sustain.auburn.edu/wp-content/uploads/2022/08/cater-hall-event.png
ORGANIZER;CN="WEGL 91.1":MAILTO:wegl91auburn@gmail.com
GEO:32.603823;-85.484842
END:VEVENT
BEGIN:VEVENT
DTSTART;TZID=America/Chicago:20230713T170000
DTEND;TZID=America/Chicago:20230713T210000
DTSTAMP:20260420T121647
CREATED:20220829T175008Z
LAST-MODIFIED:20220829T175008Z
UID:10003812-1689267600-1689282000@sustain.auburn.edu
SUMMARY:Concerts on Campus
DESCRIPTION:Concerts on Campus is WEGL 91.1 FM’s weekly concert series where we host student\, local\, and regional acts across campus for free. \nDoors open at 5 pm but at 6 pm.
URL:https://sustain.auburn.edu/event/concerts-on-campus/2023-07-13/
LOCATION:Cater Hall Lawn
CATEGORIES:Concert,Evening,Gathering,On-Campus,Performance,Social-Event,Students
ATTACH;FMTTYPE=image/png:https://sustain.auburn.edu/wp-content/uploads/2022/08/cater-hall-event.png
ORGANIZER;CN="WEGL 91.1":MAILTO:wegl91auburn@gmail.com
GEO:32.603823;-85.484842
END:VEVENT
BEGIN:VEVENT
DTSTART;TZID=America/Chicago:20230706T170000
DTEND;TZID=America/Chicago:20230706T210000
DTSTAMP:20260420T121647
CREATED:20220829T175008Z
LAST-MODIFIED:20220829T175008Z
UID:10003811-1688662800-1688677200@sustain.auburn.edu
SUMMARY:Concerts on Campus
DESCRIPTION:Concerts on Campus is WEGL 91.1 FM’s weekly concert series where we host student\, local\, and regional acts across campus for free. \nDoors open at 5 pm but at 6 pm.
URL:https://sustain.auburn.edu/event/concerts-on-campus/2023-07-06/
LOCATION:Cater Hall Lawn
CATEGORIES:Concert,Evening,Gathering,On-Campus,Performance,Social-Event,Students
ATTACH;FMTTYPE=image/png:https://sustain.auburn.edu/wp-content/uploads/2022/08/cater-hall-event.png
ORGANIZER;CN="WEGL 91.1":MAILTO:wegl91auburn@gmail.com
GEO:32.603823;-85.484842
END:VEVENT
BEGIN:VEVENT
DTSTART;TZID=America/Chicago:20230629T170000
DTEND;TZID=America/Chicago:20230629T210000
DTSTAMP:20260420T121647
CREATED:20220829T175008Z
LAST-MODIFIED:20220829T175008Z
UID:10003810-1688058000-1688072400@sustain.auburn.edu
SUMMARY:Concerts on Campus
DESCRIPTION:Concerts on Campus is WEGL 91.1 FM’s weekly concert series where we host student\, local\, and regional acts across campus for free. \nDoors open at 5 pm but at 6 pm.
URL:https://sustain.auburn.edu/event/concerts-on-campus/2023-06-29/
LOCATION:Cater Hall Lawn
CATEGORIES:Concert,Evening,Gathering,On-Campus,Performance,Social-Event,Students
ATTACH;FMTTYPE=image/png:https://sustain.auburn.edu/wp-content/uploads/2022/08/cater-hall-event.png
ORGANIZER;CN="WEGL 91.1":MAILTO:wegl91auburn@gmail.com
GEO:32.603823;-85.484842
END:VEVENT
END:VCALENDAR