BEGIN:VCALENDAR
VERSION:2.0
PRODID:-//Office of Sustainability - ECPv6.15.15//NONSGML v1.0//EN
CALSCALE:GREGORIAN
METHOD:PUBLISH
X-ORIGINAL-URL:https://sustain.auburn.edu
X-WR-CALDESC:Events for Office of Sustainability
REFRESH-INTERVAL;VALUE=DURATION:PT1H
X-Robots-Tag:noindex
X-PUBLISHED-TTL:PT1H
BEGIN:VTIMEZONE
TZID:America/Chicago
BEGIN:DAYLIGHT
TZOFFSETFROM:-0600
TZOFFSETTO:-0500
TZNAME:CDT
DTSTART:20250309T080000
END:DAYLIGHT
BEGIN:STANDARD
TZOFFSETFROM:-0500
TZOFFSETTO:-0600
TZNAME:CST
DTSTART:20251102T070000
END:STANDARD
BEGIN:DAYLIGHT
TZOFFSETFROM:-0600
TZOFFSETTO:-0500
TZNAME:CDT
DTSTART:20260308T080000
END:DAYLIGHT
BEGIN:STANDARD
TZOFFSETFROM:-0500
TZOFFSETTO:-0600
TZNAME:CST
DTSTART:20261101T070000
END:STANDARD
BEGIN:DAYLIGHT
TZOFFSETFROM:-0600
TZOFFSETTO:-0500
TZNAME:CDT
DTSTART:20270314T080000
END:DAYLIGHT
BEGIN:STANDARD
TZOFFSETFROM:-0500
TZOFFSETTO:-0600
TZNAME:CST
DTSTART:20271107T070000
END:STANDARD
END:VTIMEZONE
BEGIN:VEVENT
DTSTART;TZID=America/Chicago:20260306T090000
DTEND;TZID=America/Chicago:20260306T230000
DTSTAMP:20260425T171700
CREATED:20260303T182141Z
LAST-MODIFIED:20260303T182141Z
UID:10005281-1772787600-1772838000@sustain.auburn.edu
SUMMARY:Campus Clean Up
DESCRIPTION:Join us Friday\, March 6th from 9am-11am for a fun filled cleanup with Gloves\, bags and water provided. We had over 60 participants in April! \nWe will meet up across from the grass intramural fields near the AU Softball Complex (where the Tigers play). We hope to see you March 6th from 9am to 1lam.
URL:https://sustain.auburn.edu/event/campus-clean-up/
LOCATION:Event Venue | Intramural Fields\, 741 Biggio Drive\, Auburn\, AL\, 36832\, United States
CATEGORIES:Anyone,Daytime,On Campus,Outing
ATTACH;FMTTYPE=image/png:https://sustain.auburn.edu/wp-content/uploads/2022/09/Risk-Management-and-Safety-Event.png
GEO:32.5968086;-85.4957405
X-APPLE-STRUCTURED-LOCATION;VALUE=URI;X-ADDRESS=Event Venue | Intramural Fields 741 Biggio Drive Auburn AL 36832 United States;X-APPLE-RADIUS=500;X-TITLE=741 Biggio Drive:geo:-85.4957405,32.5968086
END:VEVENT
BEGIN:VEVENT
DTSTART;TZID=America/Chicago:20260307T090000
DTEND;TZID=America/Chicago:20260311T170000
DTSTAMP:20260425T171700
CREATED:20260113T230324Z
LAST-MODIFIED:20260113T230334Z
UID:10005248-1772874000-1773248400@sustain.auburn.edu
SUMMARY:Dive into Spring with Auburn Outdoors: Spring Break Trip
DESCRIPTION:Spend your spring break in the beauty of Florida’s freshwater springs. You’ll paddle in the crystal clear blue waters of Morrison Springs and explore what’s underneath the surface at St. Andrew’s State Park during a discover scuba experience. Transportation\, meals\, camping accommodations\, entrance fees\, discover scuba experience\, and all gear are included in the trip fee. A required pre-trip meeting for participants will be held on February 24th at 5 PM at Auburn Outdoors. \nRegistration Open: 1/7 – 2/27
URL:https://sustain.auburn.edu/event/dive-into-spring-with-auburn-outdoors-spring-break-trip/
LOCATION:Event Venue | Auburn University Recreation and Wellness Center
CATEGORIES:Application Deadline,Off Campus,Outing,Students
ATTACH;FMTTYPE=image/png:https://sustain.auburn.edu/wp-content/uploads/2020/10/Auburn-Outdoors-Events-1-Zpto0R.tmp_-e1769639735491.png
GEO:32.601295;-85.492977
END:VEVENT
BEGIN:VEVENT
DTSTART;TZID=America/Chicago:20260312T083000
DTEND;TZID=America/Chicago:20260312T093000
DTSTAMP:20260425T171700
CREATED:20250331T171711Z
LAST-MODIFIED:20250331T171745Z
UID:10004972-1773304200-1773307800@sustain.auburn.edu
SUMMARY:Nature Walks
DESCRIPTION:Join Kreher guides for a peaceful morning walk as you take in the many sights and sounds of the Preserve.  Nature Walks offer excellent opportunities to socialize and learn while enjoying fresh air and exercise in our beautiful outdoors.\nNature Walks are for adults only and are offered on the second Thursday of each month from 8:30 – 9:30 a.m. Pre-registration is not required. Each month features a new seasonal theme. Groups meet at the pavilion.\nNature Walks are free – donations are welcomed. This event will be canceled in the event of rain.
URL:https://sustain.auburn.edu/event/nature-walks-2/2026-03-12/
LOCATION:Event Venue | Kreher Preserve & Nature Center\, United States
CATEGORIES:Anyone,Daytime,Outing
ATTACH;FMTTYPE=image/png:https://sustain.auburn.edu/wp-content/uploads/2016/12/Kreher-Preserve-Nature-Center-Events.png
GEO:32.658578;-85.485692
END:VEVENT
BEGIN:VEVENT
DTSTART;TZID=America/Chicago:20260314T093000
DTEND;TZID=America/Chicago:20260314T123000
DTSTAMP:20260425T171700
CREATED:20260303T230351Z
LAST-MODIFIED:20260303T230351Z
UID:10005283-1773480600-1773491400@sustain.auburn.edu
SUMMARY:Leprechaun Hike
DESCRIPTION:Get ready for a magical adventure at the Kreher Preserve & Nature Center’s annual Leprechaun Hunt!  This family-friendly hike will take you on a whimsical journey through the enchanting woods\, where you’ll be on the lookout for mischievous leprechauns getting ready for St. Patrick’s Day. \nJoin us on March 14 as we embark on this delightful quest. Hikes will depart every 30 minutes between 9:30 am and 12:30pm\, giving you plenty of opportunities to catch a glimpse of our sneaky little green friends. Along the way\, you’ll encounter several fun stops where you can engage in hands-on crafts\, activities\, and experiments that are sure to bring out your inner leprechaun. \nTickets are just $7 per person (or $5 for members)\, making it an affordable and unforgettable experience for the whole family. So\, put on your best green attire and join us for a day of laughter\, exploration\, and leprechaun magic at the Kreher Preserve & Nature Center!
URL:https://sustain.auburn.edu/event/leprechaun-hike/2026-03-14/
LOCATION:Event Venue | Louise Kreher Preserve and Nature Center\, United States
CATEGORIES:Anyone,Outing
ATTACH;FMTTYPE=image/png:https://sustain.auburn.edu/wp-content/uploads/2025/08/Kreher_Scaled.png
GEO:32.6436983;-85.481266
END:VEVENT
BEGIN:VEVENT
DTSTART;TZID=America/Chicago:20260315T093000
DTEND;TZID=America/Chicago:20260315T123000
DTSTAMP:20260425T171700
CREATED:20260303T230351Z
LAST-MODIFIED:20260303T230351Z
UID:10005284-1773567000-1773577800@sustain.auburn.edu
SUMMARY:Leprechaun Hike
DESCRIPTION:Get ready for a magical adventure at the Kreher Preserve & Nature Center’s annual Leprechaun Hunt!  This family-friendly hike will take you on a whimsical journey through the enchanting woods\, where you’ll be on the lookout for mischievous leprechauns getting ready for St. Patrick’s Day. \nJoin us on March 14 as we embark on this delightful quest. Hikes will depart every 30 minutes between 9:30 am and 12:30pm\, giving you plenty of opportunities to catch a glimpse of our sneaky little green friends. Along the way\, you’ll encounter several fun stops where you can engage in hands-on crafts\, activities\, and experiments that are sure to bring out your inner leprechaun. \nTickets are just $7 per person (or $5 for members)\, making it an affordable and unforgettable experience for the whole family. So\, put on your best green attire and join us for a day of laughter\, exploration\, and leprechaun magic at the Kreher Preserve & Nature Center!
URL:https://sustain.auburn.edu/event/leprechaun-hike/2026-03-15/
LOCATION:Event Venue | Louise Kreher Preserve and Nature Center\, United States
CATEGORIES:Anyone,Outing
ATTACH;FMTTYPE=image/png:https://sustain.auburn.edu/wp-content/uploads/2025/08/Kreher_Scaled.png
GEO:32.6436983;-85.481266
END:VEVENT
BEGIN:VEVENT
DTSTART;TZID=America/Chicago:20260326T153000
DTEND;TZID=America/Chicago:20260326T183000
DTSTAMP:20260425T171700
CREATED:20260128T225050Z
LAST-MODIFIED:20260401T203719Z
UID:10005266-1774539000-1774549800@sustain.auburn.edu
SUMMARY:Women in the Wild: Animal Encounters
DESCRIPTION:Meet the animals of Kreher Nature Preserve and explore their hiking trails in an all-female environment. \nJoin Auburn Outdoors on a trip to Kreher Nature Preserve. During this trip\, you’ll meet other women interested in getting outside\, meet the animals of Kreher\, explore their hiking trails\, and visit one of Auburn’s hidden waterfalls. The group will depart AO at 3:30 PM and return at 6:30 PM.
URL:https://sustain.auburn.edu/event/women-in-the-wild-animal-encounters/
LOCATION:Event Venue | Auburn Outdoors\, United States
CATEGORIES:Exercise,Graduate Students,Outing,Social Event,Students
ATTACH;FMTTYPE=image/png:https://sustain.auburn.edu/wp-content/uploads/2020/10/Auburn-Outdoors-Events-1-Zpto0R.tmp_-e1769639735491.png
GEO:32.601335;-85.492816
END:VEVENT
END:VCALENDAR