BEGIN:VCALENDAR
VERSION:2.0
PRODID:-//Office of Sustainability - ECPv6.15.15//NONSGML v1.0//EN
CALSCALE:GREGORIAN
METHOD:PUBLISH
X-WR-CALNAME:Office of Sustainability
X-ORIGINAL-URL:https://sustain.auburn.edu
X-WR-CALDESC:Events for Office of Sustainability
REFRESH-INTERVAL;VALUE=DURATION:PT1H
X-Robots-Tag:noindex
X-PUBLISHED-TTL:PT1H
BEGIN:VTIMEZONE
TZID:America/Chicago
BEGIN:DAYLIGHT
TZOFFSETFROM:-0600
TZOFFSETTO:-0500
TZNAME:CDT
DTSTART:20240310T080000
END:DAYLIGHT
BEGIN:STANDARD
TZOFFSETFROM:-0500
TZOFFSETTO:-0600
TZNAME:CST
DTSTART:20241103T070000
END:STANDARD
BEGIN:DAYLIGHT
TZOFFSETFROM:-0600
TZOFFSETTO:-0500
TZNAME:CDT
DTSTART:20250309T080000
END:DAYLIGHT
BEGIN:STANDARD
TZOFFSETFROM:-0500
TZOFFSETTO:-0600
TZNAME:CST
DTSTART:20251102T070000
END:STANDARD
BEGIN:DAYLIGHT
TZOFFSETFROM:-0600
TZOFFSETTO:-0500
TZNAME:CDT
DTSTART:20260308T080000
END:DAYLIGHT
BEGIN:STANDARD
TZOFFSETFROM:-0500
TZOFFSETTO:-0600
TZNAME:CST
DTSTART:20261101T070000
END:STANDARD
END:VTIMEZONE
BEGIN:VEVENT
DTSTART;TZID=America/Chicago:20251004T080000
DTEND;TZID=America/Chicago:20251004T120000
DTSTAMP:20260425T112629
CREATED:20250910T203040Z
LAST-MODIFIED:20250910T203040Z
UID:10005212-1759564800-1759579200@sustain.auburn.edu
SUMMARY:Harvest Market
DESCRIPTION:City Market will be back this fall! Auburn Parks and Recreation invites the community to join us at Town Creek Park on Saturday\, Oct. 4\, from 8 a.m. to noon for Harvest Market. The market will feature local farmers\, growers and artists showcasing a variety of fresh produce and handmade products.
URL:https://sustain.auburn.edu/event/harvest-market-6/
LOCATION:Event Venue | Town Creek Park\, United States
CATEGORIES:Anyone,Daytime,Gathering,Market,Off Campus,Outing
ATTACH;FMTTYPE=image/png:https://sustain.auburn.edu/wp-content/uploads/2020/10/City-of-Auburn-Logo-V08K3m.tmp_.png
GEO:32.5844913206;-85.4756279188
END:VEVENT
BEGIN:VEVENT
DTSTART;TZID=America/Chicago:20251004T083000
DTEND;TZID=America/Chicago:20251004T100000
DTSTAMP:20260425T112629
CREATED:20250903T185435Z
LAST-MODIFIED:20250903T185450Z
UID:10005197-1759566600-1759572000@sustain.auburn.edu
SUMMARY:Rain Barrel Workshops
DESCRIPTION:Community members are invited to attend one of three upcoming rain barrel workshops\, promoting sustainable water use and stormwater management. \nAttendees will receive a free rain barrel to collect and reuse rainwater at home along with tips on how to install\, maintain and troubleshoot potential issues with their new reservoir. They will also learn about the benefits of rainwater harvesting\, including: Conserving water and reducing reliance on City water sources. Reducing stormwater runoff\, which can prevent soil erosion and limit the amount of pollutants that reach our local waterways. \nThose interesting in participating must register ahead of time online. Each workshop will be limited to 15 people. Complementary breakfast and coffee will be provided. For more information\, contact Marla Smith at msmith@auburnal.gov or Matt Wisenden at matt.wisenden@auburn.edu. \nThe event will be at the Nunn-Winston House at Kiesel Park. \nThis event is hosted by the City of Auburn and Auburn University Stormwater and is funded through a grant from the Alabama Department of Environmental Management.
URL:https://sustain.auburn.edu/event/rain-barrel-workshops/2025-10-04/
LOCATION:Event Venue | Kiesel Park
CATEGORIES:Anyone,Daytime,Off Campus,Workshop
ATTACH;FMTTYPE=image/png:https://sustain.auburn.edu/wp-content/uploads/2020/10/City-of-Auburn-Event-QSC7Vx.tmp_.png
GEO:32.58599;-85.543439
END:VEVENT
BEGIN:VEVENT
DTSTART;TZID=America/Chicago:20251004T090000
DTEND;TZID=America/Chicago:20251004T130000
DTSTAMP:20260425T112629
CREATED:20250903T182659Z
LAST-MODIFIED:20250903T182659Z
UID:10005191-1759568400-1759582800@sustain.auburn.edu
SUMMARY:Household Hazardous Waste Collection Day
DESCRIPTION:The City of Auburn Environmental Services Department hosts two Household Hazardous Waste Collection Days in the spring and fall. These free events give Auburn residents the opportunity to drop off hazardous materials that are illegal to dispose of during weekly garbage collection. We will also accept paper documents for secure\, on-site shredding as well as computers/electronics for recycling.
URL:https://sustain.auburn.edu/event/household-hazardous-waste-collection-day-6/
LOCATION:Event Venue | Environmental Services Department Complex\, 4277 Wire Road\, Suite 100\, Auburn\, AL\, 36832\, United States
CATEGORIES:Administration,All Employees,Alumni,Anyone,Daytime,Off Campus
ATTACH;FMTTYPE=image/png:https://sustain.auburn.edu/wp-content/uploads/2020/10/City-of-Auburn-Event-QSC7Vx.tmp_.png
GEO:32.612104;-85.490346
X-APPLE-STRUCTURED-LOCATION;VALUE=URI;X-ADDRESS=Event Venue | Environmental Services Department Complex 4277 Wire Road Suite 100 Auburn AL 36832 United States;X-APPLE-RADIUS=500;X-TITLE=4277 Wire Road\, Suite 100:geo:-85.490346,32.612104
END:VEVENT
END:VCALENDAR