BEGIN:VCALENDAR
VERSION:2.0
PRODID:-//Office of Sustainability - ECPv6.15.15//NONSGML v1.0//EN
CALSCALE:GREGORIAN
METHOD:PUBLISH
X-WR-CALNAME:Office of Sustainability
X-ORIGINAL-URL:https://sustain.auburn.edu
X-WR-CALDESC:Events for Office of Sustainability
REFRESH-INTERVAL;VALUE=DURATION:PT1H
X-Robots-Tag:noindex
X-PUBLISHED-TTL:PT1H
BEGIN:VTIMEZONE
TZID:America/Chicago
BEGIN:DAYLIGHT
TZOFFSETFROM:-0600
TZOFFSETTO:-0500
TZNAME:CDT
DTSTART:20240310T080000
END:DAYLIGHT
BEGIN:STANDARD
TZOFFSETFROM:-0500
TZOFFSETTO:-0600
TZNAME:CST
DTSTART:20241103T070000
END:STANDARD
BEGIN:DAYLIGHT
TZOFFSETFROM:-0600
TZOFFSETTO:-0500
TZNAME:CDT
DTSTART:20250309T080000
END:DAYLIGHT
BEGIN:STANDARD
TZOFFSETFROM:-0500
TZOFFSETTO:-0600
TZNAME:CST
DTSTART:20251102T070000
END:STANDARD
BEGIN:DAYLIGHT
TZOFFSETFROM:-0600
TZOFFSETTO:-0500
TZNAME:CDT
DTSTART:20260308T080000
END:DAYLIGHT
BEGIN:STANDARD
TZOFFSETFROM:-0500
TZOFFSETTO:-0600
TZNAME:CST
DTSTART:20261101T070000
END:STANDARD
END:VTIMEZONE
BEGIN:VEVENT
DTSTART;TZID=America/Chicago:20250802T080000
DTEND;TZID=America/Chicago:20250802T110000
DTSTAMP:20260422T164545
CREATED:20250331T163111Z
LAST-MODIFIED:20250818T190733Z
UID:10005033-1754121600-1754132400@sustain.auburn.edu
SUMMARY:City Market
DESCRIPTION:The Auburn Parks and Recreation Department partners with local growers and artisans for the city’s farmers market\, City Market. City Market invites the community\, growers and consumers alike to join us every Saturday from May 24 to August 30 from 8 to 11 AM. The purpose of City Market is to help local farmers\, growers and artists to sell their fresh\, local and handmade products to community members. For more information\, click here to visit their website. \n 
URL:https://sustain.auburn.edu/event/city-market-5-2/2025-08-02/
LOCATION:Town Creek Park\, United States
CATEGORIES:Anyone,Daytime,Market,Off-Campus
ATTACH;FMTTYPE=image/png:https://sustain.auburn.edu/wp-content/uploads/2020/10/City-of-Auburn-Logo-V08K3m.tmp_.png
GEO:32.5844913206;-85.4756279188
END:VEVENT
BEGIN:VEVENT
DTSTART;TZID=America/Chicago:20250805T160000
DTEND;TZID=America/Chicago:20250805T190000
DTSTAMP:20260422T164545
CREATED:20250612T210604Z
LAST-MODIFIED:20260325T184130Z
UID:10005115-1754409600-1754420400@sustain.auburn.edu
SUMMARY:OGrows: Local Farmers Market
DESCRIPTION:Opelika Grows\, or O Grows\, promotes gardening and related programming to address the issues of food security and localized food systems while providing fresh food for the community. Opelika’s local farmers market\, located across the street from the Cultural Arts Center on Glenn Street near the community garden\, is a place for visitors to find fresh\, local produce and maybe even goodies like fresh bread\, homemade ice cream\, or local honey! \n 
URL:https://sustain.auburn.edu/event/ogrows-farmers-market-2/2025-08-05/
LOCATION:Community Garden\, 1103 Glenn Street\, Opelika\, AL\, 36801\, United States
CATEGORIES:Anyone,Daytime,Market,Off-Campus
ORGANIZER;CN="OGrows":MAILTO:ogrows@auburn.edu
GEO:32.6419744;-85.3734094
X-APPLE-STRUCTURED-LOCATION;VALUE=URI;X-ADDRESS=Community Garden 1103 Glenn Street Opelika AL 36801 United States;X-APPLE-RADIUS=500;X-TITLE=1103 Glenn Street:geo:-85.3734094,32.6419744
END:VEVENT
BEGIN:VEVENT
DTSTART;TZID=America/Chicago:20250809T080000
DTEND;TZID=America/Chicago:20250809T110000
DTSTAMP:20260422T164545
CREATED:20250331T163111Z
LAST-MODIFIED:20250818T190733Z
UID:10005034-1754726400-1754737200@sustain.auburn.edu
SUMMARY:City Market
DESCRIPTION:The Auburn Parks and Recreation Department partners with local growers and artisans for the city’s farmers market\, City Market. City Market invites the community\, growers and consumers alike to join us every Saturday from May 24 to August 30 from 8 to 11 AM. The purpose of City Market is to help local farmers\, growers and artists to sell their fresh\, local and handmade products to community members. For more information\, click here to visit their website. \n 
URL:https://sustain.auburn.edu/event/city-market-5-2/2025-08-09/
LOCATION:Town Creek Park\, United States
CATEGORIES:Anyone,Daytime,Market,Off-Campus
ATTACH;FMTTYPE=image/png:https://sustain.auburn.edu/wp-content/uploads/2020/10/City-of-Auburn-Logo-V08K3m.tmp_.png
GEO:32.5844913206;-85.4756279188
END:VEVENT
BEGIN:VEVENT
DTSTART;TZID=America/Chicago:20250812T160000
DTEND;TZID=America/Chicago:20250812T190000
DTSTAMP:20260422T164545
CREATED:20250612T210604Z
LAST-MODIFIED:20260325T184130Z
UID:10005116-1755014400-1755025200@sustain.auburn.edu
SUMMARY:OGrows: Local Farmers Market
DESCRIPTION:Opelika Grows\, or O Grows\, promotes gardening and related programming to address the issues of food security and localized food systems while providing fresh food for the community. Opelika’s local farmers market\, located across the street from the Cultural Arts Center on Glenn Street near the community garden\, is a place for visitors to find fresh\, local produce and maybe even goodies like fresh bread\, homemade ice cream\, or local honey! \n 
URL:https://sustain.auburn.edu/event/ogrows-farmers-market-2/2025-08-12/
LOCATION:Community Garden\, 1103 Glenn Street\, Opelika\, AL\, 36801\, United States
CATEGORIES:Anyone,Daytime,Market,Off-Campus
ORGANIZER;CN="OGrows":MAILTO:ogrows@auburn.edu
GEO:32.6419744;-85.3734094
X-APPLE-STRUCTURED-LOCATION;VALUE=URI;X-ADDRESS=Community Garden 1103 Glenn Street Opelika AL 36801 United States;X-APPLE-RADIUS=500;X-TITLE=1103 Glenn Street:geo:-85.3734094,32.6419744
END:VEVENT
BEGIN:VEVENT
DTSTART;TZID=America/Chicago:20250816T080000
DTEND;TZID=America/Chicago:20250816T110000
DTSTAMP:20260422T164545
CREATED:20250331T163111Z
LAST-MODIFIED:20250818T190733Z
UID:10005035-1755331200-1755342000@sustain.auburn.edu
SUMMARY:City Market
DESCRIPTION:The Auburn Parks and Recreation Department partners with local growers and artisans for the city’s farmers market\, City Market. City Market invites the community\, growers and consumers alike to join us every Saturday from May 24 to August 30 from 8 to 11 AM. The purpose of City Market is to help local farmers\, growers and artists to sell their fresh\, local and handmade products to community members. For more information\, click here to visit their website. \n 
URL:https://sustain.auburn.edu/event/city-market-5-2/2025-08-16/
LOCATION:Town Creek Park\, United States
CATEGORIES:Anyone,Daytime,Market,Off-Campus
ATTACH;FMTTYPE=image/png:https://sustain.auburn.edu/wp-content/uploads/2020/10/City-of-Auburn-Logo-V08K3m.tmp_.png
GEO:32.5844913206;-85.4756279188
END:VEVENT
BEGIN:VEVENT
DTSTART;TZID=America/Chicago:20250817T130000
DTEND;TZID=America/Chicago:20250817T170000
DTSTAMP:20260422T164545
CREATED:20250331T170355Z
LAST-MODIFIED:20250331T170355Z
UID:10004955-1755435600-1755450000@sustain.auburn.edu
SUMMARY:Rising Gardens Farmers Market
DESCRIPTION:Check out the new local community market\, Rising Gardens! The market will feature fresh local produce\, community vendors selling artisanal goods\, food demonstration\, live music\, environmental engagement activity\, and a community led music jam. \nCome support your local farmers and artisans\, learn new skills\, build new connections\, and celebrate our vibrant local community! Learn more by visiting Auburn Opelika Tourisms webpage\, here. \n 
URL:https://sustain.auburn.edu/event/rising-gardens-farmers-market-2/
LOCATION:Auburn Montessori School\, East Drake Avenue\, Auburn\, AL\, 36830\, United States
CATEGORIES:Anyone,Daytime,Market,Off-Campus
ORGANIZER;CN="Rising Gardens":MAILTO:rising.gardensllc@gmail.com
GEO:32.6144789;-85.4784642
X-APPLE-STRUCTURED-LOCATION;VALUE=URI;X-ADDRESS=Auburn Montessori School East Drake Avenue Auburn AL 36830 United States;X-APPLE-RADIUS=500;X-TITLE=East Drake Avenue:geo:-85.4784642,32.6144789
END:VEVENT
BEGIN:VEVENT
DTSTART;TZID=America/Chicago:20250819T160000
DTEND;TZID=America/Chicago:20250819T190000
DTSTAMP:20260422T164545
CREATED:20250612T210604Z
LAST-MODIFIED:20260325T184130Z
UID:10005117-1755619200-1755630000@sustain.auburn.edu
SUMMARY:OGrows: Local Farmers Market
DESCRIPTION:Opelika Grows\, or O Grows\, promotes gardening and related programming to address the issues of food security and localized food systems while providing fresh food for the community. Opelika’s local farmers market\, located across the street from the Cultural Arts Center on Glenn Street near the community garden\, is a place for visitors to find fresh\, local produce and maybe even goodies like fresh bread\, homemade ice cream\, or local honey! \n 
URL:https://sustain.auburn.edu/event/ogrows-farmers-market-2/2025-08-19/
LOCATION:Community Garden\, 1103 Glenn Street\, Opelika\, AL\, 36801\, United States
CATEGORIES:Anyone,Daytime,Market,Off-Campus
ORGANIZER;CN="OGrows":MAILTO:ogrows@auburn.edu
GEO:32.6419744;-85.3734094
X-APPLE-STRUCTURED-LOCATION;VALUE=URI;X-ADDRESS=Community Garden 1103 Glenn Street Opelika AL 36801 United States;X-APPLE-RADIUS=500;X-TITLE=1103 Glenn Street:geo:-85.3734094,32.6419744
END:VEVENT
BEGIN:VEVENT
DTSTART;TZID=America/Chicago:20250823T080000
DTEND;TZID=America/Chicago:20250823T110000
DTSTAMP:20260422T164545
CREATED:20250818T190958Z
LAST-MODIFIED:20250818T190959Z
UID:10005036-1755936000-1755946800@sustain.auburn.edu
SUMMARY:City Market
DESCRIPTION:The Auburn Parks and Recreation Department partners with local growers and artisans for the city’s farmers market\, City Market. City Market invites the community\, growers and consumers alike to join us every Saturday from May 24 to August 30 from 8 to 11 AM. The purpose of City Market is to help local farmers\, growers and artists to sell their fresh\, local and handmade products to community members. For more information\, click here to visit their website. \n 
URL:https://sustain.auburn.edu/event/city-market-5-2-2/2025-08-23/
LOCATION:Town Creek Park\, United States
CATEGORIES:Anyone,Daytime,Market,Off-Campus
ATTACH;FMTTYPE=image/png:https://sustain.auburn.edu/wp-content/uploads/2020/10/City-of-Auburn-Logo-V08K3m.tmp_.png
GEO:32.5844913206;-85.4756279188
END:VEVENT
BEGIN:VEVENT
DTSTART;TZID=America/Chicago:20250826T160000
DTEND;TZID=America/Chicago:20250826T190000
DTSTAMP:20260422T164545
CREATED:20250612T210604Z
LAST-MODIFIED:20260325T184130Z
UID:10005118-1756224000-1756234800@sustain.auburn.edu
SUMMARY:OGrows: Local Farmers Market
DESCRIPTION:Opelika Grows\, or O Grows\, promotes gardening and related programming to address the issues of food security and localized food systems while providing fresh food for the community. Opelika’s local farmers market\, located across the street from the Cultural Arts Center on Glenn Street near the community garden\, is a place for visitors to find fresh\, local produce and maybe even goodies like fresh bread\, homemade ice cream\, or local honey! \n 
URL:https://sustain.auburn.edu/event/ogrows-farmers-market-2/2025-08-26/
LOCATION:Community Garden\, 1103 Glenn Street\, Opelika\, AL\, 36801\, United States
CATEGORIES:Anyone,Daytime,Market,Off-Campus
ORGANIZER;CN="OGrows":MAILTO:ogrows@auburn.edu
GEO:32.6419744;-85.3734094
X-APPLE-STRUCTURED-LOCATION;VALUE=URI;X-ADDRESS=Community Garden 1103 Glenn Street Opelika AL 36801 United States;X-APPLE-RADIUS=500;X-TITLE=1103 Glenn Street:geo:-85.3734094,32.6419744
END:VEVENT
BEGIN:VEVENT
DTSTART;TZID=America/Chicago:20250830T080000
DTEND;TZID=America/Chicago:20250830T110000
DTSTAMP:20260422T164545
CREATED:20250818T190958Z
LAST-MODIFIED:20250818T190959Z
UID:10005037-1756540800-1756551600@sustain.auburn.edu
SUMMARY:City Market
DESCRIPTION:The Auburn Parks and Recreation Department partners with local growers and artisans for the city’s farmers market\, City Market. City Market invites the community\, growers and consumers alike to join us every Saturday from May 24 to August 30 from 8 to 11 AM. The purpose of City Market is to help local farmers\, growers and artists to sell their fresh\, local and handmade products to community members. For more information\, click here to visit their website. \n 
URL:https://sustain.auburn.edu/event/city-market-5-2-2/2025-08-30/
LOCATION:Town Creek Park\, United States
CATEGORIES:Anyone,Daytime,Market,Off-Campus
ATTACH;FMTTYPE=image/png:https://sustain.auburn.edu/wp-content/uploads/2020/10/City-of-Auburn-Logo-V08K3m.tmp_.png
GEO:32.5844913206;-85.4756279188
END:VEVENT
END:VCALENDAR