BEGIN:VCALENDAR
VERSION:2.0
PRODID:-//Office of Sustainability - ECPv6.15.15//NONSGML v1.0//EN
CALSCALE:GREGORIAN
METHOD:PUBLISH
X-WR-CALNAME:Office of Sustainability
X-ORIGINAL-URL:https://sustain.auburn.edu
X-WR-CALDESC:Events for Office of Sustainability
REFRESH-INTERVAL;VALUE=DURATION:PT1H
X-Robots-Tag:noindex
X-PUBLISHED-TTL:PT1H
BEGIN:VTIMEZONE
TZID:America/Chicago
BEGIN:DAYLIGHT
TZOFFSETFROM:-0600
TZOFFSETTO:-0500
TZNAME:CDT
DTSTART:20250309T080000
END:DAYLIGHT
BEGIN:STANDARD
TZOFFSETFROM:-0500
TZOFFSETTO:-0600
TZNAME:CST
DTSTART:20251102T070000
END:STANDARD
BEGIN:DAYLIGHT
TZOFFSETFROM:-0600
TZOFFSETTO:-0500
TZNAME:CDT
DTSTART:20260308T080000
END:DAYLIGHT
BEGIN:STANDARD
TZOFFSETFROM:-0500
TZOFFSETTO:-0600
TZNAME:CST
DTSTART:20261101T070000
END:STANDARD
BEGIN:DAYLIGHT
TZOFFSETFROM:-0600
TZOFFSETTO:-0500
TZNAME:CDT
DTSTART:20270314T080000
END:DAYLIGHT
BEGIN:STANDARD
TZOFFSETFROM:-0500
TZOFFSETTO:-0600
TZNAME:CST
DTSTART:20271107T070000
END:STANDARD
END:VTIMEZONE
BEGIN:VEVENT
DTSTART;VALUE=DATE:20260519
DTEND;VALUE=DATE:20260520
DTSTAMP:20260424T225127
CREATED:20250722T161703Z
LAST-MODIFIED:20250722T163401Z
UID:10005172-1779148800-1779235199@sustain.auburn.edu
SUMMARY:Alabama Statewide Primary Election 2026
DESCRIPTION:Polls in Alabama open for in-person voting in the 2026 Statewide Primary Election.er \nVisit aub.ie/vote for more information.
URL:https://sustain.auburn.edu/event/alabama-statewide-primary-election-2026/
LOCATION:Alabama
CATEGORIES:Administration,All Employees,Alumni,Anyone,Daytime,Faculty,Graduate Students,Off Campus,Staff,Students,Voting
ATTACH;FMTTYPE=image/jpeg:https://sustain.auburn.edu/wp-content/uploads/2020/09/Voting_Event.jpg
END:VEVENT
BEGIN:VEVENT
DTSTART;TZID=America/Chicago:20260616T070000
DTEND;TZID=America/Chicago:20260616T190000
DTSTAMP:20260424T225127
CREATED:20250722T161841Z
LAST-MODIFIED:20250722T163303Z
UID:10005173-1781593200-1781636400@sustain.auburn.edu
SUMMARY:Primary Runoff Election 2026 (If Needed)
DESCRIPTION:Polls in Alabama open for in-person voting in the 2026 Primary Runoff Election\, if needed. \nVisit aub.ie/vote for more information.
URL:https://sustain.auburn.edu/event/primary-runoff-election-2026-if-needed/
LOCATION:Event Venue | Various Locations
CATEGORIES:Administration,All Employees,Alumni,Anyone,Daytime,Deadline,Faculty,Graduate Students,Off Campus,Staff,Students,Voting
ATTACH;FMTTYPE=image/jpeg:https://sustain.auburn.edu/wp-content/uploads/2020/09/Voting_Event.jpg
END:VEVENT
BEGIN:VEVENT
DTSTART;TZID=America/Chicago:20260902T163000
DTEND;TZID=America/Chicago:20260902T183000
DTSTAMP:20260424T225127
CREATED:20260303T181423Z
LAST-MODIFIED:20260305T162936Z
UID:10005280-1788366600-1788373800@sustain.auburn.edu
SUMMARY:Sustainability Picnic - Weather Date
DESCRIPTION:Discover the breadth of sustainability at Auburn while you enjoy free local vegetarian food samples\, fun\, door prizes\, and music at this zero-waste event! Connect with student groups\, programs\, and opportunities that make a difference.\n\nThe Sustainability Picnic will be held at the south end of the Donald E. Davis Arboretum near the Old Rotation. The weather date is September 2rd at the same time and place.\n\nIf you would like to volunteer to help at this event\, please register via GivePulse! Registrations will open June 1st!\nIf you are interested in your organization or group tabling at the picnic\, please email sustain@auburn.edu to share your information and learn more!\nVolunteers Register Here.\n\nThe Sustainability Picnic is co-sponsored by the Office of Sustainability\, Tiger Dining\, the Arboretum\, the Waste Reduction and Recycling Department\, Academic Sustainability Programs\, the College of Forestry\, Wildlife and Environment\, and the Master of Community Planning
URL:https://sustain.auburn.edu/event/sustainability-picnic-weather-date/
LOCATION:Event Venue | Donald E. Davis Arboretum
CATEGORIES:Administration,All Employees,Celebration,Graduate Students,On Campus
ATTACH;FMTTYPE=image/png:https://sustain.auburn.edu/wp-content/uploads/2026/03/Picnic-2025-Facebook-Cover.png
GEO:32.593754;-85.484464
END:VEVENT
BEGIN:VEVENT
DTSTART;TZID=America/Chicago:20261103T070000
DTEND;TZID=America/Chicago:20261103T190000
DTSTAMP:20260424T225127
CREATED:20250722T161339Z
LAST-MODIFIED:20250722T161922Z
UID:10005171-1793689200-1793732400@sustain.auburn.edu
SUMMARY:Election Day 2026
DESCRIPTION:Polls in Alabama open for in-person voting in the 2026 General Election. \nVisit aub.ie/vote for more information.
URL:https://sustain.auburn.edu/event/election-day-2026/
LOCATION:Event Venue | Various Locations
CATEGORIES:Administration,All Employees,Alumni,Anyone,Daytime,Deadline,Faculty,Graduate Students,Off Campus,Staff,Students,Voting
ATTACH;FMTTYPE=image/jpeg:https://sustain.auburn.edu/wp-content/uploads/2020/09/Voting_Event.jpg
END:VEVENT
END:VCALENDAR