BEGIN:VCALENDAR
VERSION:2.0
PRODID:-//Office of Sustainability - ECPv6.15.15//NONSGML v1.0//EN
CALSCALE:GREGORIAN
METHOD:PUBLISH
X-WR-CALNAME:Office of Sustainability
X-ORIGINAL-URL:https://sustain.auburn.edu
X-WR-CALDESC:Events for Office of Sustainability
REFRESH-INTERVAL;VALUE=DURATION:PT1H
X-Robots-Tag:noindex
X-PUBLISHED-TTL:PT1H
BEGIN:VTIMEZONE
TZID:America/Chicago
BEGIN:DAYLIGHT
TZOFFSETFROM:-0600
TZOFFSETTO:-0500
TZNAME:CDT
DTSTART:20240310T080000
END:DAYLIGHT
BEGIN:STANDARD
TZOFFSETFROM:-0500
TZOFFSETTO:-0600
TZNAME:CST
DTSTART:20241103T070000
END:STANDARD
BEGIN:DAYLIGHT
TZOFFSETFROM:-0600
TZOFFSETTO:-0500
TZNAME:CDT
DTSTART:20250309T080000
END:DAYLIGHT
BEGIN:STANDARD
TZOFFSETFROM:-0500
TZOFFSETTO:-0600
TZNAME:CST
DTSTART:20251102T070000
END:STANDARD
BEGIN:DAYLIGHT
TZOFFSETFROM:-0600
TZOFFSETTO:-0500
TZNAME:CDT
DTSTART:20260308T080000
END:DAYLIGHT
BEGIN:STANDARD
TZOFFSETFROM:-0500
TZOFFSETTO:-0600
TZNAME:CST
DTSTART:20261101T070000
END:STANDARD
END:VTIMEZONE
BEGIN:VEVENT
DTSTART;TZID=America/Chicago:20250306T180000
DTEND;TZID=America/Chicago:20250306T203000
DTSTAMP:20260425T155841
CREATED:20241212T210139Z
LAST-MODIFIED:20250305T195352Z
UID:10004769-1741284000-1741293000@sustain.auburn.edu
SUMMARY:FILM: Southern Exposure (Now indoors!)
DESCRIPTION:Still bring your mug for a warm drink! We are still having s’mores\, popcorn\, tea\, and cocoa! \nJoin the Office of Sustainability\, Alabama Rivers Alliance\, the Alabama Water Resources Center\, and Auburn Outdoors for a unique outdoor film screening! Short documentary films created as part of the 2024 Southern Exposure Film Fellowship will be shown. These films were created over the Alabama Rivers Alliance’s 6-week summer program and present vibrant\, inspiring stories of how Alabama citizens have worked to preserve their state’s rich biodiversity.   \nThis screening will be held at 6:00pm inside at Pebble Hill on Thursday\, March 6\, with a post-film Q&A at 8:00.   \nTo learn more about Southern Exposure\, visit their website here!
URL:https://sustain.auburn.edu/event/southern-exposure-film-time-tbd/
LOCATION:Event Venue | Pebble Hill – College of Liberal Arts\, United States
CATEGORIES:Anyone,Evening,Film
ATTACH;FMTTYPE=image/png:https://sustain.auburn.edu/wp-content/uploads/2024/12/Southern-Exposure.png
GEO:32.606519;-85.47234
END:VEVENT
END:VCALENDAR