BEGIN:VCALENDAR
VERSION:2.0
PRODID:-//Office of Sustainability - ECPv6.15.15//NONSGML v1.0//EN
CALSCALE:GREGORIAN
METHOD:PUBLISH
X-WR-CALNAME:Office of Sustainability
X-ORIGINAL-URL:https://sustain.auburn.edu
X-WR-CALDESC:Events for Office of Sustainability
REFRESH-INTERVAL;VALUE=DURATION:PT1H
X-Robots-Tag:noindex
X-PUBLISHED-TTL:PT1H
BEGIN:VTIMEZONE
TZID:America/Chicago
BEGIN:DAYLIGHT
TZOFFSETFROM:-0600
TZOFFSETTO:-0500
TZNAME:CDT
DTSTART:20240310T080000
END:DAYLIGHT
BEGIN:STANDARD
TZOFFSETFROM:-0500
TZOFFSETTO:-0600
TZNAME:CST
DTSTART:20241103T070000
END:STANDARD
BEGIN:DAYLIGHT
TZOFFSETFROM:-0600
TZOFFSETTO:-0500
TZNAME:CDT
DTSTART:20250309T080000
END:DAYLIGHT
BEGIN:STANDARD
TZOFFSETFROM:-0500
TZOFFSETTO:-0600
TZNAME:CST
DTSTART:20251102T070000
END:STANDARD
BEGIN:DAYLIGHT
TZOFFSETFROM:-0600
TZOFFSETTO:-0500
TZNAME:CDT
DTSTART:20260308T080000
END:DAYLIGHT
BEGIN:STANDARD
TZOFFSETFROM:-0500
TZOFFSETTO:-0600
TZNAME:CST
DTSTART:20261101T070000
END:STANDARD
END:VTIMEZONE
BEGIN:VEVENT
DTSTART;VALUE=DATE:20250829
DTEND;VALUE=DATE:20250902
DTSTAMP:20260425T145153
CREATED:20250821T210022Z
LAST-MODIFIED:20250821T210022Z
UID:10005176-1756425600-1756771199@sustain.auburn.edu
SUMMARY:2025 International Conference On Forest Carbon & Resilience
DESCRIPTION:The International Conference on Forest Carbon and Resilience (ICFCR) is presented by the Auburn University College of Forestry\, Wildlife\, and Environment to expand knowledge within the areas of forest-based carbon and resilience\, the role of forests and forest products in carbon storage and sequestration\, and the resistance\, adaptation\, and resilience of forests in changing environments.
URL:https://sustain.auburn.edu/event/2025-international-conference-on-forest-carbon-resilience/
LOCATION:Event Venue | The Hotel at Auburn University – Dixon Conference Center
CATEGORIES:All Employees,Conference,Discussion,Meeting,Multi-Day,On Campus,Registration Open,Talk
ATTACH;FMTTYPE=image/png:https://sustain.auburn.edu/wp-content/uploads/2025/08/Common-Book-Event-2.png
ORGANIZER;CN="Event Organizer | College of Forestry%2C Wildlife and Environment":MAILTO:334-844-1007
GEO:32.6029434;-85.4809738
END:VEVENT
BEGIN:VEVENT
DTSTART;TZID=America/Chicago:20250911T170000
DTEND;TZID=America/Chicago:20250911T170000
DTSTAMP:20260425T145153
CREATED:20250821T202638Z
LAST-MODIFIED:20250821T202915Z
UID:10005175-1757610000-1757610000@sustain.auburn.edu
SUMMARY:Speaker: Catherine Coleman Flowers
DESCRIPTION:In Holy Ground: On Activism\, Environmental Justice\, and Finding Hope\, Catherine Coleman Flowers explores the intersection of environmental issues\, civil rights\, and social justice through both personal and political lenses. Flowers draws on her experience fighting for vulnerable rural communities of color who lack access to clean\, safe environments\, weaving together stories from her own life with broader analyses of climate change\, poverty\, and systemic disinvestment. Through reflections on history\, faith\, and interconnectedness\, she charts a path toward equity and environmental justice. This collection of personal essays serves as both a call to action and a roadmap for creating a more just and sustainable future for all communities. \nCatherine Coleman Flowers is an internationally recognized environmental justice activist and the founder of the Center for Rural Enterprise and Environmental Justice. A MacArthur “Genius Grant” recipient\, Flowers sits on the board of directors of the Climate Reality Project\, the Natural Resources Defense Council\, and RMI. She has served as the co-vice chair of the inaugural White House Environmental Justice Advisory Council and is a practitioner-in-residence at the Nicholas School of the Environment at Duke University. Flowers is the author of Waste: One Woman’s Fight Against America’s Dirty Secret. In April 2025\, TIME named her as one of six leaders to receive the TIME Earth Awards. In 2023\, Flowers was recognized as one of the TIME 100 most influential people in the world\, and as one of Forbes’ 50 Over 50.
URL:https://sustain.auburn.edu/event/catherine-coleman-flowers/
LOCATION:Event Venue | Mell Classroom Building – Room 4550\, Auburn\, Alabama\, 36849\, United States
CATEGORIES:Administration,All Employees,Alumni,Anyone,Discussion,Seminar,Talk
ATTACH;FMTTYPE=image/png:https://sustain.auburn.edu/wp-content/uploads/2025/08/Common-Book-Event-1.png
GEO:32.6030836;-85.4835397
END:VEVENT
BEGIN:VEVENT
DTSTART;TZID=America/Chicago:20250917T113000
DTEND;TZID=America/Chicago:20250917T130000
DTSTAMP:20260425T145153
CREATED:20250903T183238Z
LAST-MODIFIED:20250903T183238Z
UID:10005192-1758108600-1758114000@sustain.auburn.edu
SUMMARY:Branching Out: The Public History of Trees with Brian Dempsey and Carrie Barske Crawford
DESCRIPTION:Part of the OLLI at Auburn Brown Bag Series \n     Trees are often viewed primarily as natural resources\, yet they also hold powerful places in our cultural landscapes and collective memory. Branching Out: The Public History of Trees\, a 2025 essay collection from the University of Massachusetts Press\, explores trees through this cultural lens and examines their important role in public history practice.  \n     University of North Alabama historians Dr. Brian Dempsey and Dr. Carolyn Barske Crawford each contributed essays to the volume. In “An Island of Trees Called Old Hickory: History and Place in the Mississippi Delta\,” Dempsey examines a small stand of trees on the edge of Cleveland\, Mississippi. Though ordinary in appearance\, the site embodies deep cultural associations that illuminate how people connect with and interpret their local landscapes. \n     In “‘The Most Useful Tree:’ The American Chestnut\, Stories\, and Species Restoration\,” Crawford explores how the American Chestnut Foundation leverages memories of the tree’s once-vital economic\, social\, and cultural role in Appalachia to support ongoing restoration efforts. Her work highlights the potential for powerful partnerships between scientists and public historians. Together\, Dempsey and Crawford will share insights from their research and invite the audience to reflect on why trees matter—not only ecologically\, but as anchors of meaning in public history and cultural life.
URL:https://sustain.auburn.edu/event/branching-out-the-public-history-of-trees-with-brian-dempsey-and-carrie-barske-crawford/
LOCATION:Event Venue | Pebble Hill – College of Liberal Arts\, United States
CATEGORIES:Administration,All Employees,Alumni,Anyone,Daytime,Discussion,Faculty,Gathering,Graduate Students,On Campus,Outing,Staff,Students,Talk
ATTACH;FMTTYPE=image/png:https://sustain.auburn.edu/wp-content/uploads/2016/12/Draughon-Center-for-the-Arts-Humanities-Events-e1771000362181.png
GEO:32.606519;-85.47234
END:VEVENT
BEGIN:VEVENT
DTSTART;TZID=America/Chicago:20250917T160000
DTEND;TZID=America/Chicago:20250917T160000
DTSTAMP:20260425T145153
CREATED:20250821T194240Z
LAST-MODIFIED:20250821T194240Z
UID:10005174-1758124800-1758124800@sustain.auburn.edu
SUMMARY:Constitution Day Speaker - Fred Gray
DESCRIPTION:Mr. Gray\, perhaps the most noted civil rights attorney in the nation\, will reflect on his unique and storied journey arguing for the constitutional rights of African Americans. In his first ten years as a lawyer\, Attorney Gray was legal counsel in what would become four landmark U.S. Supreme Court cases and for over seven decades handled numerous civil rights cases\, including the infamous Tuskegee Syphilis Study. His clients include Rosa Parks\, Claudette Colvin\, Dr. Martin Luther King\, Jr.\, and Congressman John Lewis. Gray represented Harold Franklin in the lawsuit that desegregated Auburn University. In 2022. President Joe Biden awarded Gray the Presidential Medal of Freedom\, the highest civilian honor given in the United States. \n  \nSponsored By: the Caroline Marshall Draughon Center for the Arts & Humanities in the College of Liberal Arts\, Auburn University Libraries\, the Department of Political Science\, and the Charles Wesley Edwards\, Sr. \nEndowment for the Humanities. The Constitution Day lecture is a part of the Discover Auburn Lecture Series.
URL:https://sustain.auburn.edu/event/constitution-day-speaker-fred-gray/
LOCATION:Event Venue | Foy Hall – Room 258
CATEGORIES:Administration,All Employees,Alumni,Discussion,Gathering,Graduate Students,On Campus,Seminar,Staff,Students,Talk
ATTACH;FMTTYPE=image/png:https://sustain.auburn.edu/wp-content/uploads/2025/08/Common-Book-Event.png
GEO:32.604839;-85.484783
END:VEVENT
BEGIN:VEVENT
DTSTART;TZID=America/Chicago:20250918T170000
DTEND;TZID=America/Chicago:20250918T190000
DTSTAMP:20260425T145153
CREATED:20250904T192532Z
LAST-MODIFIED:20250904T192532Z
UID:10005206-1758214800-1758222000@sustain.auburn.edu
SUMMARY:Artist Talk: Binh Danh
DESCRIPTION:Binh Danh discusses his work and process with Krystle Stricklin\, assistant curator of photography of the Smithsonian American Art Museum.
URL:https://sustain.auburn.edu/event/artist-talk-binh-danh/
LOCATION:Event Venue | Jule Collins Smith Museum of Fine Art
CATEGORIES:Anyone,Discussion,Evening,On Campus,Talk
ATTACH;FMTTYPE=image/png:https://sustain.auburn.edu/wp-content/uploads/2022/09/Jule-Collins-Smith-Museum-event.png
GEO:32.587748;-85.48373
END:VEVENT
END:VCALENDAR