BEGIN:VCALENDAR
VERSION:2.0
PRODID:-//Office of Sustainability - ECPv6.15.15//NONSGML v1.0//EN
CALSCALE:GREGORIAN
METHOD:PUBLISH
X-WR-CALNAME:Office of Sustainability
X-ORIGINAL-URL:https://sustain.auburn.edu
X-WR-CALDESC:Events for Office of Sustainability
REFRESH-INTERVAL;VALUE=DURATION:PT1H
X-Robots-Tag:noindex
X-PUBLISHED-TTL:PT1H
BEGIN:VTIMEZONE
TZID:America/Chicago
BEGIN:DAYLIGHT
TZOFFSETFROM:-0600
TZOFFSETTO:-0500
TZNAME:CDT
DTSTART:20250309T080000
END:DAYLIGHT
BEGIN:STANDARD
TZOFFSETFROM:-0500
TZOFFSETTO:-0600
TZNAME:CST
DTSTART:20251102T070000
END:STANDARD
BEGIN:DAYLIGHT
TZOFFSETFROM:-0600
TZOFFSETTO:-0500
TZNAME:CDT
DTSTART:20260308T080000
END:DAYLIGHT
BEGIN:STANDARD
TZOFFSETFROM:-0500
TZOFFSETTO:-0600
TZNAME:CST
DTSTART:20261101T070000
END:STANDARD
BEGIN:DAYLIGHT
TZOFFSETFROM:-0600
TZOFFSETTO:-0500
TZNAME:CDT
DTSTART:20270314T080000
END:DAYLIGHT
BEGIN:STANDARD
TZOFFSETFROM:-0500
TZOFFSETTO:-0600
TZNAME:CST
DTSTART:20271107T070000
END:STANDARD
END:VTIMEZONE
BEGIN:VEVENT
DTSTART;TZID=America/Chicago:20260318T190000
DTEND;TZID=America/Chicago:20260318T210000
DTSTAMP:20260422T230228
CREATED:20260128T224010Z
LAST-MODIFIED:20260128T224010Z
UID:10005259-1773860400-1773867600@sustain.auburn.edu
SUMMARY:Fundamentals of Climbing
DESCRIPTION:Learn how to belay and tie knots for top rope climbing\, as well as proper equipment usage and commands used at the Auburn Outdoors Climbing Wall. Our goal is to help you prepare for a Top Rope Skills Verification. Top Rope Skills Verification permits you to belay other members at the Wall. After 24 hours of completing the workshop\, you will be eligible to take the Top Rope Skills Verification.
URL:https://sustain.auburn.edu/event/fundamentals-of-climbing/2026-03-18/
LOCATION:Auburn University Recreation and Wellness Center
CATEGORIES:Clinic,Evening,Graduate-Students,On-Campus,Students,Workshop
ATTACH;FMTTYPE=image/png:https://sustain.auburn.edu/wp-content/uploads/2020/10/Auburn-Outdoors-Events-1-Zpto0R.tmp_-e1769639735491.png
GEO:32.601295;-85.492977
END:VEVENT
BEGIN:VEVENT
DTSTART;TZID=America/Chicago:20260322T140000
DTEND;TZID=America/Chicago:20260322T170000
DTSTAMP:20260422T230228
CREATED:20260128T224308Z
LAST-MODIFIED:20260128T224308Z
UID:10005264-1774188000-1774198800@sustain.auburn.edu
SUMMARY:Lead Climbing Workshop
DESCRIPTION:Have you mastered top rope basics? Take your climbing to the next level at our Lead Climbing Workshop. You’ll learn proper belay technique\, equipment use and care\, and clipping techniques for lead climbing at the Auburn Outdoors Climbing Wall. Our goal is to help you prepare for your Lead Climbing Skills Verification. Lead Climbing Skills Verification permits you to lead climb and utilize a GriGri at our Wall. Top Rope Skills Verification and the ability to comfortably climb a 5.10 are workshop pre-requisites.
URL:https://sustain.auburn.edu/event/lead-climbing-workshop/2026-03-22/
LOCATION:Auburn University Recreation and Wellness Center
CATEGORIES:Clinic,Daytime,Exercise,Graduate-Students,On-Campus,Students,Workshop
ATTACH;FMTTYPE=image/png:https://sustain.auburn.edu/wp-content/uploads/2020/10/Auburn-Outdoors-Events-1-Zpto0R.tmp_-e1769639735491.png
GEO:32.601295;-85.492977
END:VEVENT
BEGIN:VEVENT
DTSTART;TZID=America/Chicago:20260325T190000
DTEND;TZID=America/Chicago:20260325T210000
DTSTAMP:20260422T230228
CREATED:20260128T224010Z
LAST-MODIFIED:20260128T224010Z
UID:10005260-1774465200-1774472400@sustain.auburn.edu
SUMMARY:Fundamentals of Climbing
DESCRIPTION:Learn how to belay and tie knots for top rope climbing\, as well as proper equipment usage and commands used at the Auburn Outdoors Climbing Wall. Our goal is to help you prepare for a Top Rope Skills Verification. Top Rope Skills Verification permits you to belay other members at the Wall. After 24 hours of completing the workshop\, you will be eligible to take the Top Rope Skills Verification.
URL:https://sustain.auburn.edu/event/fundamentals-of-climbing/2026-03-25/
LOCATION:Auburn University Recreation and Wellness Center
CATEGORIES:Clinic,Evening,Graduate-Students,On-Campus,Students,Workshop
ATTACH;FMTTYPE=image/png:https://sustain.auburn.edu/wp-content/uploads/2020/10/Auburn-Outdoors-Events-1-Zpto0R.tmp_-e1769639735491.png
GEO:32.601295;-85.492977
END:VEVENT
BEGIN:VEVENT
DTSTART;TZID=America/Chicago:20260330T200000
DTEND;TZID=America/Chicago:20260330T220000
DTSTAMP:20260422T230228
CREATED:20260128T224738Z
LAST-MODIFIED:20260128T224738Z
UID:10005265-1774900800-1774908000@sustain.auburn.edu
SUMMARY:Women Rock the Wall
DESCRIPTION:Join Auburn Outdoors at the Climbing Wall for an all-female climbing night! You’ll meet others who enjoy climbing in an encouraging environment built for you to learn and try new things\, no matter your experience level. All gear is provided and all skill levels are welcome. \nRegister on RWC Connect
URL:https://sustain.auburn.edu/event/women-rock-the-wall/
LOCATION:Auburn University Recreation and Wellness Center
CATEGORIES:Clinic,Evening,Exercise,Graduate-Students,On-Campus,Students
ATTACH;FMTTYPE=image/png:https://sustain.auburn.edu/wp-content/uploads/2020/10/Auburn-Outdoors-Events-1-Zpto0R.tmp_-e1769639735491.png
GEO:32.601295;-85.492977
END:VEVENT
END:VCALENDAR