BEGIN:VCALENDAR
VERSION:2.0
PRODID:-//Office of Sustainability - ECPv6.15.15//NONSGML v1.0//EN
CALSCALE:GREGORIAN
METHOD:PUBLISH
X-ORIGINAL-URL:https://sustain.auburn.edu
X-WR-CALDESC:Events for Office of Sustainability
REFRESH-INTERVAL;VALUE=DURATION:PT1H
X-Robots-Tag:noindex
X-PUBLISHED-TTL:PT1H
BEGIN:VTIMEZONE
TZID:America/Chicago
BEGIN:DAYLIGHT
TZOFFSETFROM:-0600
TZOFFSETTO:-0500
TZNAME:CDT
DTSTART:20250309T080000
END:DAYLIGHT
BEGIN:STANDARD
TZOFFSETFROM:-0500
TZOFFSETTO:-0600
TZNAME:CST
DTSTART:20251102T070000
END:STANDARD
BEGIN:DAYLIGHT
TZOFFSETFROM:-0600
TZOFFSETTO:-0500
TZNAME:CDT
DTSTART:20260308T080000
END:DAYLIGHT
BEGIN:STANDARD
TZOFFSETFROM:-0500
TZOFFSETTO:-0600
TZNAME:CST
DTSTART:20261101T070000
END:STANDARD
BEGIN:DAYLIGHT
TZOFFSETFROM:-0600
TZOFFSETTO:-0500
TZNAME:CDT
DTSTART:20270314T080000
END:DAYLIGHT
BEGIN:STANDARD
TZOFFSETFROM:-0500
TZOFFSETTO:-0600
TZNAME:CST
DTSTART:20271107T070000
END:STANDARD
END:VTIMEZONE
BEGIN:VEVENT
DTSTART;TZID=America/Chicago:20260421T160000
DTEND;TZID=America/Chicago:20260421T190000
DTSTAMP:20260421T101434
CREATED:20250612T210604Z
LAST-MODIFIED:20260325T184130Z
UID:10005152-1776787200-1776798000@sustain.auburn.edu
SUMMARY:OGrows: Local Farmers Market
DESCRIPTION:Opelika Grows\, or O Grows\, promotes gardening and related programming to address the issues of food security and localized food systems while providing fresh food for the community. Opelika’s local farmers market\, located across the street from the Cultural Arts Center on Glenn Street near the community garden\, is a place for visitors to find fresh\, local produce and maybe even goodies like fresh bread\, homemade ice cream\, or local honey! \n 
URL:https://sustain.auburn.edu/event/ogrows-farmers-market-2/2026-04-21/
LOCATION:Community Garden\, 1103 Glenn Street\, Opelika\, AL\, 36801\, United States
CATEGORIES:Anyone,Daytime,Market,Off-Campus
ORGANIZER;CN="OGrows":MAILTO:ogrows@auburn.edu
GEO:32.6419744;-85.3734094
X-APPLE-STRUCTURED-LOCATION;VALUE=URI;X-ADDRESS=Community Garden 1103 Glenn Street Opelika AL 36801 United States;X-APPLE-RADIUS=500;X-TITLE=1103 Glenn Street:geo:-85.3734094,32.6419744
END:VEVENT
BEGIN:VEVENT
DTSTART;TZID=America/Chicago:20260425T100000
DTEND;TZID=America/Chicago:20260425T170000
DTSTAMP:20260421T101434
CREATED:20260408T205635Z
LAST-MODIFIED:20260408T205635Z
UID:10005300-1777111200-1777136400@sustain.auburn.edu
SUMMARY:East Alabama Mushroom Food Festival
DESCRIPTION:Com experience gourmet mushroom cuisine at the East Alabama Mushroom Festival. Foods being served include mushroom smash burgers\, jerk mushrooms\, mushroom sushi\, mushroom tacos\, and many more other creative dishes. \nThe event will have live music and wild mushroom foraging!
URL:https://sustain.auburn.edu/event/east-alabama-mushroom-food-festival/
LOCATION:5354 AL 81\, 5354 AL 81\, Notasulga\, AL\, 36866\, United States
CATEGORIES:Anyone,Celebration,Gathering
ATTACH;FMTTYPE=image/jpeg:https://sustain.auburn.edu/wp-content/uploads/2025/11/earth-shoppinf-cart-scaled.jpeg
ORGANIZER;CN="Rising Gardens":MAILTO:rising.gardensllc@gmail.com
GEO:32.494174;-85.6940545
X-APPLE-STRUCTURED-LOCATION;VALUE=URI;X-ADDRESS=5354 AL 81 5354 AL 81 Notasulga AL 36866 United States;X-APPLE-RADIUS=500;X-TITLE=5354 AL 81:geo:-85.6940545,32.494174
END:VEVENT
BEGIN:VEVENT
DTSTART;TZID=America/Chicago:20260426T090000
DTEND;TZID=America/Chicago:20260426T160000
DTSTAMP:20260421T101434
CREATED:20260408T211411Z
LAST-MODIFIED:20260408T211411Z
UID:10005302-1777194000-1777219200@sustain.auburn.edu
SUMMARY:Korea Fest
DESCRIPTION:On April 26th from 9 AM – 4 PM the Korea Center will be hosting their annual Korea Fest alongside City Fest in Keisel Park. Watch exciting K-pop performances\, play traditional Korean games\, and get dressed in hanboks with your friends and family!
URL:https://sustain.auburn.edu/event/korea-fest/
LOCATION:Kiesel Park
CATEGORIES:Anyone,Celebration,Daytime,Off-Campus
ATTACH;FMTTYPE=image/png:https://sustain.auburn.edu/wp-content/uploads/2020/10/Auburn-International-Programs-Event-eYvKKh.tmp_.png
GEO:32.58599;-85.543439
END:VEVENT
BEGIN:VEVENT
DTSTART;TZID=America/Chicago:20260428T160000
DTEND;TZID=America/Chicago:20260428T190000
DTSTAMP:20260421T101434
CREATED:20250612T210604Z
LAST-MODIFIED:20260325T184130Z
UID:10005153-1777392000-1777402800@sustain.auburn.edu
SUMMARY:OGrows: Local Farmers Market
DESCRIPTION:Opelika Grows\, or O Grows\, promotes gardening and related programming to address the issues of food security and localized food systems while providing fresh food for the community. Opelika’s local farmers market\, located across the street from the Cultural Arts Center on Glenn Street near the community garden\, is a place for visitors to find fresh\, local produce and maybe even goodies like fresh bread\, homemade ice cream\, or local honey! \n 
URL:https://sustain.auburn.edu/event/ogrows-farmers-market-2/2026-04-28/
LOCATION:Community Garden\, 1103 Glenn Street\, Opelika\, AL\, 36801\, United States
CATEGORIES:Anyone,Daytime,Market,Off-Campus
ORGANIZER;CN="OGrows":MAILTO:ogrows@auburn.edu
GEO:32.6419744;-85.3734094
X-APPLE-STRUCTURED-LOCATION;VALUE=URI;X-ADDRESS=Community Garden 1103 Glenn Street Opelika AL 36801 United States;X-APPLE-RADIUS=500;X-TITLE=1103 Glenn Street:geo:-85.3734094,32.6419744
END:VEVENT
BEGIN:VEVENT
DTSTART;TZID=America/Chicago:20260428T173000
DTEND;TZID=America/Chicago:20260428T193000
DTSTAMP:20260421T101434
CREATED:20260406T190020Z
LAST-MODIFIED:20260406T190020Z
UID:10005296-1777397400-1777404600@sustain.auburn.edu
SUMMARY:Stop The Pipeline Public Meeting
DESCRIPTION:Join ARA at the next public meeting in Lee County on Tuesday\, April 28 from 5:30 – 7:30 pm at Auburn Unitarian Universalist Fellowship (450 E Thach Ave\, Auburn) Pizza and drinks will be provided! Learn more about the proposed project\, see up to date maps of exactly where the new pipelines would go\, and learn about concerns that may impact your property and your community.
URL:https://sustain.auburn.edu/event/stop-the-pipeline-public-meeting/
LOCATION:Auburn Unitarian Universalist Fellowship
CATEGORIES:Anyone
ATTACH;FMTTYPE=image/jpeg:https://sustain.auburn.edu/wp-content/uploads/2023/02/Image-2-3-23-at-12.17-PM.jpeg
GEO:32.604104;-85.473265
END:VEVENT
END:VCALENDAR