BEGIN:VCALENDAR
VERSION:2.0
PRODID:-//Office of Sustainability - ECPv6.15.15//NONSGML v1.0//EN
CALSCALE:GREGORIAN
METHOD:PUBLISH
X-WR-CALNAME:Office of Sustainability
X-ORIGINAL-URL:https://sustain.auburn.edu
X-WR-CALDESC:Events for Office of Sustainability
REFRESH-INTERVAL;VALUE=DURATION:PT1H
X-Robots-Tag:noindex
X-PUBLISHED-TTL:PT1H
BEGIN:VTIMEZONE
TZID:America/Chicago
BEGIN:DAYLIGHT
TZOFFSETFROM:-0600
TZOFFSETTO:-0500
TZNAME:CDT
DTSTART:20240310T080000
END:DAYLIGHT
BEGIN:STANDARD
TZOFFSETFROM:-0500
TZOFFSETTO:-0600
TZNAME:CST
DTSTART:20241103T070000
END:STANDARD
BEGIN:DAYLIGHT
TZOFFSETFROM:-0600
TZOFFSETTO:-0500
TZNAME:CDT
DTSTART:20250309T080000
END:DAYLIGHT
BEGIN:STANDARD
TZOFFSETFROM:-0500
TZOFFSETTO:-0600
TZNAME:CST
DTSTART:20251102T070000
END:STANDARD
BEGIN:DAYLIGHT
TZOFFSETFROM:-0600
TZOFFSETTO:-0500
TZNAME:CDT
DTSTART:20260308T080000
END:DAYLIGHT
BEGIN:STANDARD
TZOFFSETFROM:-0500
TZOFFSETTO:-0600
TZNAME:CST
DTSTART:20261101T070000
END:STANDARD
END:VTIMEZONE
BEGIN:VEVENT
DTSTART;TZID=America/Chicago:20251101T000000
DTEND;TZID=America/Chicago:20251130T233000
DTSTAMP:20260424T092418
CREATED:20251103T195030Z
LAST-MODIFIED:20251103T195030Z
UID:10005232-1761955200-1764545400@sustain.auburn.edu
SUMMARY:Professional Development Sponsorship Program Application Period
DESCRIPTION:Auburn University non-student employees may submit an application for consideration for the Office of Sustainability’s Professional Development Sponsorship Program. The funds support learning opportunities related to sustainability and current job responsibilities\, and applications must be received by 11:59 p.m. Central on November 30\, 2025\, to be considered.
URL:https://sustain.auburn.edu/event/professional-development-sponsorship-program-application-period-2/
LOCATION:Virtual Event | Check Event Page for Link\, United States
CATEGORIES:Administration,All Employees,Application Deadline,Deadline,Faculty,Staff
ATTACH;FMTTYPE=image/png:https://sustain.auburn.edu/wp-content/uploads/2025/05/SPDS-Calendar-Event.png
GEO:38.7945952;-106.5348379
END:VEVENT
BEGIN:VEVENT
DTSTART;TZID=America/Chicago:20251111T120000
DTEND;TZID=America/Chicago:20251111T150000
DTSTAMP:20260424T092418
CREATED:20250825T220044Z
LAST-MODIFIED:20250825T220044Z
UID:10005179-1762862400-1762873200@sustain.auburn.edu
SUMMARY:Davis Arboretum 2nd Tuesday Tours
DESCRIPTION:Experience the Davis Arboretum like never before! Make plans to attend our new “Second Tuesday Garden Tours”  Grab your friends and colleagues and meet us at the Arboretum pavilion for a delightful midday stroll through our beautiful garden as you learn about the wonderful world of Alabama’s native plants. \nTours will meet on the 2nd Tuesday of each month with additional tours available during the stunning peak bloom and vibrant color change seasons.  \nJoin us as you rediscover the wonder and beauty of Auburn University’s Davis Arboretum!
URL:https://sustain.auburn.edu/event/davis-arboretum-2nd-tuesday-tours/2025-11-11/
LOCATION:Event Venue | Donald E. Davis Arboretum
CATEGORIES:Administration,All Employees,Alumni,Anyone,Daytime,Exercise,Gathering,Outing,Social Event,Tour
ATTACH;FMTTYPE=image/png:https://sustain.auburn.edu/wp-content/uploads/2020/10/Arboretum-Event-LzuIx1.tmp_.png
GEO:32.593754;-85.484464
END:VEVENT
END:VCALENDAR