BEGIN:VCALENDAR
VERSION:2.0
PRODID:-//Office of Sustainability - ECPv6.15.15//NONSGML v1.0//EN
CALSCALE:GREGORIAN
METHOD:PUBLISH
X-WR-CALNAME:Office of Sustainability
X-ORIGINAL-URL:https://sustain.auburn.edu
X-WR-CALDESC:Events for Office of Sustainability
REFRESH-INTERVAL;VALUE=DURATION:PT1H
X-Robots-Tag:noindex
X-PUBLISHED-TTL:PT1H
BEGIN:VTIMEZONE
TZID:America/Chicago
BEGIN:DAYLIGHT
TZOFFSETFROM:-0600
TZOFFSETTO:-0500
TZNAME:CDT
DTSTART:20240310T080000
END:DAYLIGHT
BEGIN:STANDARD
TZOFFSETFROM:-0500
TZOFFSETTO:-0600
TZNAME:CST
DTSTART:20241103T070000
END:STANDARD
BEGIN:DAYLIGHT
TZOFFSETFROM:-0600
TZOFFSETTO:-0500
TZNAME:CDT
DTSTART:20250309T080000
END:DAYLIGHT
BEGIN:STANDARD
TZOFFSETFROM:-0500
TZOFFSETTO:-0600
TZNAME:CST
DTSTART:20251102T070000
END:STANDARD
BEGIN:DAYLIGHT
TZOFFSETFROM:-0600
TZOFFSETTO:-0500
TZNAME:CDT
DTSTART:20260308T080000
END:DAYLIGHT
BEGIN:STANDARD
TZOFFSETFROM:-0500
TZOFFSETTO:-0600
TZNAME:CST
DTSTART:20261101T070000
END:STANDARD
END:VTIMEZONE
BEGIN:VEVENT
DTSTART;TZID=America/Chicago:20250923T120000
DTEND;TZID=America/Chicago:20250923T140000
DTSTAMP:20260425T080655
CREATED:20250917T192741Z
LAST-MODIFIED:20250917T195255Z
UID:10005219-1758628800-1758636000@sustain.auburn.edu
SUMMARY:All Made In Taiwan
DESCRIPTION:The Taiwan Center Seminar Series Presents: All Made In Taiwan \nA seminar\, featuring Eric Au\, on the development of the semiconductor industry in Taiwan and its impact for the future world. \nFree and open to all\, free lunch included!
URL:https://sustain.auburn.edu/event/all-made-in-taiwan/
LOCATION:Event Venue | Melton Student Center – Room 2222\, 225 Heisman Dr.\, Auburn\, AL\, 36849\, United States
CATEGORIES:Administration,Gathering,Meeting,On Campus,Seminar,Staff,Students,Talk
ATTACH;FMTTYPE=image/png:https://sustain.auburn.edu/wp-content/uploads/2020/10/Auburn-International-Programs-Event-eYvKKh.tmp_.png
GEO:32.6009848;-85.4894075
X-APPLE-STRUCTURED-LOCATION;VALUE=URI;X-ADDRESS=Event Venue | Melton Student Center – Room 2222 225 Heisman Dr. Auburn AL 36849 United States;X-APPLE-RADIUS=500;X-TITLE=225 Heisman Dr.:geo:-85.4894075,32.6009848
END:VEVENT
END:VCALENDAR