BEGIN:VCALENDAR
VERSION:2.0
PRODID:-//Office of Sustainability - ECPv6.15.15//NONSGML v1.0//EN
CALSCALE:GREGORIAN
METHOD:PUBLISH
X-WR-CALNAME:Office of Sustainability
X-ORIGINAL-URL:https://sustain.auburn.edu
X-WR-CALDESC:Events for Office of Sustainability
REFRESH-INTERVAL;VALUE=DURATION:PT1H
X-Robots-Tag:noindex
X-PUBLISHED-TTL:PT1H
BEGIN:VTIMEZONE
TZID:America/Chicago
BEGIN:DAYLIGHT
TZOFFSETFROM:-0600
TZOFFSETTO:-0500
TZNAME:CDT
DTSTART:20240310T080000
END:DAYLIGHT
BEGIN:STANDARD
TZOFFSETFROM:-0500
TZOFFSETTO:-0600
TZNAME:CST
DTSTART:20241103T070000
END:STANDARD
BEGIN:DAYLIGHT
TZOFFSETFROM:-0600
TZOFFSETTO:-0500
TZNAME:CDT
DTSTART:20250309T080000
END:DAYLIGHT
BEGIN:STANDARD
TZOFFSETFROM:-0500
TZOFFSETTO:-0600
TZNAME:CST
DTSTART:20251102T070000
END:STANDARD
BEGIN:DAYLIGHT
TZOFFSETFROM:-0600
TZOFFSETTO:-0500
TZNAME:CDT
DTSTART:20260308T080000
END:DAYLIGHT
BEGIN:STANDARD
TZOFFSETFROM:-0500
TZOFFSETTO:-0600
TZNAME:CST
DTSTART:20261101T070000
END:STANDARD
END:VTIMEZONE
BEGIN:VEVENT
DTSTART;TZID=America/Chicago:20250918T180000
DTEND;TZID=America/Chicago:20250918T200000
DTSTAMP:20260425T080704
CREATED:20250828T205500Z
LAST-MODIFIED:20250828T205735Z
UID:10005187-1758218400-1758225600@sustain.auburn.edu
SUMMARY:Third Thursday Literary Series: Jacqueline Allen Trimble
DESCRIPTION:Refreshments and book sales will be available at 6 PM; the reading will begin at 6:30 PM. \nJacqueline Allen Trimble is a National Endowment for the Arts Creative Writing Fellow (Poetry)\, a Cave Canem Graduate Fellow\, and an Alabama State Council on the Arts Literary Fellow (2017\, 2023). Her poetry has appeared in various journals including Poetry Magazine\, The Louisville Review\, The Offing\, The Rumpus\, Salvation South\, and Poet Lore. \nThe Third Thursday Literary Series is sponsored by the Caroline Marshall Draughon Center for the Arts & Humanities\, Department of English\, and Southern Humanities Review in the College of Liberal Arts at Auburn University; the Osher Lifelong Learning Institute at Auburn University; and the Alabama State Council on the Arts.
URL:https://sustain.auburn.edu/event/third-thursday-literary-series-jacqueline-allen-trimble/
LOCATION:Event Venue | Pebble Hill – College of Liberal Arts\, United States
CATEGORIES:Administration,All Employees,Alumni,Anyone,Evening,Gathering,Graduate Students,Talk
ATTACH;FMTTYPE=image/png:https://sustain.auburn.edu/wp-content/uploads/2016/12/Draughon-Center-for-the-Arts-Humanities-Events-e1771000362181.png
GEO:32.606519;-85.47234
END:VEVENT
END:VCALENDAR