BEGIN:VCALENDAR
VERSION:2.0
PRODID:-//Office of Sustainability - ECPv6.15.15//NONSGML v1.0//EN
CALSCALE:GREGORIAN
METHOD:PUBLISH
X-WR-CALNAME:Office of Sustainability
X-ORIGINAL-URL:https://sustain.auburn.edu
X-WR-CALDESC:Events for Office of Sustainability
REFRESH-INTERVAL;VALUE=DURATION:PT1H
X-Robots-Tag:noindex
X-PUBLISHED-TTL:PT1H
BEGIN:VTIMEZONE
TZID:America/Chicago
BEGIN:DAYLIGHT
TZOFFSETFROM:-0600
TZOFFSETTO:-0500
TZNAME:CDT
DTSTART:20250309T080000
END:DAYLIGHT
BEGIN:STANDARD
TZOFFSETFROM:-0500
TZOFFSETTO:-0600
TZNAME:CST
DTSTART:20251102T070000
END:STANDARD
BEGIN:DAYLIGHT
TZOFFSETFROM:-0600
TZOFFSETTO:-0500
TZNAME:CDT
DTSTART:20260308T080000
END:DAYLIGHT
BEGIN:STANDARD
TZOFFSETFROM:-0500
TZOFFSETTO:-0600
TZNAME:CST
DTSTART:20261101T070000
END:STANDARD
BEGIN:DAYLIGHT
TZOFFSETFROM:-0600
TZOFFSETTO:-0500
TZNAME:CDT
DTSTART:20270314T080000
END:DAYLIGHT
BEGIN:STANDARD
TZOFFSETFROM:-0500
TZOFFSETTO:-0600
TZNAME:CST
DTSTART:20271107T070000
END:STANDARD
END:VTIMEZONE
BEGIN:VEVENT
DTSTART;TZID=America/Chicago:20260419T130000
DTEND;TZID=America/Chicago:20260419T170000
DTSTAMP:20260419T141634
CREATED:20260323T190559Z
LAST-MODIFIED:20260323T190559Z
UID:10005288-1776603600-1776618000@sustain.auburn.edu
SUMMARY:Rising Gardens Community Market
DESCRIPTION:Join Rising Gardens for their Community Market featuring: local produce\,  a food demo\, an eco demo\, artisan goods\, live music\, community music\, and food and drinks!
URL:https://sustain.auburn.edu/event/rising-gardens-community-market/
LOCATION:231 East Drake Ave\, 231 East Drake Ave\, Auburn\, 36830\, United States
CATEGORIES:Anyone,Celebration,Daytime
ATTACH;FMTTYPE=image/png:https://sustain.auburn.edu/wp-content/uploads/2026/03/Untitled-design-1.png
ORGANIZER;CN="Rising Gardens":MAILTO:rising.gardensllc@gmail.com
GEO:32.6144764;-85.4784573
X-APPLE-STRUCTURED-LOCATION;VALUE=URI;X-ADDRESS=231 East Drake Ave 231 East Drake Ave Auburn 36830 United States;X-APPLE-RADIUS=500;X-TITLE=231 East Drake Ave:geo:-85.4784573,32.6144764
END:VEVENT
END:VCALENDAR