BEGIN:VCALENDAR
VERSION:2.0
PRODID:-//Office of Sustainability - ECPv6.15.15//NONSGML v1.0//EN
CALSCALE:GREGORIAN
METHOD:PUBLISH
X-ORIGINAL-URL:https://sustain.auburn.edu
X-WR-CALDESC:Events for Office of Sustainability
REFRESH-INTERVAL;VALUE=DURATION:PT1H
X-Robots-Tag:noindex
X-PUBLISHED-TTL:PT1H
BEGIN:VTIMEZONE
TZID:America/Chicago
BEGIN:DAYLIGHT
TZOFFSETFROM:-0600
TZOFFSETTO:-0500
TZNAME:CDT
DTSTART:20250309T080000
END:DAYLIGHT
BEGIN:STANDARD
TZOFFSETFROM:-0500
TZOFFSETTO:-0600
TZNAME:CST
DTSTART:20251102T070000
END:STANDARD
BEGIN:DAYLIGHT
TZOFFSETFROM:-0600
TZOFFSETTO:-0500
TZNAME:CDT
DTSTART:20260308T080000
END:DAYLIGHT
BEGIN:STANDARD
TZOFFSETFROM:-0500
TZOFFSETTO:-0600
TZNAME:CST
DTSTART:20261101T070000
END:STANDARD
BEGIN:DAYLIGHT
TZOFFSETFROM:-0600
TZOFFSETTO:-0500
TZNAME:CDT
DTSTART:20270314T080000
END:DAYLIGHT
BEGIN:STANDARD
TZOFFSETFROM:-0500
TZOFFSETTO:-0600
TZNAME:CST
DTSTART:20271107T070000
END:STANDARD
END:VTIMEZONE
BEGIN:VEVENT
DTSTART;TZID=America/Chicago:20260206T130000
DTEND;TZID=America/Chicago:20260206T150000
DTSTAMP:20260421T022453
CREATED:20260120T175124Z
LAST-MODIFIED:20260120T175124Z
UID:10005250-1770382800-1770390000@sustain.auburn.edu
SUMMARY:Parkerson Mill Creek Cleanup
DESCRIPTION:Join Risk Management and Safety on Friday\, February 6th\, from 1 pm-3 pm for a fun-filled creek cleanup with Gloves\, bags\, and water provided. They had over 40 participants in November! They will meet up at the Outdoor Classroom in front of the Wellness Kitchen (across from Beard-Eaves Parking). Please help them welcome Team Braveheart to the cleanup! They hope to see you on February 6th from 1 pm-3 pm. \nContact 334-740-1267 or freemms@auburn.edu for more information.
URL:https://sustain.auburn.edu/event/parkerson-mill-creek-cleanup-4/
LOCATION:Parkerson Mill Creek Outside of Wellness Kitchen\, 370 S Donahue Dr\, Auburn\, AL\, 36832\, United States
CATEGORIES:Anyone,Daytime,Graduate-Students,On-Campus,Outing,Staff,Students,Volunteer
ATTACH;FMTTYPE=image/png:https://sustain.auburn.edu/wp-content/uploads/2022/09/Risk-Management-and-Safety-Event.png
GEO:32.5987728;-85.4909254
X-APPLE-STRUCTURED-LOCATION;VALUE=URI;X-ADDRESS=Parkerson Mill Creek Outside of Wellness Kitchen 370 S Donahue Dr Auburn AL 36832 United States;X-APPLE-RADIUS=500;X-TITLE=370 S Donahue Dr:geo:-85.4909254,32.5987728
END:VEVENT
END:VCALENDAR