BEGIN:VCALENDAR
VERSION:2.0
PRODID:-//Office of Sustainability - ECPv6.15.15//NONSGML v1.0//EN
CALSCALE:GREGORIAN
METHOD:PUBLISH
X-ORIGINAL-URL:https://sustain.auburn.edu
X-WR-CALDESC:Events for Office of Sustainability
REFRESH-INTERVAL;VALUE=DURATION:PT1H
X-Robots-Tag:noindex
X-PUBLISHED-TTL:PT1H
BEGIN:VTIMEZONE
TZID:America/Chicago
BEGIN:DAYLIGHT
TZOFFSETFROM:-0600
TZOFFSETTO:-0500
TZNAME:CDT
DTSTART:20240310T080000
END:DAYLIGHT
BEGIN:STANDARD
TZOFFSETFROM:-0500
TZOFFSETTO:-0600
TZNAME:CST
DTSTART:20241103T070000
END:STANDARD
BEGIN:DAYLIGHT
TZOFFSETFROM:-0600
TZOFFSETTO:-0500
TZNAME:CDT
DTSTART:20250309T080000
END:DAYLIGHT
BEGIN:STANDARD
TZOFFSETFROM:-0500
TZOFFSETTO:-0600
TZNAME:CST
DTSTART:20251102T070000
END:STANDARD
BEGIN:DAYLIGHT
TZOFFSETFROM:-0600
TZOFFSETTO:-0500
TZNAME:CDT
DTSTART:20260308T080000
END:DAYLIGHT
BEGIN:STANDARD
TZOFFSETFROM:-0500
TZOFFSETTO:-0600
TZNAME:CST
DTSTART:20261101T070000
END:STANDARD
END:VTIMEZONE
BEGIN:VEVENT
DTSTART;TZID=America/Chicago:20251101T000000
DTEND;TZID=America/Chicago:20251130T233000
DTSTAMP:20260424T175520
CREATED:20251103T195030Z
LAST-MODIFIED:20251103T195030Z
UID:10005232-1761955200-1764545400@sustain.auburn.edu
SUMMARY:Professional Development Sponsorship Program Application Period
DESCRIPTION:Auburn University non-student employees may submit an application for consideration for the Office of Sustainability’s Professional Development Sponsorship Program. The funds support learning opportunities related to sustainability and current job responsibilities\, and applications must be received by 11:59 p.m. Central on November 30\, 2025\, to be considered.
URL:https://sustain.auburn.edu/event/professional-development-sponsorship-program-application-period-2/
LOCATION:Virtual Event | Check Event Page for Link\, United States
CATEGORIES:Administration,All Employees,Application Deadline,Deadline,Faculty,Staff
ATTACH;FMTTYPE=image/png:https://sustain.auburn.edu/wp-content/uploads/2025/05/SPDS-Calendar-Event.png
GEO:38.7945952;-106.5348379
END:VEVENT
BEGIN:VEVENT
DTSTART;TZID=America/Chicago:20251107T120000
DTEND;TZID=America/Chicago:20251107T131500
DTSTAMP:20260424T175520
CREATED:20251008T221553Z
LAST-MODIFIED:20251008T222714Z
UID:10005225-1762516800-1762521300@sustain.auburn.edu
SUMMARY:College Teaching with the U.N. SDGS
DESCRIPTION:Join the Multi-Institutional Community of Practice\, with Auburn University’s Miriam Wyman\, for exciting examples from university instructors that will help you find ways to enhance your teaching with the U. N. Sustainable Development Goals (SDGs). Each of the speakers will provide a short presentation highlighting course examples. Then\, you can engage with them in small groups to gain further insights. This meeting is via Zoom. \nRegister today to receive a meeting invitation and Zoom link! \nRegister here. \nhttps://forms.office.com/r/zpZCNuX8aM
URL:https://sustain.auburn.edu/event/college-teaching-with-the-new-u-n-sdgs/
LOCATION:Virtual Event | Check Event Page for Link\, United States
CATEGORIES:Discussion,Faculty,Seminar,Staff,Talk,Web Based,Workshop
ATTACH;FMTTYPE=image/png:https://sustain.auburn.edu/wp-content/uploads/2016/01/SDGs.png
ORGANIZER;CN="Event Organizer | Regional Centre of Expertise of Education for Sustainable Development of Greater Atlanta":MAILTO:info@rcega.org
GEO:38.7945952;-106.5348379
END:VEVENT
BEGIN:VEVENT
DTSTART;TZID=America/Chicago:20251107T170000
DTEND;TZID=America/Chicago:20251107T193000
DTSTAMP:20260424T175520
CREATED:20250828T171450Z
LAST-MODIFIED:20250828T171450Z
UID:10005186-1762534800-1762543800@sustain.auburn.edu
SUMMARY:Taiwan Movie Night
DESCRIPTION:The Taiwan Center will be hosting a Taiwanese movie night at Foy Auditorium. There will be a Taiwanese film (w. Eng subtitles)\, and free drinks and food. Come by\, relax and watch a movie with us!
URL:https://sustain.auburn.edu/event/taiwan-movie-night/
LOCATION:Event Venue | Foy Hall – Room 208\, United States
CATEGORIES:Celebration,Evening,Film,On Campus,Staff,Students
ATTACH;FMTTYPE=image/png:https://sustain.auburn.edu/wp-content/uploads/2020/10/Auburn-International-Programs-Event-eYvKKh.tmp_.png
GEO:32.604839;-85.484783
END:VEVENT
END:VCALENDAR