BEGIN:VCALENDAR
VERSION:2.0
PRODID:-//Office of Sustainability - ECPv6.15.15//NONSGML v1.0//EN
CALSCALE:GREGORIAN
METHOD:PUBLISH
X-WR-CALNAME:Office of Sustainability
X-ORIGINAL-URL:https://sustain.auburn.edu
X-WR-CALDESC:Events for Office of Sustainability
REFRESH-INTERVAL;VALUE=DURATION:PT1H
X-Robots-Tag:noindex
X-PUBLISHED-TTL:PT1H
BEGIN:VTIMEZONE
TZID:America/Chicago
BEGIN:DAYLIGHT
TZOFFSETFROM:-0600
TZOFFSETTO:-0500
TZNAME:CDT
DTSTART:20240310T080000
END:DAYLIGHT
BEGIN:STANDARD
TZOFFSETFROM:-0500
TZOFFSETTO:-0600
TZNAME:CST
DTSTART:20241103T070000
END:STANDARD
BEGIN:DAYLIGHT
TZOFFSETFROM:-0600
TZOFFSETTO:-0500
TZNAME:CDT
DTSTART:20250309T080000
END:DAYLIGHT
BEGIN:STANDARD
TZOFFSETFROM:-0500
TZOFFSETTO:-0600
TZNAME:CST
DTSTART:20251102T070000
END:STANDARD
BEGIN:DAYLIGHT
TZOFFSETFROM:-0600
TZOFFSETTO:-0500
TZNAME:CDT
DTSTART:20260308T080000
END:DAYLIGHT
BEGIN:STANDARD
TZOFFSETFROM:-0500
TZOFFSETTO:-0600
TZNAME:CST
DTSTART:20261101T070000
END:STANDARD
END:VTIMEZONE
BEGIN:VEVENT
DTSTART;TZID=America/Chicago:20251002T170000
DTEND;TZID=America/Chicago:20251002T183000
DTSTAMP:20260424T094536
CREATED:20250904T190036Z
LAST-MODIFIED:20250904T190036Z
UID:10005200-1759424400-1759429800@sustain.auburn.edu
SUMMARY:Backpacking Basics
DESCRIPTION:Backpacking Basics is designed for those new to backpacking or experienced backpackers looking to level up their skills. \nIn this workshop\, you’ll get hands-on with gear\, learning what you need depending on your terrain and length of your hike\, and how to wear it to set yourself up for success when you head out. \n  \nCost: Free
URL:https://sustain.auburn.edu/event/backpacking-basics/
LOCATION:Event Venue | Auburn Outdoors\, United States
CATEGORIES:Evening,On Campus,Outing,Talk,Workshop
ATTACH;FMTTYPE=image/png:https://sustain.auburn.edu/wp-content/uploads/2020/10/Auburn-Outdoors-Events-1-Zpto0R.tmp_-e1769639735491.png
GEO:32.601335;-85.492816
END:VEVENT
END:VCALENDAR