BEGIN:VCALENDAR
VERSION:2.0
PRODID:-//Office of Sustainability - ECPv6.15.15//NONSGML v1.0//EN
CALSCALE:GREGORIAN
METHOD:PUBLISH
X-WR-CALNAME:Office of Sustainability
X-ORIGINAL-URL:https://sustain.auburn.edu
X-WR-CALDESC:Events for Office of Sustainability
REFRESH-INTERVAL;VALUE=DURATION:PT1H
X-Robots-Tag:noindex
X-PUBLISHED-TTL:PT1H
BEGIN:VTIMEZONE
TZID:America/Chicago
BEGIN:DAYLIGHT
TZOFFSETFROM:-0600
TZOFFSETTO:-0500
TZNAME:CDT
DTSTART:20240310T080000
END:DAYLIGHT
BEGIN:STANDARD
TZOFFSETFROM:-0500
TZOFFSETTO:-0600
TZNAME:CST
DTSTART:20241103T070000
END:STANDARD
BEGIN:DAYLIGHT
TZOFFSETFROM:-0600
TZOFFSETTO:-0500
TZNAME:CDT
DTSTART:20250309T080000
END:DAYLIGHT
BEGIN:STANDARD
TZOFFSETFROM:-0500
TZOFFSETTO:-0600
TZNAME:CST
DTSTART:20251102T070000
END:STANDARD
BEGIN:DAYLIGHT
TZOFFSETFROM:-0600
TZOFFSETTO:-0500
TZNAME:CDT
DTSTART:20260308T080000
END:DAYLIGHT
BEGIN:STANDARD
TZOFFSETFROM:-0500
TZOFFSETTO:-0600
TZNAME:CST
DTSTART:20261101T070000
END:STANDARD
END:VTIMEZONE
BEGIN:VEVENT
DTSTART;TZID=America/Chicago:20250501T000000
DTEND;TZID=America/Chicago:20250531T233000
DTSTAMP:20260419T075531
CREATED:20250501T151810Z
LAST-MODIFIED:20250501T152548Z
UID:10005105-1746057600-1748734200@sustain.auburn.edu
SUMMARY:Professional Development Sponsorship Program Application Period
DESCRIPTION:Auburn University non-student employees may submit an application for consideration for the Office of Sustainability’s Professional Development Sponsorship Program. The funds support learning opportunities related to sustainability and current job responsibilities\, and applications must be received by 11:59 p.m. Central on May 31\, 2025\, to be considered.
URL:https://sustain.auburn.edu/event/professional-development-sponsorship-program-application-period/
LOCATION:Virtual Event\, United States
CATEGORIES:Administration,All-Employees,Application-Deadline,Deadline,Faculty,Staff
ATTACH;FMTTYPE=image/png:https://sustain.auburn.edu/wp-content/uploads/2025/05/SPDS-Calendar-Event.png
GEO:38.7945952;-106.5348379
END:VEVENT
BEGIN:VEVENT
DTSTART;TZID=America/Chicago:20250508T083000
DTEND;TZID=America/Chicago:20250508T093000
DTSTAMP:20260419T075531
CREATED:20250331T171711Z
LAST-MODIFIED:20250331T171745Z
UID:10004962-1746693000-1746696600@sustain.auburn.edu
SUMMARY:Nature Walks
DESCRIPTION:Join Kreher guides for a peaceful morning walk as you take in the many sights and sounds of the Preserve.  Nature Walks offer excellent opportunities to socialize and learn while enjoying fresh air and exercise in our beautiful outdoors.\nNature Walks are for adults only and are offered on the second Thursday of each month from 8:30 – 9:30 a.m. Pre-registration is not required. Each month features a new seasonal theme. Groups meet at the pavilion.\nNature Walks are free – donations are welcomed. This event will be canceled in the event of rain.
URL:https://sustain.auburn.edu/event/nature-walks-2/2025-05-08/
LOCATION:Kreher Preserve & Nature Center\, United States
CATEGORIES:Anyone,Daytime,Outing
ATTACH;FMTTYPE=image/png:https://sustain.auburn.edu/wp-content/uploads/2016/12/Kreher-Preserve-Nature-Center-Events.png
GEO:32.658578;-85.485692
END:VEVENT
END:VCALENDAR