BEGIN:VCALENDAR
VERSION:2.0
PRODID:-//Office of Sustainability - ECPv6.15.15//NONSGML v1.0//EN
CALSCALE:GREGORIAN
METHOD:PUBLISH
X-WR-CALNAME:Office of Sustainability
X-ORIGINAL-URL:https://sustain.auburn.edu
X-WR-CALDESC:Events for Office of Sustainability
REFRESH-INTERVAL;VALUE=DURATION:PT1H
X-Robots-Tag:noindex
X-PUBLISHED-TTL:PT1H
BEGIN:VTIMEZONE
TZID:America/Chicago
BEGIN:DAYLIGHT
TZOFFSETFROM:-0600
TZOFFSETTO:-0500
TZNAME:CDT
DTSTART:20240310T080000
END:DAYLIGHT
BEGIN:STANDARD
TZOFFSETFROM:-0500
TZOFFSETTO:-0600
TZNAME:CST
DTSTART:20241103T070000
END:STANDARD
BEGIN:DAYLIGHT
TZOFFSETFROM:-0600
TZOFFSETTO:-0500
TZNAME:CDT
DTSTART:20250309T080000
END:DAYLIGHT
BEGIN:STANDARD
TZOFFSETFROM:-0500
TZOFFSETTO:-0600
TZNAME:CST
DTSTART:20251102T070000
END:STANDARD
BEGIN:DAYLIGHT
TZOFFSETFROM:-0600
TZOFFSETTO:-0500
TZNAME:CDT
DTSTART:20260308T080000
END:DAYLIGHT
BEGIN:STANDARD
TZOFFSETFROM:-0500
TZOFFSETTO:-0600
TZNAME:CST
DTSTART:20261101T070000
END:STANDARD
END:VTIMEZONE
BEGIN:VEVENT
DTSTART;TZID=America/Chicago:20250405T090000
DTEND;TZID=America/Chicago:20250405T103000
DTSTAMP:20260419T164944
CREATED:20250331T164458Z
LAST-MODIFIED:20250331T170711Z
UID:10004839-1743843600-1743849000@sustain.auburn.edu
SUMMARY:OGrows Farmers Market
DESCRIPTION:Opelika Grows\, or O Grows\, promotes gardening and related programming to address the issues of food security and localized food systems while providing fresh food for the community. Opelika’s local farmers market\, located across the street from the Cultural Arts Center on Glenn Street near the community garden\, is a place for visitors to find fresh\, local produce and maybe even goodies like fresh bread\, homemade ice cream\, or local honey! \n 
URL:https://sustain.auburn.edu/event/ogrows-farmers-market/2025-04-05/
LOCATION:Community Garden\, 1103 Glenn Street\, Opelika\, AL\, 36801\, United States
CATEGORIES:Anyone,Daytime,Market,Off-Campus
ORGANIZER;CN="OGrows":MAILTO:ogrows@auburn.edu
GEO:32.6419744;-85.3734094
X-APPLE-STRUCTURED-LOCATION;VALUE=URI;X-ADDRESS=Community Garden 1103 Glenn Street Opelika AL 36801 United States;X-APPLE-RADIUS=500;X-TITLE=1103 Glenn Street:geo:-85.3734094,32.6419744
END:VEVENT
BEGIN:VEVENT
DTSTART;TZID=America/Chicago:20250405T103000
DTEND;TZID=America/Chicago:20250405T180000
DTSTAMP:20260419T164944
CREATED:20250317T190130Z
LAST-MODIFIED:20250317T190130Z
UID:10004807-1743849000-1743876000@sustain.auburn.edu
SUMMARY:Global Community Day Festival
DESCRIPTION:The Global Community Day Festival is a day for uniting international and domestic communities to foster a shared exploration of global culture\, history\, and other related opportunities. OG believes that bringing communities together to experience diverse perceptives will enhance awareness and critical thinking about social issues such as cultural differences\, customs\, traditions\, religion\, politics and the world economy. This festival will include an international fair\, business and trade opportunities\, food and drink tastings\, a fashion exhibition\, and several international vendors. For more information click here to visit Auburn University’s Outreach website. \nFestival\, Global\, Global Community Day Festival\, Community\, International\, Outreach\, International Student Organization\, Food\, Drinks\, Vendors
URL:https://sustain.auburn.edu/event/global-community-day-festival/
LOCATION:Cater Lawn\, Auburn University
CATEGORIES:Anyone,Daytime,Evening,Market,On-Campus,Staff,Students
ATTACH;FMTTYPE=image/png:https://sustain.auburn.edu/wp-content/uploads/2023/04/Outreach-Event.png
GEO:32.5933574;-85.4951663
END:VEVENT
END:VCALENDAR