BEGIN:VCALENDAR
VERSION:2.0
PRODID:-//Office of Sustainability - ECPv6.15.15//NONSGML v1.0//EN
CALSCALE:GREGORIAN
METHOD:PUBLISH
X-WR-CALNAME:Office of Sustainability
X-ORIGINAL-URL:https://sustain.auburn.edu
X-WR-CALDESC:Events for Office of Sustainability
REFRESH-INTERVAL;VALUE=DURATION:PT1H
X-Robots-Tag:noindex
X-PUBLISHED-TTL:PT1H
BEGIN:VTIMEZONE
TZID:America/Chicago
BEGIN:DAYLIGHT
TZOFFSETFROM:-0600
TZOFFSETTO:-0500
TZNAME:CDT
DTSTART:20240310T080000
END:DAYLIGHT
BEGIN:STANDARD
TZOFFSETFROM:-0500
TZOFFSETTO:-0600
TZNAME:CST
DTSTART:20241103T070000
END:STANDARD
BEGIN:DAYLIGHT
TZOFFSETFROM:-0600
TZOFFSETTO:-0500
TZNAME:CDT
DTSTART:20250309T080000
END:DAYLIGHT
BEGIN:STANDARD
TZOFFSETFROM:-0500
TZOFFSETTO:-0600
TZNAME:CST
DTSTART:20251102T070000
END:STANDARD
BEGIN:DAYLIGHT
TZOFFSETFROM:-0600
TZOFFSETTO:-0500
TZNAME:CDT
DTSTART:20260308T080000
END:DAYLIGHT
BEGIN:STANDARD
TZOFFSETFROM:-0500
TZOFFSETTO:-0600
TZNAME:CST
DTSTART:20261101T070000
END:STANDARD
END:VTIMEZONE
BEGIN:VEVENT
DTSTART;TZID=America/Chicago:20250201T100000
DTEND;TZID=America/Chicago:20250201T120000
DTSTAMP:20260424T211256
CREATED:20250121T181925Z
LAST-MODIFIED:20250121T181925Z
UID:10004772-1738404000-1738411200@sustain.auburn.edu
SUMMARY:"Betsey Scott Harper: The Story of an Auburn First Family" at Pebble Hill
DESCRIPTION:Join Caroline Marshall Draughon Center for the Arts & Humanities to celebrate the publication of children’s book Betsey Scott Harper: The Story of an Auburn First Family with author Dr. Terrance Vickerstaff and other Harper descendants at Pebble Hill. \n Betsey Scott Harper was enslaved to Nathaniel J. Scott\, a founder of Auburn\, and together with husband Major Harper\, began a family legacy that remains today.  The event will feature stories related to their family history\, as well as other important examples of local African American history.  \n The event is free and attendees who pre-register at this link will receive a complimentary copy of the book. To learn more about the story of Major Harper and Betsey Scott’s story\, visit this link for Auburn University’s College of Liberal Arts.
URL:https://sustain.auburn.edu/event/betsey-scott-harper-the-story-of-an-auburn-first-family-at-pebble-hill/
LOCATION:Event Venue | Pebble Hill – College of Liberal Arts\, United States
CATEGORIES:Anyone,Daytime,On Campus,Talk
ATTACH;FMTTYPE=image/png:https://sustain.auburn.edu/wp-content/uploads/2020/10/Draughon-Center-for-the-Arts-Humanities-Events-q28x3J.tmp_.png
GEO:32.606519;-85.47234
END:VEVENT
END:VCALENDAR