BEGIN:VCALENDAR
VERSION:2.0
PRODID:-//Office of Sustainability - ECPv6.15.15//NONSGML v1.0//EN
CALSCALE:GREGORIAN
METHOD:PUBLISH
X-ORIGINAL-URL:https://sustain.auburn.edu
X-WR-CALDESC:Events for Office of Sustainability
REFRESH-INTERVAL;VALUE=DURATION:PT1H
X-Robots-Tag:noindex
X-PUBLISHED-TTL:PT1H
BEGIN:VTIMEZONE
TZID:America/Chicago
BEGIN:DAYLIGHT
TZOFFSETFROM:-0600
TZOFFSETTO:-0500
TZNAME:CDT
DTSTART:20230312T080000
END:DAYLIGHT
BEGIN:STANDARD
TZOFFSETFROM:-0500
TZOFFSETTO:-0600
TZNAME:CST
DTSTART:20231105T070000
END:STANDARD
BEGIN:DAYLIGHT
TZOFFSETFROM:-0600
TZOFFSETTO:-0500
TZNAME:CDT
DTSTART:20240310T080000
END:DAYLIGHT
BEGIN:STANDARD
TZOFFSETFROM:-0500
TZOFFSETTO:-0600
TZNAME:CST
DTSTART:20241103T070000
END:STANDARD
BEGIN:DAYLIGHT
TZOFFSETFROM:-0600
TZOFFSETTO:-0500
TZNAME:CDT
DTSTART:20250309T080000
END:DAYLIGHT
BEGIN:STANDARD
TZOFFSETFROM:-0500
TZOFFSETTO:-0600
TZNAME:CST
DTSTART:20251102T070000
END:STANDARD
END:VTIMEZONE
BEGIN:VEVENT
DTSTART;TZID=America/Chicago:20241115T100000
DTEND;TZID=America/Chicago:20241115T100000
DTSTAMP:20260420T170609
CREATED:20240919T172252Z
LAST-MODIFIED:20240919T172422Z
UID:10004742-1731664800-1731664800@sustain.auburn.edu
SUMMARY:Building AI for Humanity: Emory's Approach to AI
DESCRIPTION:Building AI for Humanity: Emory’s Approach to AI presented by: \nJoe Sutherland\, Director\, Center for AI Learning\, Emory University \nSutherland will discuss Emory’s approach to building AI capability through the AI. Humanity initiative and the Center for AI Learning\, and offer lessons learned from the perspectives of our faculty\, student\, and staff who participate in our research\, curricular\, co-curricular\, and community service programs. \nThis lecture is apart of a series being hosted by Auburn University’s official artificial intelligence initiative. The series offer attendees a valuable chance to learn about the latest developments\, ethical issues\, and societal effects of AI. Participants will deepen their knowledge of this transformative field while engaging in discussions that could influence AI’s future direction. \nForums are open to the public – in person in Lowder 111 and via Zoom (https://auburn.zoom.us/j/81706339239). To view additional lectures in the series visit the announcement on the College of Engineering website. 
URL:https://sustain.auburn.edu/event/building-ai-for-humanity-emorys-approach-to-ai/
LOCATION:Lowder Hall – Room 111\, 405 W. Magnolia Avenue\, Auburn\, AL\, 36849\, United States
CATEGORIES:Administration,All-Employees,Daytime,Discussion,Faculty,Graduate-Students,On-Campus,Seminar,Staff,Students,Talk
ATTACH;FMTTYPE=image/png:https://sustain.auburn.edu/wp-content/uploads/2024/09/Auburn-College-of-Engineering-Logo-event.png
GEO:32.6058309;-85.4890136
X-APPLE-STRUCTURED-LOCATION;VALUE=URI;X-ADDRESS=Lowder Hall – Room 111 405 W. Magnolia Avenue Auburn AL 36849 United States;X-APPLE-RADIUS=500;X-TITLE=405 W. Magnolia Avenue:geo:-85.4890136,32.6058309
END:VEVENT
BEGIN:VEVENT
DTSTART;TZID=America/Chicago:20241115T110000
DTEND;TZID=America/Chicago:20241115T140000
DTSTAMP:20260420T170609
CREATED:20240718T142733Z
LAST-MODIFIED:20240820T193622Z
UID:10004679-1731668400-1731679200@sustain.auburn.edu
SUMMARY:Mobile Bike Shop
DESCRIPTION:No registration required. Don’t have time to stop by the Auburn Outdoors bike shop at The Rec? Don’t worry – trained and experienced Bike Techs are on campus to provide repairs\, maintenance\, and tune-ups on your way to class. Follow @auburnrecwellness on Instagram to see where they will be each month or view our calendar!
URL:https://sustain.auburn.edu/event/mobile-bike-shop-2/
LOCATION:Cater Lawn\, Auburn University
CATEGORIES:Anyone
GEO:32.5933574;-85.4951663
END:VEVENT
END:VCALENDAR