BEGIN:VCALENDAR
VERSION:2.0
PRODID:-//Office of Sustainability - ECPv6.15.15//NONSGML v1.0//EN
CALSCALE:GREGORIAN
METHOD:PUBLISH
X-ORIGINAL-URL:https://sustain.auburn.edu
X-WR-CALDESC:Events for Office of Sustainability
REFRESH-INTERVAL;VALUE=DURATION:PT1H
X-Robots-Tag:noindex
X-PUBLISHED-TTL:PT1H
BEGIN:VTIMEZONE
TZID:America/Chicago
BEGIN:DAYLIGHT
TZOFFSETFROM:-0600
TZOFFSETTO:-0500
TZNAME:CDT
DTSTART:20230312T080000
END:DAYLIGHT
BEGIN:STANDARD
TZOFFSETFROM:-0500
TZOFFSETTO:-0600
TZNAME:CST
DTSTART:20231105T070000
END:STANDARD
BEGIN:DAYLIGHT
TZOFFSETFROM:-0600
TZOFFSETTO:-0500
TZNAME:CDT
DTSTART:20240310T080000
END:DAYLIGHT
BEGIN:STANDARD
TZOFFSETFROM:-0500
TZOFFSETTO:-0600
TZNAME:CST
DTSTART:20241103T070000
END:STANDARD
BEGIN:DAYLIGHT
TZOFFSETFROM:-0600
TZOFFSETTO:-0500
TZNAME:CDT
DTSTART:20250309T080000
END:DAYLIGHT
BEGIN:STANDARD
TZOFFSETFROM:-0500
TZOFFSETTO:-0600
TZNAME:CST
DTSTART:20251102T070000
END:STANDARD
END:VTIMEZONE
BEGIN:VEVENT
DTSTART;TZID=America/Chicago:20240915T100000
DTEND;TZID=America/Chicago:20240915T150000
DTSTAMP:20260421T020314
CREATED:20240912T174307Z
LAST-MODIFIED:20240912T174307Z
UID:10004683-1726394400-1726412400@sustain.auburn.edu
SUMMARY:Look & Learn: GPAC
DESCRIPTION:The Jay and Susie Gogue Performing Arts Center presents\, “Look & Learn”: \n\nEnjoy behind-the-scenes tours\nGet to know their upcoming season\nLearn more about their two new venues\nThey will have tasty treats from Staks and information about K-12\, Family\, Campus\, and Community programming\nFree & Open to all\nDrop-in anytime between 10 am – 3pm\,
URL:https://sustain.auburn.edu/event/look-learn-gpac/
LOCATION:The Jay and Susie Gogue Performing Arts Center\, 910 S College St\, Auburn\, AL\, 36830\, United States
CATEGORIES:Anyone,Daytime,Gathering,On-Campus,Social-Event,Tour
ATTACH;FMTTYPE=image/png:https://sustain.auburn.edu/wp-content/uploads/2020/10/Gogue-Preforming-Arts-Center-Event.png
ORGANIZER;CN="Gogue Performing Arts Center":MAILTO:gpac@auburn.edu
GEO:32.5885412;-85.4849784
X-APPLE-STRUCTURED-LOCATION;VALUE=URI;X-ADDRESS=The Jay and Susie Gogue Performing Arts Center 910 S College St Auburn AL 36830 United States;X-APPLE-RADIUS=500;X-TITLE=910 S College St:geo:-85.4849784,32.5885412
END:VEVENT
END:VCALENDAR