BEGIN:VCALENDAR
VERSION:2.0
PRODID:-//Office of Sustainability - ECPv6.15.15//NONSGML v1.0//EN
CALSCALE:GREGORIAN
METHOD:PUBLISH
X-ORIGINAL-URL:https://sustain.auburn.edu
X-WR-CALDESC:Events for Office of Sustainability
REFRESH-INTERVAL;VALUE=DURATION:PT1H
X-Robots-Tag:noindex
X-PUBLISHED-TTL:PT1H
BEGIN:VTIMEZONE
TZID:America/Chicago
BEGIN:DAYLIGHT
TZOFFSETFROM:-0600
TZOFFSETTO:-0500
TZNAME:CDT
DTSTART:20230312T080000
END:DAYLIGHT
BEGIN:STANDARD
TZOFFSETFROM:-0500
TZOFFSETTO:-0600
TZNAME:CST
DTSTART:20231105T070000
END:STANDARD
BEGIN:DAYLIGHT
TZOFFSETFROM:-0600
TZOFFSETTO:-0500
TZNAME:CDT
DTSTART:20240310T080000
END:DAYLIGHT
BEGIN:STANDARD
TZOFFSETFROM:-0500
TZOFFSETTO:-0600
TZNAME:CST
DTSTART:20241103T070000
END:STANDARD
BEGIN:DAYLIGHT
TZOFFSETFROM:-0600
TZOFFSETTO:-0500
TZNAME:CDT
DTSTART:20250309T080000
END:DAYLIGHT
BEGIN:STANDARD
TZOFFSETFROM:-0500
TZOFFSETTO:-0600
TZNAME:CST
DTSTART:20251102T070000
END:STANDARD
END:VTIMEZONE
BEGIN:VEVENT
DTSTART;TZID=America/Chicago:20240828T163000
DTEND;TZID=America/Chicago:20240828T183000
DTSTAMP:20260422T103226
CREATED:20240417T141958Z
LAST-MODIFIED:20240823T144540Z
UID:10004519-1724862600-1724869800@sustain.auburn.edu
SUMMARY:Sustainability Picnic
DESCRIPTION:Discover the breadth of sustainability at Auburn while you enjoy free local vegetarian food samples\, fun\, door prizes\, and music at this zero-waste event! Connect with student groups\, programs\, and opportunities that make a difference.   \nThe Sustainability Picnic will be held Wednesday\, August 28th from 4:30 – 6:30 PM at the south end of the Donald E. Davis Arboretum near the Old Rotation. The weather date is September 4th at the same time and place. \nIf you would like to volunteer to help at this event\, please register via GivePulse! Registrations will open May 1! \nIf you are interested in your organization or group tabling at the picnic\, please email sustain@auburn.edu to share your information and learn more!  \nThe Sustainability Picnic is co-sponsored by the Office of Sustainability\, Tiger Dining\, the Arboretum\, the Waste Reduction and Recycling Department\, Academic Sustainability Programs\, the College of Forestry\, Wildlife and Environment\, and the Master of Community Planning.
URL:https://sustain.auburn.edu/event/sustainability-picnic-5/
LOCATION:Donald E. Davis Arboretum
CATEGORIES:Anyone,Evening,Gathering,On-Campus,Social-Event,Volunteer
ATTACH;FMTTYPE=image/png:https://sustain.auburn.edu/wp-content/uploads/2022/05/Sustainability-Picnic-Calendar-Event-.png
GEO:32.593754;-85.484464
END:VEVENT
END:VCALENDAR