BEGIN:VCALENDAR
VERSION:2.0
PRODID:-//Office of Sustainability - ECPv6.15.15//NONSGML v1.0//EN
CALSCALE:GREGORIAN
METHOD:PUBLISH
X-ORIGINAL-URL:https://sustain.auburn.edu
X-WR-CALDESC:Events for Office of Sustainability
REFRESH-INTERVAL;VALUE=DURATION:PT1H
X-Robots-Tag:noindex
X-PUBLISHED-TTL:PT1H
BEGIN:VTIMEZONE
TZID:America/Chicago
BEGIN:DAYLIGHT
TZOFFSETFROM:-0600
TZOFFSETTO:-0500
TZNAME:CDT
DTSTART:20220313T080000
END:DAYLIGHT
BEGIN:STANDARD
TZOFFSETFROM:-0500
TZOFFSETTO:-0600
TZNAME:CST
DTSTART:20221106T070000
END:STANDARD
BEGIN:DAYLIGHT
TZOFFSETFROM:-0600
TZOFFSETTO:-0500
TZNAME:CDT
DTSTART:20230312T080000
END:DAYLIGHT
BEGIN:STANDARD
TZOFFSETFROM:-0500
TZOFFSETTO:-0600
TZNAME:CST
DTSTART:20231105T070000
END:STANDARD
BEGIN:DAYLIGHT
TZOFFSETFROM:-0600
TZOFFSETTO:-0500
TZNAME:CDT
DTSTART:20240310T080000
END:DAYLIGHT
BEGIN:STANDARD
TZOFFSETFROM:-0500
TZOFFSETTO:-0600
TZNAME:CST
DTSTART:20241103T070000
END:STANDARD
END:VTIMEZONE
BEGIN:VEVENT
DTSTART;TZID=America/Chicago:20231024T120000
DTEND;TZID=America/Chicago:20231024T125000
DTSTAMP:20260420T172033
CREATED:20230831T195240Z
LAST-MODIFIED:20230911T154749Z
UID:10004059-1698148800-1698151800@sustain.auburn.edu
SUMMARY:Taiwan Center Calligraphy Class
DESCRIPTION:Join the Taiwan Center for a culture class to learn about calligraphy! Registration is due by October 20\, 2023\, and the class is limited to 10 people. The class will be in Room 209 in Foy Hall. \nREGISTRATION REQUIRED
URL:https://sustain.auburn.edu/event/taiwan-center-calligraphy-class/
LOCATION:Foy Hall\, 282 W Thach Concourse\, Auburn\, 36849
CATEGORIES:All-Employees,Daytime,Graduate-Students,On-Campus,Students
GEO:32.6047986968;-85.4851625035
X-APPLE-STRUCTURED-LOCATION;VALUE=URI;X-ADDRESS=Foy Hall 282 W Thach Concourse Auburn 36849;X-APPLE-RADIUS=500;X-TITLE=282 W Thach Concourse:geo:-85.4851625035,32.6047986968
END:VEVENT
END:VCALENDAR